BEGIN:VCALENDAR
VERSION:2.0
PRODID:-//Hardloopevenementen - ECPv6.15.14//NONSGML v1.0//EN
CALSCALE:GREGORIAN
METHOD:PUBLISH
X-ORIGINAL-URL:https://hardloopevenementen.com
X-WR-CALDESC:Evenementen voor Hardloopevenementen
REFRESH-INTERVAL;VALUE=DURATION:PT1H
X-Robots-Tag:noindex
X-PUBLISHED-TTL:PT1H
BEGIN:VTIMEZONE
TZID:UTC
BEGIN:STANDARD
TZOFFSETFROM:+0000
TZOFFSETTO:+0000
TZNAME:UTC
DTSTART:20150101T000000
END:STANDARD
END:VTIMEZONE
BEGIN:VEVENT
DTSTART;VALUE=DATE:20170226
DTEND;VALUE=DATE:20170227
DTSTAMP:20260420T125856
CREATED:20090907T053619Z
LAST-MODIFIED:20190423T114805Z
UID:15197-1488067200-1488067200@hardloopevenementen.com
SUMMARY:Trainrun trailrun Dalfsen Zwolle (OV)
DESCRIPTION:Doe mee met het hardloopevenement Trainrun trailrun Dalfsen te Zwolle (OV) op zo 26 feb 2017. De volgende afstanden staan op het programma: 20 km hardlopen. Wilt u inschrijven voor dit loopevenement?  Raadpleeg hiervoor dan de website van de organisatie\nDe uitslagen van deze hardloopwedstrijd zijn te raadplegen via dezelfde website of via de bekende websites zoals uitslagen.nl\, runtimer en mylaps. Doet u mee met dit evenement\, zorg dan dat u goed voorbereid aan de start staat! Met een goed trainingsschema komt u een heel eind. Train bijvoorbeeld met start to run van Evy Gruyaert. Download de start to run mp3 bestanden en zet ze op uw telefoon. Oortjes in\, hit the play button en en rennen maar! \n\n\n\n\nMeer informatie over Trainrun trailrun Dalfsen op Hardloopkalender.nl  \nTrainrun trailrun Zwolle Dalfsen  26 februari 2017    Trainrun trailrun Zwolle Dalfsen\, van station Dalfsen naar station Zwolle hardlopen. Zondag 26 februari 2017 kun je hardlopen langs De Vecht\, een fraaie rivier in Overijssel. We lopen in een groep speciaal voor (halve) marathonlopers. Langs de Vecht loopt een auto luwe dijk met geweldige uitzichten. Slechts 10 minuten treinreizen vanaf Zwolle en de station loop Dalfsen kun je meedoen. De loop start in Dalfsen om 09.30u zodra de trein vanaf Zwolle(vertrek 09.21u) in Dalfsen 09.29 is aangekomen. We wachten sowieso op deze trein. Je legt in totaal zon 10 EM (Engelse Mijl) af. Beslist een aanrader voor de hardloopliefhebbers die de omgeving van Zwolle verder willen verkennen! Doordat we in een groep lopen is het van belang dat je rekening houd met je hardloopmaatjes. Snelheid indicatie voor deelnemers: de halve marathon ruim binnen de 2 uur kunnen afleggen        Presteren en gezellig hardlopen voor iedereen      Je neemt de trein van Zwolle naar Dalfsen om 09.20 uur vanaf spoor 15      We rennen van Dalfsen langs de Vecht terug naar Zwolle      Tijdens de loop zul je even de mooie binnenstad van Zwolle ook zien      De trainingslopen zijn bij uitstek geschikt voor (halve) marathonlopers      Loop je de halve marathon binnen 2 uur dan kun je prima meedoen.      Kijk op www.ov9292.nl voor de treinreis!      Door gebruik te maken van het treinvervoer kun je gemakkelijk bij de start en finishplaats komen.      Voor de deelnemers is er in Zwolle koffie!      Inschrijven kan ook met een e-mail aan info@trailrunning-veluwe.nl \n  \n  \n 
URL:https://hardloopevenementen.com/loopagenda/trainrun-trailrun-dalfsen-zwolle-ov/
END:VEVENT
BEGIN:VEVENT
DTSTART;VALUE=DATE:20170129
DTEND;VALUE=DATE:20170130
DTSTAMP:20260420T125856
CREATED:20160921T105259Z
LAST-MODIFIED:20190423T114838Z
UID:15340-1485648000-1485648000@hardloopevenementen.com
SUMMARY:Trainrun trailrun Wezep Zwolle (OV)
DESCRIPTION:Doe mee met het hardloopevenement Trainrun trailrun Wezep te Zwolle (OV) op zo 29 jan 2017. De volgende afstanden staan op het programma: 10 Engelse mijl – 20 km – halve marathon hardlopen. Wilt u inschrijven voor dit loopevenement?  Raadpleeg hiervoor dan de website van de organisatie\nDe uitslagen van deze hardloopwedstrijd zijn te raadplegen via dezelfde website of via de bekende websites zoals uitslagen.nl\, runtimer en mylaps. Doet u mee met dit evenement\, zorg dan dat u goed voorbereid aan de start staat! Met een goed trainingsschema komt u een heel eind. Train bijvoorbeeld met start to run van Evy Gruyaert. Download de start to run mp3 bestanden en zet ze op uw telefoon. Oortjes in\, hit the play button en en rennen maar! \n\n\n\n\nMeer informatie over Trainrun trailrun Wezep op Hardloopkalender.nl  \nTrainrun trailrun Wezep  Zwolle  29 januari 2017    Op 29 januari 2017 is er weer de Trainrun trailrun Wezep: mooie station loop van Wezep naar Zwolle. We lopen via de Wezepse heide en de uiterwaarden van de IJssel bij Hattem naar Zwolle. Het is een erg mooie route om 2017 goed te starten. De Station loop van station Wezep naar Zwolle start om 09.30 uur. Snelheid indicatie voor deelnemers: de halve marathon ruim binnen de 2 uur kunnen afleggen    Route  De Hardlooproute gaat over de Wezepse heide en via Hattem naar Zwolle. Doordat we in een groep lopen is het van belang dat je rekening houd met je hardloopmaatjes. De loop is ca 17 of 19 kilometer  (1 uur en 45 minuten). Treintijden zie je hier: www.ov9292.nl. Door gebruik te maken van het treinvervoer kun je gemakkelijk bij de start en finishplaats komen. Voor de deelnemers is er in Zwolle koffie!  Zodra de trein uit Zwolle om 09.30 in Wezep aankomt start de loop (dus deze trein kun je nemen\, daar wachten we op) \n  \n  \n 
URL:https://hardloopevenementen.com/loopagenda/trainrun-trailrun-wezep-zwolle-ov/
END:VEVENT
BEGIN:VEVENT
DTSTART;VALUE=DATE:20160228
DTEND;VALUE=DATE:20160229
DTSTAMP:20260420T125856
CREATED:20170810T213858Z
LAST-MODIFIED:20190423T112702Z
UID:13228-1456617600-1456617600@hardloopevenementen.com
SUMMARY:Trainrun Zwolle Zwolle (OV)
DESCRIPTION:Doe mee met het hardloopevenement Trainrun Zwolle te Zwolle (OV) op zo 28 feb 2016. De volgende afstanden staan op het programma: 18 km – halve marathon hardlopen. Wilt u inschrijven voor dit loopevenement?  Raadpleeg hiervoor dan de website van de organisatie\nDe uitslagen van deze hardloopwedstrijd zijn te raadplegen via dezelfde website of via de bekende websites zoals uitslagen.nl\, runtimer en mylaps. Doet u mee met dit evenement\, zorg dan dat u goed voorbereid aan de start staat! Met een goed trainingsschema komt u een heel eind. Train bijvoorbeeld met start to run van Evy Gruyaert. Download de start to run mp3 bestanden en zet ze op uw telefoon. Oortjes in\, hit the play button en en rennen maar! \n\n\n\n\nMeer informatie over Trainrun Zwolle op Hardloopkalender.nl  \nTrainrun Zwolle\, van station Dalfsen naar station Zwolle hardlopen. Zondag 28 februari 2016 kun je hardlopen langs De Vecht\, een fraaie rivier in Overijssel. We lopen in een groep speciaal voor (halve) marathonlopers. Langs de Vecht loopt een auto luwe dijk met geweldige uitzichten. Slechts 10 minuten treinreizen vanaf Zwolle en de station loop Dalfsen kun je meedoen. De loop start in Dalfsen om 09.30u zodra de trein vanaf Zwolle(09.20u) in Dalfsen is aangekomen. Je legt in totaal zon 10 EM (Engelse Mijl) af. Beslist een aanrader voor de hardloopliefhebbers die de omgeving van Zwolle verder willen verkennen! Doordat we in een groep lopen is het van belang dat je rekening houd met je hardloopmaatjes. Snelheid indicatie voor deelnemers: de halve marathon ruim binnen de 2 uur kunnen afleggen \n  \n  \n 
URL:https://hardloopevenementen.com/loopagenda/trainrun-zwolle-zwolle-ov/
END:VEVENT
BEGIN:VEVENT
DTSTART;VALUE=DATE:20160131
DTEND;VALUE=DATE:20160201
DTSTAMP:20260420T125856
CREATED:20180531T001401Z
LAST-MODIFIED:20190423T112726Z
UID:13333-1454198400-1454198400@hardloopevenementen.com
SUMMARY:Trainrun Wezep-Zwolle Wezep\, gemeente Oldebroek (GE)
DESCRIPTION:Doe mee met het hardloopevenement Trainrun Wezep-Zwolle te Wezep\, gemeente Oldebroek (GE) op zo 31 jan 2016. De volgende afstanden staan op het programma: 18 km – halve marathon hardlopen. Wilt u inschrijven voor dit loopevenement?  Raadpleeg hiervoor dan de website van de organisatie\nDe uitslagen van deze hardloopwedstrijd zijn te raadplegen via dezelfde website of via de bekende websites zoals uitslagen.nl\, runtimer en mylaps. Doet u mee met dit evenement\, zorg dan dat u goed voorbereid aan de start staat! Met een goed trainingsschema komt u een heel eind. Train bijvoorbeeld met start to run van Evy Gruyaert. Download de start to run mp3 bestanden en zet ze op uw telefoon. Oortjes in\, hit the play button en en rennen maar! \n\n\n\n\nMeer informatie over Trainrun Wezep-Zwolle op Hardloopkalender.nl  \nOp 31 januari is er weer de trainrun Wezep: mooie station loop van Wezep naar Zwolle. We lopen via de Wezepse heide en de uiterwaarden van de IJssel bij Hattem naar Zwolle. Het is een erg mooie route om 2016 goed te starten. De Station loop van station Wezep naar Zwolle start om 09.30 uur. Snelheid indicatie voor deelnemers: de halve marathon ruim binnen de 2 uur kunnen afleggen \n  \n  \n 
URL:https://hardloopevenementen.com/loopagenda/trainrun-wezep-zwolle-wezep-gemeente-oldebroek-ge/
END:VEVENT
END:VCALENDAR