BEGIN:VCALENDAR
VERSION:2.0
PRODID:-//Hardloopevenementen - ECPv6.15.14//NONSGML v1.0//EN
CALSCALE:GREGORIAN
METHOD:PUBLISH
X-WR-CALNAME:Hardloopevenementen
X-ORIGINAL-URL:https://hardloopevenementen.com
X-WR-CALDESC:Evenementen voor Hardloopevenementen
REFRESH-INTERVAL;VALUE=DURATION:PT1H
X-Robots-Tag:noindex
X-PUBLISHED-TTL:PT1H
BEGIN:VTIMEZONE
TZID:UTC
BEGIN:STANDARD
TZOFFSETFROM:+0000
TZOFFSETTO:+0000
TZNAME:UTC
DTSTART:20150101T000000
END:STANDARD
END:VTIMEZONE
BEGIN:VEVENT
DTSTART;VALUE=DATE:20190707
DTEND;VALUE=DATE:20190708
DTSTAMP:20260423T042555
CREATED:20101129T092722Z
LAST-MODIFIED:20191114T112535Z
UID:141692-1562457600-1562457600@hardloopevenementen.com
SUMMARY:ABC Trappen-Beach run Hargen aan Sail Hargen\, gemeente Bergen (NH)
DESCRIPTION:Doe mee met het hardloopevenement ABC Trappen-Beach run Hargen aan Sail te Hargen\, gemeente Bergen (NH) op zo 07 jul 2019. De volgende afstanden staan op het programma: 5 km – 10 km hardlopen. Wilt u inschrijven voor dit loopevenement?  Raadpleeg hiervoor dan de website van de organisatie\nDe uitslagen van deze hardloopwedstrijd zijn te raadplegen via dezelfde website of via de bekende websites zoals uitslagen.nl\, runtimer en mylaps. Doet u mee met dit evenement\, zorg dan dat u goed voorbereid aan de start staat! Met een goed trainingsschema komt u een heel eind. Train bijvoorbeeld met start to run van Evy Gruyaert. Download de start to run mp3 bestanden en zet ze op uw telefoon. Oortjes in\, hit the play button en en rennen maar! \n\n\n\n\nMeer informatie over ABC Trappen-Beach run Hargen aan Sail op Hardloopkalender.nl  \nABC Trappen Beachrun tijdens Hargen aan Sail 2019.    Zondag 7 juli om 15.00    Een spectaculaire hardloopwedstrijd rondom de feesttent op het strand. Een ware challenge met aantal obstakels onderweg maakt deze wedstrijd een prachtige uitdaging.  Verdere info op www.hargenaansail.nl \n  \n  \n 
URL:https://hardloopevenementen.com/loopagenda/abc-trappen-beach-run-hargen-aan-sail-hargen-gemeente-bergen-nh/
END:VEVENT
BEGIN:VEVENT
DTSTART;VALUE=DATE:20180707
DTEND;VALUE=DATE:20180708
DTSTAMP:20260423T042555
CREATED:20151218T061616Z
LAST-MODIFIED:20190423T120352Z
UID:16283-1530921600-1530921600@hardloopevenementen.com
SUMMARY:ABC Trappen-Beach run Hargen aan Sail Schoorl\, gemeente Bergen (NH)
DESCRIPTION:Doe mee met het hardloopevenement ABC Trappen-Beach run Hargen aan Sail te Schoorl\, gemeente Bergen (NH) op za 07 jul 2018. De volgende afstanden staan op het programma: 5 km – 10 km hardlopen. Wilt u inschrijven voor dit loopevenement?  Raadpleeg hiervoor dan de website van de organisatie\nDe uitslagen van deze hardloopwedstrijd zijn te raadplegen via dezelfde website of via de bekende websites zoals uitslagen.nl\, runtimer en mylaps. Doet u mee met dit evenement\, zorg dan dat u goed voorbereid aan de start staat! Met een goed trainingsschema komt u een heel eind. Train bijvoorbeeld met start to run van Evy Gruyaert. Download de start to run mp3 bestanden en zet ze op uw telefoon. Oortjes in\, hit the play button en en rennen maar! \n\n\n\n\nMeer informatie over ABC Trappen-Beach run Hargen aan Sail op Hardloopkalender.nl  \nZaterdag 7 juli om 15.00 uur  De Hargen Sail Beachrun is een spectaculaire hardloopwedstrijd van 5 en 10 kilometer op het strand van Hargen. Na een spetterende start in de feesttent van Hargen Sail (op het strand) rennen de deelnemers ronden van 1 kilometer rondom de feesttent. Onderweg treffen zij verschillende obstakels; een must see voor het publiek!  De Hargen Sail Beachrun is een ware challenge zonder tijdwaarneming. Samen de finish halen\, grenzen verleggen\, een onwaarschijnlijke prestatie neerzetten; dat is de uitdaging! Het parcours bevat obstakels als the Tyre course\, Beat the hurdle en Tigertrack. Bij de eindstreep word je getrakteerd op een welverdiende\, verkoelende finishconsumptie op het festivalterrein. \n  \n  \n 
URL:https://hardloopevenementen.com/loopagenda/abc-trappen-beach-run-hargen-aan-sail-schoorl-gemeente-bergen-nh/
END:VEVENT
BEGIN:VEVENT
DTSTART;VALUE=DATE:20161001
DTEND;VALUE=DATE:20161002
DTSTAMP:20260423T042555
CREATED:20070203T104518Z
LAST-MODIFIED:20190423T112151Z
UID:11852-1475280000-1475280000@hardloopevenementen.com
SUMMARY:Wilhelminaberg Trappen Marathon Landgraaf (LI)
DESCRIPTION:Doe mee met het hardloopevenement Wilhelminaberg Trappen Marathon te Landgraaf (LI) op za 01 okt 2016. De volgende afstanden staan op het programma: 5\,3 km – 10\,5 km – halve marathon – marathon hardlopen. Wilt u inschrijven voor dit loopevenement?  Raadpleeg hiervoor dan de website van de organisatie\nDe uitslagen van deze hardloopwedstrijd zijn te raadplegen via dezelfde website of via de bekende websites zoals uitslagen.nl\, runtimer en mylaps. Doet u mee met dit evenement\, zorg dan dat u goed voorbereid aan de start staat! Met een goed trainingsschema komt u een heel eind. Train bijvoorbeeld met start to run van Evy Gruyaert. Download de start to run mp3 bestanden en zet ze op uw telefoon. Oortjes in\, hit the play button en en rennen maar! \n\n\n\n\nMeer informatie over Wilhelminaberg Trappen Marathon op Hardloopkalender.nl  \nHet loopevenement Wilhelminaberg Trappen Marathon te Landgraaf vindt plaats op zaterdag 01 oktober 2016. \n  \n  \n 
URL:https://hardloopevenementen.com/loopagenda/wilhelminaberg-trappen-marathon-landgraaf-li/
END:VEVENT
END:VCALENDAR