BEGIN:VCALENDAR
VERSION:2.0
PRODID:-//Hardloopevenementen - ECPv6.15.14//NONSGML v1.0//EN
CALSCALE:GREGORIAN
METHOD:PUBLISH
X-ORIGINAL-URL:https://hardloopevenementen.com
X-WR-CALDESC:Evenementen voor Hardloopevenementen
REFRESH-INTERVAL;VALUE=DURATION:PT1H
X-Robots-Tag:noindex
X-PUBLISHED-TTL:PT1H
BEGIN:VTIMEZONE
TZID:UTC
BEGIN:STANDARD
TZOFFSETFROM:+0000
TZOFFSETTO:+0000
TZNAME:UTC
DTSTART:20140101T000000
END:STANDARD
END:VTIMEZONE
BEGIN:VEVENT
DTSTART;VALUE=DATE:20150320
DTEND;VALUE=DATE:20150321
DTSTAMP:20260419T145510
CREATED:20100423T194950Z
LAST-MODIFIED:20190423T111348Z
UID:10871-1426809600-1426809600@hardloopevenementen.com
SUMMARY:Open Fries Kampioenschap TrappenRun Heerenveen (FR)
DESCRIPTION:Doe mee met het hardloopevenement Open Fries Kampioenschap TrappenRun te Heerenveen (FR) op vr 20 mrt 2015. De volgende afstanden staan op het programma: 2\,5 km hardlopen. Wilt u inschrijven voor dit loopevenement?  Raadpleeg hiervoor dan de website van de organisatie\nDe uitslagen van deze hardloopwedstrijd zijn te raadplegen via dezelfde website of via de bekende websites zoals uitslagen.nl\, runtimer en mylaps. Doet u mee met dit evenement\, zorg dan dat u goed voorbereid aan de start staat! Met een goed trainingsschema komt u een heel eind. Train bijvoorbeeld met start to run van Evy Gruyaert. Download de start to run mp3 bestanden en zet ze op uw telefoon. Oortjes in\, hit the play button en en rennen maar! \n\n\n\n\nMeer informatie over Open Fries Kampioenschap TrappenRun op Hardloopkalender.nl  \nMeedoen met TrappenRun voor het Foppe Fonds  VRIJDAG 20 MAART 2015  3 gebouwen\, 735 treden!  Doe jij ook mee?    Ren naar de toppen van de gebouwen. Een unieke belevenis met start en finish in het Abe Lenstra stadion. Doe mee en steun het Foppe Fonds. Met de opbrengst helpt het Foppe Fonds kinderen voor wie sporten of spelen niet vanzelfsprekend is vanwege hun lichamelijke of verstandelijke beperking.  Op 20 maart trotseren de deelnemers 735 traptreden in de gebouwen Rabobank\, Priore Sport Fryslân en Elkien met als hoogtepunt de finish op het veld van het Abe Lenstra Stadion. Iedereen kan meedoen! Voor kinderen tussen de 7 en 12 jaar is de route aangepast. De TrappenRun vindt plaats tijdens de wedstrijd van het vrouwenelftal sc Heerenveen  PSV.  Het goede doel  Het evenement staat in het teken om geld in te zamelen voor kinderen met een beperking. Het Foppe Fonds zorgt ervoor dat zij kunnen sporten waaronder paardrijden. Door het paardrijden kunnen de kinderen in hun dagelijks leven beter functioneren. Foppe de Haan is beschermheer van het Foppe Fonds. In dit promofilmpje roept Foppe iedereen op om mee te doen: http:  youtu.be VlvzuzZ8DkM  Aanmelden  De kosten zijn tien euro voor toppers en recreanten en kinderen tussen de 7 en 12 jaar betalen vijf euro. Dit bedrag gaat volledig naar het Foppe Fonds. Dit bedrag is ook inclusief een 4 toegangskaarten voor de wedstrijd vrouwenelftal sc Heerenveen-PSV.   Prijzen  Deze zijn niet mis. Bij de volwassenen zijn de prijzen als volgt: Tom Tom Mutlicardiohorloge (1e prijs)\, een arrangement voor 2 personen bij sc Heerenveen (2e prijs) en 1 minuut winkelen bij de Jumbo (3e prijs). De nummers 1\,2 en 3 bij de Kidsloop ontvangen een beker en 2 kaarten van een wedstrijd bij sc Heerenveen. Tevens ontvangt de organisatie of team met de meeste deelnemers kaarten van een wedstrijd bij sc Heerenveen.  Voor meer informatie over het evenement: www.ofktrappenrun.nl      Unive is sponsor van de OFK TrappenRun \n  \n  \n 
URL:https://hardloopevenementen.com/loopagenda/open-fries-kampioenschap-trappenrun-heerenveen-fr/
END:VEVENT
END:VCALENDAR