BEGIN:VCALENDAR
VERSION:2.0
PRODID:-//Hardloopevenementen - ECPv6.15.14//NONSGML v1.0//EN
CALSCALE:GREGORIAN
METHOD:PUBLISH
X-ORIGINAL-URL:https://hardloopevenementen.com
X-WR-CALDESC:Evenementen voor Hardloopevenementen
REFRESH-INTERVAL;VALUE=DURATION:PT1H
X-Robots-Tag:noindex
X-PUBLISHED-TTL:PT1H
BEGIN:VTIMEZONE
TZID:UTC
BEGIN:STANDARD
TZOFFSETFROM:+0000
TZOFFSETTO:+0000
TZNAME:UTC
DTSTART:20120101T000000
END:STANDARD
END:VTIMEZONE
BEGIN:VEVENT
DTSTART;VALUE=DATE:20140405
DTEND;VALUE=DATE:20140406
DTSTAMP:20260422T010617
CREATED:20130301T012444Z
LAST-MODIFIED:20190423T105643Z
UID:34402-1396656000-1396656000@hardloopevenementen.com
SUMMARY:Trin sponsorloop Harderwijk (GE)
DESCRIPTION:Doe mee met het hardloopevenement Trin sponsorloop te Harderwijk (GE) op za 05 apr 2014. De volgende afstanden staan op het programma: 2 km – 5 km – 10 km hardlopen. Wilt u inschrijven voor dit loopevenement?  Raadpleeg hiervoor dan de website van de organisatie\nDe uitslagen van deze hardloopwedstrijd zijn te raadplegen via dezelfde website of via de bekende websites zoals uitslagen.nl\, runtimer en mylaps. Doet u mee met dit evenement\, zorg dan dat u goed voorbereid aan de start staat! Met een goed trainingsschema komt u een heel eind. Train bijvoorbeeld met start to run van Evy Gruyaert. Download de start to run mp3 bestanden en zet ze op uw telefoon. Oortjes in\, hit the play button en en rennen maar! \n\n\n\n\nMeer informatie over Trin sponsorloop op Hardloopkalender.nl  \nAFGELAST!!!!!!      Je loopt voor het goede doel! Je kiest zelf voor welk doel je gaat lopen\, 5 verschillende doelen zie website.  We houden een kidsrun van 2 km. Volwassenen kunnen kiezen voor 5 of 10 km. Er zijn mooie prijzen te winnen\, zoals een fiets en een Ipad mini. Inschrijfgeld is 5 per deelnemer\, minimaal sponsorbedrag is 25\, vraag je vrienden\, familie om je te sponsoren.  Vorig jaar hebben we onze eerste sponsorloop gehouden\, dit was een enorm succes! Dit jaar gaan we er weer voor. Geef je op door een mailtje te sturen naar sponsorloop@trin.nl. \n  \n  \n 
URL:https://hardloopevenementen.com/loopagenda/trin-sponsorloop-harderwijk-ge/
END:VEVENT
BEGIN:VEVENT
DTSTART;VALUE=DATE:20130420
DTEND;VALUE=DATE:20130421
DTSTAMP:20260422T010617
CREATED:20100717T003608Z
LAST-MODIFIED:20190423T104324Z
UID:31884-1366416000-1366416000@hardloopevenementen.com
SUMMARY:Trin projecten sponsorloop Harderwijk (GE)
DESCRIPTION:Doe mee met het hardloopevenement Trin projecten sponsorloop te Harderwijk (GE) op za 20 apr 2013. De volgende afstanden staan op het programma: 5 km hardlopen. Wilt u inschrijven voor dit loopevenement?  Raadpleeg hiervoor dan de website van de organisatie\nDe uitslagen van deze hardloopwedstrijd zijn te raadplegen via dezelfde website of via de bekende websites zoals uitslagen.nl\, runtimer en mylaps. Doet u mee met dit evenement\, zorg dan dat u goed voorbereid aan de start staat! Met een goed trainingsschema komt u een heel eind. Train bijvoorbeeld met start to run van Evy Gruyaert. Download de start to run mp3 bestanden en zet ze op uw telefoon. Oortjes in\, hit the play button en en rennen maar! \n\n\n\n\nMeer informatie over Trin projecten sponsorloop op Hardloopkalender.nl  \nSponsorloop voor het goede doel!  Loop 5 km voor een van onze projecten in India\, Kenia\, Thailand\, Haiti of Kosovo.    Datum\, 20 april\, start 11:00\, Zuiderzeepad 3 te Harderwijk.    Minimale sponsorbedrag is 50\, vraag je ouders\, buren\, vrienden\, familie etc om je te sponsoren en je zit zo aan de 50!    Mooie prijzen te winnen voor de persoon met het meeste sponsorgeld\, o.a. een Ipad mini.    Meld je aan door een mailtje te sturen naar sponsorloop@trin.nl en mail je adresgegevens zodat we je onze sponsorkaart kunnen sturen.    Inschrijfkosten 3\,50.  Hopelijk tot dan! \n  \n  \n 
URL:https://hardloopevenementen.com/loopagenda/trin-projecten-sponsorloop-harderwijk-ge/
END:VEVENT
END:VCALENDAR