BEGIN:VCALENDAR
VERSION:2.0
PRODID:-//Hardloopevenementen - ECPv6.15.14//NONSGML v1.0//EN
CALSCALE:GREGORIAN
METHOD:PUBLISH
X-ORIGINAL-URL:https://hardloopevenementen.com
X-WR-CALDESC:Evenementen voor Hardloopevenementen
REFRESH-INTERVAL;VALUE=DURATION:PT1H
X-Robots-Tag:noindex
X-PUBLISHED-TTL:PT1H
BEGIN:VTIMEZONE
TZID:UTC
BEGIN:STANDARD
TZOFFSETFROM:+0000
TZOFFSETTO:+0000
TZNAME:UTC
DTSTART:20180101T000000
END:STANDARD
END:VTIMEZONE
BEGIN:VEVENT
DTSTART;VALUE=DATE:20190526
DTEND;VALUE=DATE:20190527
DTSTAMP:20260425T151054
CREATED:20150201T020303Z
LAST-MODIFIED:20191114T112621Z
UID:43653-1558828800-1558828800@hardloopevenementen.com
SUMMARY:Amsterdam UMC Run Amsterdam-Zuidoost\, gemeente Amsterdam (NH)
DESCRIPTION:Doe mee met het hardloopevenement Amsterdam UMC Run te Amsterdam-Zuidoost\, gemeente Amsterdam (NH) op zo 26 mei 2019. De volgende afstanden staan op het programma: 1\,3 km – 5 km – 10 km hardlopen. Wilt u inschrijven voor dit loopevenement?  Raadpleeg hiervoor dan de website van de organisatie\nDe uitslagen van deze hardloopwedstrijd zijn te raadplegen via dezelfde website of via de bekende websites zoals uitslagen.nl\, runtimer en mylaps. Doet u mee met dit evenement\, zorg dan dat u goed voorbereid aan de start staat! Met een goed trainingsschema komt u een heel eind. Train bijvoorbeeld met start to run van Evy Gruyaert. Download de start to run mp3 bestanden en zet ze op uw telefoon. Oortjes in\, hit the play button en en rennen maar! \n\n\n\n\nMeer informatie over Amsterdam UMC Run op Hardloopkalender.nl  \nDe Amsterdam UMC Run is de nieuwe naam van de voormalige AMC Loop na de fusie van het VUMC en AMC.  De Run gaat nog steeds langs de mooiste plekken van Amsterdam Zuidoost én dwars door het AMC. \n  \n  \n 
URL:https://hardloopevenementen.com/loopagenda/amsterdam-umc-run-amsterdam-zuidoost-gemeente-amsterdam-nh/
END:VEVENT
END:VCALENDAR