BEGIN:VCALENDAR
VERSION:2.0
PRODID:-//Hardloopevenementen - ECPv6.15.14//NONSGML v1.0//EN
CALSCALE:GREGORIAN
METHOD:PUBLISH
X-WR-CALNAME:Hardloopevenementen
X-ORIGINAL-URL:https://hardloopevenementen.com
X-WR-CALDESC:Evenementen voor Hardloopevenementen
REFRESH-INTERVAL;VALUE=DURATION:PT1H
X-Robots-Tag:noindex
X-PUBLISHED-TTL:PT1H
BEGIN:VTIMEZONE
TZID:UTC
BEGIN:STANDARD
TZOFFSETFROM:+0000
TZOFFSETTO:+0000
TZNAME:UTC
DTSTART:20140101T000000
END:STANDARD
END:VTIMEZONE
BEGIN:VEVENT
DTSTART;VALUE=DATE:20160221
DTEND;VALUE=DATE:20160222
DTSTAMP:20260421T044103
CREATED:20150812T114140Z
LAST-MODIFIED:20190423T112708Z
UID:13254-1456012800-1456012800@hardloopevenementen.com
SUMMARY:Vaartsluisboscross Almere (FL)
DESCRIPTION:Doe mee met het hardloopevenement Vaartsluisboscross te Almere (FL) op zo 21 feb 2016. De volgende afstanden staan op het programma: 2\,5 km – 5 km – 10 km – 20 km – 30 km hardlopen. Wilt u inschrijven voor dit loopevenement?  Raadpleeg hiervoor dan de website van de organisatie\nDe uitslagen van deze hardloopwedstrijd zijn te raadplegen via dezelfde website of via de bekende websites zoals uitslagen.nl\, runtimer en mylaps. Doet u mee met dit evenement\, zorg dan dat u goed voorbereid aan de start staat! Met een goed trainingsschema komt u een heel eind. Train bijvoorbeeld met start to run van Evy Gruyaert. Download de start to run mp3 bestanden en zet ze op uw telefoon. Oortjes in\, hit the play button en en rennen maar! \n\n\n\n\nMeer informatie over Vaartsluisboscross op Hardloopkalender.nl  \nHet loopevenement Vaartsluisboscross te Almere vindt plaats op zondag 21 februari 2016. \n  \n  \n 
URL:https://hardloopevenementen.com/loopagenda/vaartsluisboscross-almere-fl-2/
END:VEVENT
BEGIN:VEVENT
DTSTART;VALUE=DATE:20150215
DTEND;VALUE=DATE:20150216
DTSTAMP:20260421T044103
CREATED:20080802T234426Z
LAST-MODIFIED:20190423T111426Z
UID:11038-1423958400-1423958400@hardloopevenementen.com
SUMMARY:Vaartsluisboscross Almere (FL)
DESCRIPTION:Doe mee met het hardloopevenement Vaartsluisboscross te Almere (FL) op zo 15 feb 2015. De volgende afstanden staan op het programma: 1 km – 2 km – 4 km – 6 km – 8 km hardlopen. Wilt u inschrijven voor dit loopevenement?  Raadpleeg hiervoor dan de website van de organisatie\nDe uitslagen van deze hardloopwedstrijd zijn te raadplegen via dezelfde website of via de bekende websites zoals uitslagen.nl\, runtimer en mylaps. Doet u mee met dit evenement\, zorg dan dat u goed voorbereid aan de start staat! Met een goed trainingsschema komt u een heel eind. Train bijvoorbeeld met start to run van Evy Gruyaert. Download de start to run mp3 bestanden en zet ze op uw telefoon. Oortjes in\, hit the play button en en rennen maar! \n\n\n\n\nMeer informatie over Vaartsluisboscross op Hardloopkalender.nl  \nHet loopevenement Vaartsluisboscross te Almere vindt plaats op zondag 15 februari 2015. \n  \n  \n 
URL:https://hardloopevenementen.com/loopagenda/vaartsluisboscross-almere-fl/
END:VEVENT
END:VCALENDAR