BEGIN:VCALENDAR
VERSION:2.0
PRODID:-//Hardloopevenementen - ECPv6.15.14//NONSGML v1.0//EN
CALSCALE:GREGORIAN
METHOD:PUBLISH
X-ORIGINAL-URL:https://hardloopevenementen.com
X-WR-CALDESC:Evenementen voor Hardloopevenementen
REFRESH-INTERVAL;VALUE=DURATION:PT1H
X-Robots-Tag:noindex
X-PUBLISHED-TTL:PT1H
BEGIN:VTIMEZONE
TZID:UTC
BEGIN:STANDARD
TZOFFSETFROM:+0000
TZOFFSETTO:+0000
TZNAME:UTC
DTSTART:20150101T000000
END:STANDARD
END:VTIMEZONE
BEGIN:VEVENT
DTSTART;VALUE=DATE:20200308
DTEND;VALUE=DATE:20200309
DTSTAMP:20260421T193849
CREATED:20130829T052934Z
LAST-MODIFIED:20200206T111500Z
UID:145253-1583625600-1583625600@hardloopevenementen.com
SUMMARY:4e VAC Enginering Natuurloop Retranchement\, gemeente Sluis (ZE)
DESCRIPTION:Doe mee met het hardloopevenement 4e VAC Enginering Natuurloop te Retranchement\, gemeente Sluis (ZE) op zo 08 mrt 2020. De volgende afstanden staan op het programma: 0\,8 km – 1\,5 km – 2\,7 km – 4\,7 km – 10\,7 km hardlopen. Wilt u inschrijven voor dit loopevenement?  Raadpleeg hiervoor dan de website van de organisatie\nDe uitslagen van deze hardloopwedstrijd zijn te raadplegen via dezelfde website of via de bekende websites zoals uitslagen.nl\, runtimer en mylaps. Doet u mee met dit evenement\, zorg dan dat u goed voorbereid aan de start staat! Met een goed trainingsschema komt u een heel eind. Train bijvoorbeeld met start to run van Evy Gruyaert. Download de start to run mp3 bestanden en zet ze op uw telefoon. Oortjes in\, hit the play button en en rennen maar! \n\n\n\n\nMeer informatie over 4e VAC Enginering Natuurloop op Hardloopkalender.nl  \n  \n  \n 
URL:https://hardloopevenementen.com/loopagenda/4e-vac-enginering-natuurloop-retranchement-gemeente-sluis-ze-3/
END:VEVENT
BEGIN:VEVENT
DTSTART;VALUE=DATE:20200223
DTEND;VALUE=DATE:20200224
DTSTAMP:20260421T193849
CREATED:20141005T223429Z
LAST-MODIFIED:20200206T111515Z
UID:145306-1582416000-1582416000@hardloopevenementen.com
SUMMARY:3e VAC Enginering Natuurloop Cadzand\, gemeente Sluis (ZE)
DESCRIPTION:Doe mee met het hardloopevenement 3e VAC Enginering Natuurloop te Cadzand\, gemeente Sluis (ZE) op zo 23 feb 2020. De volgende afstanden staan op het programma: 0\,8 km – 1\,5 km – 2 km – 4 km – 10 km hardlopen. Wilt u inschrijven voor dit loopevenement?  Raadpleeg hiervoor dan de website van de organisatie\nDe uitslagen van deze hardloopwedstrijd zijn te raadplegen via dezelfde website of via de bekende websites zoals uitslagen.nl\, runtimer en mylaps. Doet u mee met dit evenement\, zorg dan dat u goed voorbereid aan de start staat! Met een goed trainingsschema komt u een heel eind. Train bijvoorbeeld met start to run van Evy Gruyaert. Download de start to run mp3 bestanden en zet ze op uw telefoon. Oortjes in\, hit the play button en en rennen maar! \n\n\n\n\nMeer informatie over 3e VAC Enginering Natuurloop op Hardloopkalender.nl  \n  \n  \n 
URL:https://hardloopevenementen.com/loopagenda/3e-vac-enginering-natuurloop-cadzand-gemeente-sluis-ze-2/
END:VEVENT
BEGIN:VEVENT
DTSTART;VALUE=DATE:20180311
DTEND;VALUE=DATE:20180312
DTSTAMP:20260421T193849
CREATED:20130207T150127Z
LAST-MODIFIED:20190423T120625Z
UID:16967-1520726400-1520726400@hardloopevenementen.com
SUMMARY:4e VAC Enginering Natuurloop Retranchement\, gemeente Sluis (ZE)
DESCRIPTION:Doe mee met het hardloopevenement 4e VAC Enginering Natuurloop te Retranchement\, gemeente Sluis (ZE) op zo 11 mrt 2018. De volgende afstanden staan op het programma: 0\,8 km – 1\,5 km – 2\,7 km – 4\,7 km – 10\,7 km hardlopen. Wilt u inschrijven voor dit loopevenement?  Raadpleeg hiervoor dan de website van de organisatie\nDe uitslagen van deze hardloopwedstrijd zijn te raadplegen via dezelfde website of via de bekende websites zoals uitslagen.nl\, runtimer en mylaps. Doet u mee met dit evenement\, zorg dan dat u goed voorbereid aan de start staat! Met een goed trainingsschema komt u een heel eind. Train bijvoorbeeld met start to run van Evy Gruyaert. Download de start to run mp3 bestanden en zet ze op uw telefoon. Oortjes in\, hit the play button en en rennen maar! \n\n\n\n\nMeer informatie over 4e VAC Enginering Natuurloop op Hardloopkalender.nl  \n  \n  \n 
URL:https://hardloopevenementen.com/loopagenda/4e-vac-enginering-natuurloop-retranchement-gemeente-sluis-ze-2/
END:VEVENT
BEGIN:VEVENT
DTSTART;VALUE=DATE:20180225
DTEND;VALUE=DATE:20180226
DTSTAMP:20260421T193849
CREATED:20130312T125152Z
LAST-MODIFIED:20190423T120640Z
UID:17037-1519516800-1519516800@hardloopevenementen.com
SUMMARY:3e VAC Enginering Natuurloop Cadzand\, gemeente Sluis (ZE)
DESCRIPTION:Doe mee met het hardloopevenement 3e VAC Enginering Natuurloop te Cadzand\, gemeente Sluis (ZE) op zo 25 feb 2018. De volgende afstanden staan op het programma: 0\,8 km – 1\,5 km – 2 km – 4 km – 10 km hardlopen. Wilt u inschrijven voor dit loopevenement?  Raadpleeg hiervoor dan de website van de organisatie\nDe uitslagen van deze hardloopwedstrijd zijn te raadplegen via dezelfde website of via de bekende websites zoals uitslagen.nl\, runtimer en mylaps. Doet u mee met dit evenement\, zorg dan dat u goed voorbereid aan de start staat! Met een goed trainingsschema komt u een heel eind. Train bijvoorbeeld met start to run van Evy Gruyaert. Download de start to run mp3 bestanden en zet ze op uw telefoon. Oortjes in\, hit the play button en en rennen maar! \n\n\n\n\nMeer informatie over 3e VAC Enginering Natuurloop op Hardloopkalender.nl  \n  \n  \n 
URL:https://hardloopevenementen.com/loopagenda/3e-vac-enginering-natuurloop-cadzand-gemeente-sluis-ze/
END:VEVENT
BEGIN:VEVENT
DTSTART;VALUE=DATE:20170312
DTEND;VALUE=DATE:20170313
DTSTAMP:20260421T193849
CREATED:20160427T221047Z
LAST-MODIFIED:20190423T114750Z
UID:15129-1489276800-1489276800@hardloopevenementen.com
SUMMARY:4e VAC Enginering Natuurloop Retranchement\, gemeente Sluis (ZE)
DESCRIPTION:Doe mee met het hardloopevenement 4e VAC Enginering Natuurloop te Retranchement\, gemeente Sluis (ZE) op zo 12 mrt 2017. De volgende afstanden staan op het programma: 0\,8 km – 1\,5 km – 2\,7 km – 4\,7 km – 10\,7 km hardlopen. Wilt u inschrijven voor dit loopevenement?  Raadpleeg hiervoor dan de website van de organisatie\nDe uitslagen van deze hardloopwedstrijd zijn te raadplegen via dezelfde website of via de bekende websites zoals uitslagen.nl\, runtimer en mylaps. Doet u mee met dit evenement\, zorg dan dat u goed voorbereid aan de start staat! Met een goed trainingsschema komt u een heel eind. Train bijvoorbeeld met start to run van Evy Gruyaert. Download de start to run mp3 bestanden en zet ze op uw telefoon. Oortjes in\, hit the play button en en rennen maar! \n\n\n\n\nMeer informatie over 4e VAC Enginering Natuurloop op Hardloopkalender.nl  \n  \n  \n 
URL:https://hardloopevenementen.com/loopagenda/4e-vac-enginering-natuurloop-retranchement-gemeente-sluis-ze/
END:VEVENT
BEGIN:VEVENT
DTSTART;VALUE=DATE:20160306
DTEND;VALUE=DATE:20160307
DTSTAMP:20260421T193849
CREATED:20070104T191811Z
LAST-MODIFIED:20190423T112659Z
UID:13213-1457222400-1457222400@hardloopevenementen.com
SUMMARY:4de VAC Engineering-natuurloop Paviljoen de Zeemeeuw Cadzand\, gemeente Sluis (ZE)
DESCRIPTION:Doe mee met het hardloopevenement 4de VAC Engineering-natuurloop Paviljoen de Zeemeeuw te Cadzand\, gemeente Sluis (ZE) op zo 06 mrt 2016. De volgende afstanden staan op het programma: 0\,8 km – 1\,5 km – 2\,7 km – 4\,7 km – 10\,7 km hardlopen. Wilt u inschrijven voor dit loopevenement?  Raadpleeg hiervoor dan de website van de organisatie\nDe uitslagen van deze hardloopwedstrijd zijn te raadplegen via dezelfde website of via de bekende websites zoals uitslagen.nl\, runtimer en mylaps. Doet u mee met dit evenement\, zorg dan dat u goed voorbereid aan de start staat! Met een goed trainingsschema komt u een heel eind. Train bijvoorbeeld met start to run van Evy Gruyaert. Download de start to run mp3 bestanden en zet ze op uw telefoon. Oortjes in\, hit the play button en en rennen maar! \n\n\n\n\nMeer informatie over 4de VAC Engineering-natuurloop Paviljoen de Zeemeeuw op Hardloopkalender.nl  \nHet loopevenement 4de VAC Engineering-natuurloop Paviljoen de Zeemeeuw te Cadzand-Bad vindt plaats op zondag 06 maart 2016. \n  \n  \n 
URL:https://hardloopevenementen.com/loopagenda/4de-vac-engineering-natuurloop-paviljoen-de-zeemeeuw-cadzand-gemeente-sluis-ze/
END:VEVENT
END:VCALENDAR