BEGIN:VCALENDAR
VERSION:2.0
PRODID:-//Hardloopevenementen - ECPv6.15.14//NONSGML v1.0//EN
CALSCALE:GREGORIAN
METHOD:PUBLISH
X-WR-CALNAME:Hardloopevenementen
X-ORIGINAL-URL:https://hardloopevenementen.com
X-WR-CALDESC:Evenementen voor Hardloopevenementen
REFRESH-INTERVAL;VALUE=DURATION:PT1H
X-Robots-Tag:noindex
X-PUBLISHED-TTL:PT1H
BEGIN:VTIMEZONE
TZID:UTC
BEGIN:STANDARD
TZOFFSETFROM:+0000
TZOFFSETTO:+0000
TZNAME:UTC
DTSTART:20080101T000000
END:STANDARD
END:VTIMEZONE
BEGIN:VEVENT
DTSTART;VALUE=DATE:20110130
DTEND;VALUE=DATE:20110131
DTSTAMP:20260421T193730
CREATED:20160621T232009Z
LAST-MODIFIED:20190423T102419Z
UID:26971-1296345600-1296345600@hardloopevenementen.com
SUMMARY:27e Vakantie Makelaar Loop Uithoorn (NH)
DESCRIPTION:Doe mee met het hardloopevenement 27e Vakantie Makelaar Loop te Uithoorn (NH) op zo 30 jan 2011. De volgende afstanden staan op het programma: 1 km – 5 km – 10 km – 10 Engelse mijl hardlopen. Wilt u inschrijven voor dit loopevenement?  Raadpleeg hiervoor dan de website van de organisatie\nDe uitslagen van deze hardloopwedstrijd zijn te raadplegen via dezelfde website of via de bekende websites zoals uitslagen.nl\, runtimer en mylaps. Doet u mee met dit evenement\, zorg dan dat u goed voorbereid aan de start staat! Met een goed trainingsschema komt u een heel eind. Train bijvoorbeeld met start to run van Evy Gruyaert. Download de start to run mp3 bestanden en zet ze op uw telefoon. Oortjes in\, hit the play button en en rennen maar! \n\n\n\n\nMeer informatie over 27e Vakantie Makelaar Loop op Hardloopkalender.nl  \nHet loopevenement 27e Vakantie Makelaar Loop te Uithoorn vindt plaats op zondag 30 januari 2011. De loop wordt georganiseerd door AKU. Inschrijven is mogelijk vanaf 01 november 2010. Klik hier voor het adres van de start (Google Maps).Er is verkleedaccomodatie met douchemogelijkheid aanwezig. Er is EHBO aanwezig. Bijzonderheden: Loop maakt deel uit van Zorg en Zekerheid Circuit. ET..Afstand(km)Inschrijfgeld()Starttijd10EM0\,0011.00uur5km0\,0011.15uur1km0\,0011.20uur10km0\,0011.45uurVoor meer informatie:Bert Liebregtsbert.liebregts@online.nl0297261553http:  vakantiemakelaarloop.nl \n  \n  \n 
URL:https://hardloopevenementen.com/loopagenda/27e-vakantie-makelaar-loop-uithoorn-nh/
END:VEVENT
BEGIN:VEVENT
DTSTART;VALUE=DATE:20100131
DTEND;VALUE=DATE:20100201
DTSTAMP:20260421T193730
CREATED:20091117T170700Z
LAST-MODIFIED:20190423T101429Z
UID:24070-1264896000-1264896000@hardloopevenementen.com
SUMMARY:26e Vakantie Makelaar Loop Uithoorn (NH)
DESCRIPTION:Doe mee met het hardloopevenement 26e Vakantie Makelaar Loop te Uithoorn (NH) op zo 31 jan 2010. De volgende afstanden staan op het programma: 1 km – 5 km – 10 km – 10 Engelse mijl hardlopen. Wilt u inschrijven voor dit loopevenement?  Raadpleeg hiervoor dan de website van de organisatie\nDe uitslagen van deze hardloopwedstrijd zijn te raadplegen via dezelfde website of via de bekende websites zoals uitslagen.nl\, runtimer en mylaps. Doet u mee met dit evenement\, zorg dan dat u goed voorbereid aan de start staat! Met een goed trainingsschema komt u een heel eind. Train bijvoorbeeld met start to run van Evy Gruyaert. Download de start to run mp3 bestanden en zet ze op uw telefoon. Oortjes in\, hit the play button en en rennen maar! \n\n\n\n\nMeer informatie over 26e Vakantie Makelaar Loop op Hardloopkalender.nl  \nDit loopevenement wordt georganiseerd door AKU.De eerste afstand (of onderdeel) start om 11:00.Het adres van de start is A. van Schendellaan100 Het adres van de finish is A. van Schendellaan 100Categorie(ën): mannen\, vrouwen\, jeugdVooraf inschrijven is mogelijk vanaf 01 november 2009 tot 29 januari 2010.Inschrijven op de dag van de loop is mogelijk (vanaf 09.00 uur) op dit adres: Sporthal De Scheg  A.van Schendellaan 100A  Uithoorn.Meer informatie:Contactpersoon: Bert LiebregtsTel.: 0297261553Email: bert.liebregts@online.nlEr is een kleedaccomodatie aanwezig. Douchen is mogelijk.Het parcours is verhard.Vorig jaar deden er 1583 lopers mee aan dit evenement.Overige bijzonderheden:  Loop maakt deel uit van Zorg en Zekerheid Circuit. ET. \n  \n  \n 
URL:https://hardloopevenementen.com/loopagenda/26e-vakantie-makelaar-loop-uithoorn-nh/
END:VEVENT
BEGIN:VEVENT
DTSTART;VALUE=DATE:20090125
DTEND;VALUE=DATE:20090126
DTSTAMP:20260421T193730
CREATED:20080402T182840Z
LAST-MODIFIED:20190423T100342Z
UID:2859-1232841600-1232841600@hardloopevenementen.com
SUMMARY:Vakantie Makelaar Loop Uithoorn (NH)
DESCRIPTION:Doe mee met het hardloopevenement Vakantie Makelaar Loop te Uithoorn (NH) op zo 25 jan 2009. De volgende afstanden staan op het programma: 1 km – 5 km – 10 km – 10 Engelse mijl hardlopen. Wilt u inschrijven voor dit loopevenement?  Raadpleeg hiervoor dan de website van de organisatie\nDe uitslagen van deze hardloopwedstrijd zijn te raadplegen via dezelfde website of via de bekende websites zoals uitslagen.nl\, runtimer en mylaps. Doet u mee met dit evenement\, zorg dan dat u goed voorbereid aan de start staat! Met een goed trainingsschema komt u een heel eind. Train bijvoorbeeld met start to run van Evy Gruyaert. Download de start to run mp3 bestanden en zet ze op uw telefoon. Oortjes in\, hit the play button en en rennen maar! \n\n\n\n\nMeer informatie over Vakantie Makelaar Loop op Hardloopkalender.nl  \n16\,1 km 11:00 uur\, 5 km 11:15 uur\, 1 km 11:20 uur\, 10 km 11:45 uur \n  \n  \n 
URL:https://hardloopevenementen.com/loopagenda/vakantie-makelaar-loop-uithoorn-nh/
END:VEVENT
END:VCALENDAR