BEGIN:VCALENDAR
VERSION:2.0
PRODID:-//Hardloopevenementen - ECPv6.15.14//NONSGML v1.0//EN
CALSCALE:GREGORIAN
METHOD:PUBLISH
X-WR-CALNAME:Hardloopevenementen
X-ORIGINAL-URL:https://hardloopevenementen.com
X-WR-CALDESC:Evenementen voor Hardloopevenementen
REFRESH-INTERVAL;VALUE=DURATION:PT1H
X-Robots-Tag:noindex
X-PUBLISHED-TTL:PT1H
BEGIN:VTIMEZONE
TZID:UTC
BEGIN:STANDARD
TZOFFSETFROM:+0000
TZOFFSETTO:+0000
TZNAME:UTC
DTSTART:20110101T000000
END:STANDARD
END:VTIMEZONE
BEGIN:VEVENT
DTSTART;VALUE=DATE:20161016
DTEND;VALUE=DATE:20161017
DTSTAMP:20260419T204713
CREATED:20110209T120816Z
LAST-MODIFIED:20190423T112124Z
UID:11730-1476576000-1476576000@hardloopevenementen.com
SUMMARY:Stichtse Vecht Marathon Maarssen (UT)
DESCRIPTION:Doe mee met het hardloopevenement Stichtse Vecht Marathon te Maarssen (UT) op zo 16 okt 2016. De volgende afstanden staan op het programma: halve marathon – marathon hardlopen. Wilt u inschrijven voor dit loopevenement?  Raadpleeg hiervoor dan de website van de organisatie\nDe uitslagen van deze hardloopwedstrijd zijn te raadplegen via dezelfde website of via de bekende websites zoals uitslagen.nl\, runtimer en mylaps. Doet u mee met dit evenement\, zorg dan dat u goed voorbereid aan de start staat! Met een goed trainingsschema komt u een heel eind. Train bijvoorbeeld met start to run van Evy Gruyaert. Download de start to run mp3 bestanden en zet ze op uw telefoon. Oortjes in\, hit the play button en en rennen maar! \n\n\n\n\nMeer informatie over Stichtse Vecht Marathon op Hardloopkalender.nl  \nAFGELAST!! \n  \n  \n 
URL:https://hardloopevenementen.com/loopagenda/stichtse-vecht-marathon-maarssen-ut/
END:VEVENT
BEGIN:VEVENT
DTSTART;VALUE=DATE:20151018
DTEND;VALUE=DATE:20151019
DTSTAMP:20260419T204713
CREATED:20160323T053304Z
LAST-MODIFIED:20190423T110813Z
UID:9559-1445126400-1445126400@hardloopevenementen.com
SUMMARY:Stichtse Vecht Marathon Kockengen\, gemeente Breukelen (UT)
DESCRIPTION:Doe mee met het hardloopevenement Stichtse Vecht Marathon te Kockengen\, gemeente Breukelen (UT) op zo 18 okt 2015. De volgende afstanden staan op het programma: marathon hardlopen. Wilt u inschrijven voor dit loopevenement?  Raadpleeg hiervoor dan de website van de organisatie\nDe uitslagen van deze hardloopwedstrijd zijn te raadplegen via dezelfde website of via de bekende websites zoals uitslagen.nl\, runtimer en mylaps. Doet u mee met dit evenement\, zorg dan dat u goed voorbereid aan de start staat! Met een goed trainingsschema komt u een heel eind. Train bijvoorbeeld met start to run van Evy Gruyaert. Download de start to run mp3 bestanden en zet ze op uw telefoon. Oortjes in\, hit the play button en en rennen maar! \n\n\n\n\nMeer informatie over Stichtse Vecht Marathon op Hardloopkalender.nl  \nHet loopevenement Stichtse Vecht Marathon te Kockengen vindt plaats op zondag 18 oktober 2015. \n  \n  \n 
URL:https://hardloopevenementen.com/loopagenda/stichtse-vecht-marathon-kockengen-gemeente-breukelen-ut/
END:VEVENT
BEGIN:VEVENT
DTSTART;VALUE=DATE:20130502
DTEND;VALUE=DATE:20130503
DTSTAMP:20260419T204713
CREATED:20150115T033328Z
LAST-MODIFIED:20190423T104302Z
UID:31797-1367452800-1367452800@hardloopevenementen.com
SUMMARY:Dorpsloop Loenen aan de Vecht Loenen aan de Vecht\, gemeente Loenen (UT)
DESCRIPTION:Doe mee met het hardloopevenement Dorpsloop Loenen aan de Vecht te Loenen aan de Vecht\, gemeente Loenen (UT) op do 02 mei 2013. De volgende afstanden staan op het programma: 1 km – 4 km – 10 km hardlopen. Wilt u inschrijven voor dit loopevenement?  Raadpleeg hiervoor dan de website van de organisatie\nDe uitslagen van deze hardloopwedstrijd zijn te raadplegen via dezelfde website of via de bekende websites zoals uitslagen.nl\, runtimer en mylaps. Doet u mee met dit evenement\, zorg dan dat u goed voorbereid aan de start staat! Met een goed trainingsschema komt u een heel eind. Train bijvoorbeeld met start to run van Evy Gruyaert. Download de start to run mp3 bestanden en zet ze op uw telefoon. Oortjes in\, hit the play button en en rennen maar! \n\n\n\n\nMeer informatie over Dorpsloop Loenen aan de Vecht op Hardloopkalender.nl  \nnieuw parkoers in het oude dorp.  permanence Gemuda(’t Web)  start 18.00 uur \n  \n  \n 
URL:https://hardloopevenementen.com/loopagenda/dorpsloop-loenen-aan-de-vecht-loenen-aan-de-vecht-gemeente-loenen-ut-2/
END:VEVENT
BEGIN:VEVENT
DTSTART;VALUE=DATE:20120503
DTEND;VALUE=DATE:20120504
DTSTAMP:20260419T204713
CREATED:20180413T182220Z
LAST-MODIFIED:20190423T103244Z
UID:28452-1336003200-1336003200@hardloopevenementen.com
SUMMARY:Dorpsloop Loenen aan de Vecht Loenen aan de Vecht\, gemeente Loenen (UT)
DESCRIPTION:Doe mee met het hardloopevenement Dorpsloop Loenen aan de Vecht te Loenen aan de Vecht\, gemeente Loenen (UT) op do 03 mei 2012. De volgende afstanden staan op het programma: 1 km – 4 km – 10 km hardlopen. Wilt u inschrijven voor dit loopevenement?  Raadpleeg hiervoor dan de website van de organisatie\nDe uitslagen van deze hardloopwedstrijd zijn te raadplegen via dezelfde website of via de bekende websites zoals uitslagen.nl\, runtimer en mylaps. Doet u mee met dit evenement\, zorg dan dat u goed voorbereid aan de start staat! Met een goed trainingsschema komt u een heel eind. Train bijvoorbeeld met start to run van Evy Gruyaert. Download de start to run mp3 bestanden en zet ze op uw telefoon. Oortjes in\, hit the play button en en rennen maar! \n\n\n\n\nMeer informatie over Dorpsloop Loenen aan de Vecht op Hardloopkalender.nl  \nStart   1 km 18.00 uur  Start   4 km 18.30 uur  Start 10 km 19.00 uur    Inschrijven feesttent Doude van Troostwijkplein \n  \n  \n 
URL:https://hardloopevenementen.com/loopagenda/dorpsloop-loenen-aan-de-vecht-loenen-aan-de-vecht-gemeente-loenen-ut/
END:VEVENT
END:VCALENDAR