BEGIN:VCALENDAR
VERSION:2.0
PRODID:-//Hardloopevenementen - ECPv6.15.14//NONSGML v1.0//EN
CALSCALE:GREGORIAN
METHOD:PUBLISH
X-WR-CALNAME:Hardloopevenementen
X-ORIGINAL-URL:https://hardloopevenementen.com
X-WR-CALDESC:Evenementen voor Hardloopevenementen
REFRESH-INTERVAL;VALUE=DURATION:PT1H
X-Robots-Tag:noindex
X-PUBLISHED-TTL:PT1H
BEGIN:VTIMEZONE
TZID:UTC
BEGIN:STANDARD
TZOFFSETFROM:+0000
TZOFFSETTO:+0000
TZNAME:UTC
DTSTART:20070101T000000
END:STANDARD
END:VTIMEZONE
BEGIN:VEVENT
DTSTART;VALUE=DATE:20090424
DTEND;VALUE=DATE:20090425
DTSTAMP:20260421T050636
CREATED:20060918T021944Z
LAST-MODIFIED:20190423T100153Z
UID:2440-1240531200-1240531200@hardloopevenementen.com
SUMMARY:Jan van der Velde Oranjeloop Erica\, gemeente Emmen (DR)
DESCRIPTION:Doe mee met het hardloopevenement Jan van der Velde Oranjeloop te Erica\, gemeente Emmen (DR) op vr 24 apr 2009. De volgende afstanden staan op het programma: 5 km – 10 km hardlopen. Wilt u inschrijven voor dit loopevenement?  Raadpleeg hiervoor dan de website van de organisatie\nDe uitslagen van deze hardloopwedstrijd zijn te raadplegen via dezelfde website of via de bekende websites zoals uitslagen.nl\, runtimer en mylaps. Doet u mee met dit evenement\, zorg dan dat u goed voorbereid aan de start staat! Met een goed trainingsschema komt u een heel eind. Train bijvoorbeeld met start to run van Evy Gruyaert. Download de start to run mp3 bestanden en zet ze op uw telefoon. Oortjes in\, hit the play button en en rennen maar! \n\n\n\n\nMeer informatie over Jan van der Velde Oranjeloop op Hardloopkalender.nl  \n5-10 km 19:00 uur  Foto’s van de Jan van der Velde Oranjeloop zullen na afloop van het evenement te zien op  www.bt-sportfotografie.nl \n  \n  \n 
URL:https://hardloopevenementen.com/loopagenda/jan-van-der-velde-oranjeloop-erica-gemeente-emmen-dr/
END:VEVENT
BEGIN:VEVENT
DTSTART;VALUE=DATE:20080425
DTEND;VALUE=DATE:20080426
DTSTAMP:20260421T050636
CREATED:20170407T192629Z
LAST-MODIFIED:20190423T094750Z
UID:19824-1209081600-1209081600@hardloopevenementen.com
SUMMARY:Jan van der Velde Oranjeloop Erica
DESCRIPTION:Doe mee met het hardloopevenement Jan van der Velde Oranjeloop te Erica op vr 25 apr 2008. De volgende afstanden staan op het programma: 5 km – 10 km hardlopen. Wilt u inschrijven voor dit loopevenement?  Raadpleeg hiervoor dan de website van de organisatie\nDe uitslagen van deze hardloopwedstrijd zijn te raadplegen via dezelfde website of via de bekende websites zoals uitslagen.nl\, runtimer en mylaps. Doet u mee met dit evenement\, zorg dan dat u goed voorbereid aan de start staat! Met een goed trainingsschema komt u een heel eind. Train bijvoorbeeld met start to run van Evy Gruyaert. Download de start to run mp3 bestanden en zet ze op uw telefoon. Oortjes in\, hit the play button en en rennen maar! \n\n\n\n\nMeer informatie over Jan van der Velde Oranjeloop op Hardloopkalender.nl  \nStart  5-10 km 19:00 uur \n  \n  \n 
URL:https://hardloopevenementen.com/loopagenda/jan-van-der-velde-oranjeloop-erica/
END:VEVENT
END:VCALENDAR