BEGIN:VCALENDAR
VERSION:2.0
PRODID:-//Hardloopevenementen - ECPv6.15.14//NONSGML v1.0//EN
CALSCALE:GREGORIAN
METHOD:PUBLISH
X-WR-CALNAME:Hardloopevenementen
X-ORIGINAL-URL:https://hardloopevenementen.com
X-WR-CALDESC:Evenementen voor Hardloopevenementen
REFRESH-INTERVAL;VALUE=DURATION:PT1H
X-Robots-Tag:noindex
X-PUBLISHED-TTL:PT1H
BEGIN:VTIMEZONE
TZID:UTC
BEGIN:STANDARD
TZOFFSETFROM:+0000
TZOFFSETTO:+0000
TZNAME:UTC
DTSTART:20180101T000000
END:STANDARD
END:VTIMEZONE
BEGIN:VEVENT
DTSTART;VALUE=DATE:20190502
DTEND;VALUE=DATE:20190503
DTSTAMP:20260423T002727
CREATED:20080331T022240Z
LAST-MODIFIED:20191114T112647Z
UID:84281-1556755200-1556755200@hardloopevenementen.com
SUMMARY:Village run Scherpenzeel (GE)
DESCRIPTION:Doe mee met het hardloopevenement Village run te Scherpenzeel (GE) op do 02 mei 2019. De volgende afstanden staan op het programma: 5 km hardlopen. Wilt u inschrijven voor dit loopevenement?  Raadpleeg hiervoor dan de website van de organisatie\nDe uitslagen van deze hardloopwedstrijd zijn te raadplegen via dezelfde website of via de bekende websites zoals uitslagen.nl\, runtimer en mylaps. Doet u mee met dit evenement\, zorg dan dat u goed voorbereid aan de start staat! Met een goed trainingsschema komt u een heel eind. Train bijvoorbeeld met start to run van Evy Gruyaert. Download de start to run mp3 bestanden en zet ze op uw telefoon. Oortjes in\, hit the play button en en rennen maar! \n\n\n\n\nMeer informatie over Village run op Hardloopkalender.nl  \nBij de Village Run staat niet de looptijd\, maar de beleving centraal. Loop dwars door panden als de bibliotheek\, kledingwinkel en het bejaardenhuis\, maar ook over het voetbalveld\, door de paardenbak en het zwembad! Beleef Scherpenzeel en daag jezelf uit tijdens allerlei toffe obstakels die in het park op je wachten!    De afstand is in totaal ongeveer 4 kilometer\, iedereen vanaf 9 jaar mag meedoen. Aanmelden is gratis en kan door een mail te sturen naar rianne@ovscherpenzeel.nl. Geef hierin aan om hoeveel personen het gaat en welke leeftijden zij hebben. Kinderen worden per leeftijdscategorie ingedeeld\, maar ouders of begeleiders mogen hierin wel meelopen.   De starttijden zijn vanaf 10:00u s ochtends. \n  \n  \n 
URL:https://hardloopevenementen.com/loopagenda/village-run-scherpenzeel-ge/
END:VEVENT
END:VCALENDAR