BEGIN:VCALENDAR
VERSION:2.0
PRODID:-//Hardloopevenementen - ECPv6.15.14//NONSGML v1.0//EN
CALSCALE:GREGORIAN
METHOD:PUBLISH
X-ORIGINAL-URL:https://hardloopevenementen.com
X-WR-CALDESC:Evenementen voor Hardloopevenementen
REFRESH-INTERVAL;VALUE=DURATION:PT1H
X-Robots-Tag:noindex
X-PUBLISHED-TTL:PT1H
BEGIN:VTIMEZONE
TZID:UTC
BEGIN:STANDARD
TZOFFSETFROM:+0000
TZOFFSETTO:+0000
TZNAME:UTC
DTSTART:20130101T000000
END:STANDARD
END:VTIMEZONE
BEGIN:VEVENT
DTSTART;VALUE=DATE:20181028
DTEND;VALUE=DATE:20181029
DTSTAMP:20260421T003941
CREATED:20130622T171117Z
LAST-MODIFIED:20190423T120154Z
UID:15763-1540684800-1540684800@hardloopevenementen.com
SUMMARY:Vlasakkerloop Amersfoort (UT)
DESCRIPTION:Doe mee met het hardloopevenement Vlasakkerloop te Amersfoort (UT) op zo 28 okt 2018. De volgende afstanden staan op het programma: 1 km – 2 km – 5 km – 10 km – 10 Engelse mijl hardlopen. Wilt u inschrijven voor dit loopevenement?  Raadpleeg hiervoor dan de website van de organisatie\nDe uitslagen van deze hardloopwedstrijd zijn te raadplegen via dezelfde website of via de bekende websites zoals uitslagen.nl\, runtimer en mylaps. Doet u mee met dit evenement\, zorg dan dat u goed voorbereid aan de start staat! Met een goed trainingsschema komt u een heel eind. Train bijvoorbeeld met start to run van Evy Gruyaert. Download de start to run mp3 bestanden en zet ze op uw telefoon. Oortjes in\, hit the play button en en rennen maar! \n\n\n\n\nMeer informatie over Vlasakkerloop op Hardloopkalender.nl  \nVanaf 1 augustus 2018 kun je inschrijven voor de 5e editie van de Vlasakkerloop. Er zijn verschillende afstanden voor hardlopers\, wandelaars en jeugd\, allemaal in een prachtig natuurgebied. De 10 mijl gaat over het doorgaans gesloten militaire terrein de Vlasakkers. Locatie: sportpark Birkhoven\, clubhuis AV Triathlon\, Barchman Wuytierslaan 236\, 3819 AC Amersfoort. \n  \n  \n 
URL:https://hardloopevenementen.com/loopagenda/vlasakkerloop-amersfoort-ut-4/
END:VEVENT
BEGIN:VEVENT
DTSTART;VALUE=DATE:20171029
DTEND;VALUE=DATE:20171030
DTSTAMP:20260421T003941
CREATED:20180521T205427Z
LAST-MODIFIED:20190423T114306Z
UID:13853-1509235200-1509235200@hardloopevenementen.com
SUMMARY:Vlasakkerloop Amersfoort (UT)
DESCRIPTION:Doe mee met het hardloopevenement Vlasakkerloop te Amersfoort (UT) op zo 29 okt 2017. De volgende afstanden staan op het programma: 1 km – 2 km – 5 km – 10 km – 10 Engelse mijl hardlopen. Wilt u inschrijven voor dit loopevenement?  Raadpleeg hiervoor dan de website van de organisatie\nDe uitslagen van deze hardloopwedstrijd zijn te raadplegen via dezelfde website of via de bekende websites zoals uitslagen.nl\, runtimer en mylaps. Doet u mee met dit evenement\, zorg dan dat u goed voorbereid aan de start staat! Met een goed trainingsschema komt u een heel eind. Train bijvoorbeeld met start to run van Evy Gruyaert. Download de start to run mp3 bestanden en zet ze op uw telefoon. Oortjes in\, hit the play button en en rennen maar! \n\n\n\n\nMeer informatie over Vlasakkerloop op Hardloopkalender.nl  \nVanaf het clubhuis van AV Triathlon een mooie gevarieerde loop door bos Birkhoven en omgeving. De 10 Mijl gaat ook over het unieke defensieterrein de Vlasakkers \n  \n  \n 
URL:https://hardloopevenementen.com/loopagenda/vlasakkerloop-amersfoort-ut-3/
END:VEVENT
BEGIN:VEVENT
DTSTART;VALUE=DATE:20161030
DTEND;VALUE=DATE:20161031
DTSTAMP:20260421T003941
CREATED:20131224T050250Z
LAST-MODIFIED:20190423T112112Z
UID:11676-1477785600-1477785600@hardloopevenementen.com
SUMMARY:Vlasakkerloop Amersfoort (UT)
DESCRIPTION:Doe mee met het hardloopevenement Vlasakkerloop te Amersfoort (UT) op zo 30 okt 2016. De volgende afstanden staan op het programma: 1 km – 2 km – 5 km – 10 km – 10 Engelse mijl hardlopen. Wilt u inschrijven voor dit loopevenement?  Raadpleeg hiervoor dan de website van de organisatie\nDe uitslagen van deze hardloopwedstrijd zijn te raadplegen via dezelfde website of via de bekende websites zoals uitslagen.nl\, runtimer en mylaps. Doet u mee met dit evenement\, zorg dan dat u goed voorbereid aan de start staat! Met een goed trainingsschema komt u een heel eind. Train bijvoorbeeld met start to run van Evy Gruyaert. Download de start to run mp3 bestanden en zet ze op uw telefoon. Oortjes in\, hit the play button en en rennen maar! \n\n\n\n\nMeer informatie over Vlasakkerloop op Hardloopkalender.nl  \nOp 30 oktober 2016 vindt de derde editie van de Vlasakkerloop plaats.    De Vlasakkerloop kent een mooi aanbod van afstanden voor de jeugd\, hardlopers en wandelaars. De afstanden gaan namelijk door het groene bosgebied Birkhoven en de langere afstanden ook over het prachtige en maar beperkt toegankelijk gebied de Vlasakkers. Het mooie bosgebied Birkhoven wordt door het Utrechts Landschap\, als onderdeel van bijna 5000 hectare Utrechtse natuur\, op een verantwoorde wijze beheerd. De Vlasakkers is het heuvelachtige militaire oefenterrein achter de Bernhard kazerne in Amersfoort. Het is voor zowel de hardlopers als de wandelaars een unieke gelegenheid om dit indrukwekkende natuurgebied te kunnen bewonderen. \n  \n  \n 
URL:https://hardloopevenementen.com/loopagenda/vlasakkerloop-amersfoort-ut-2/
END:VEVENT
BEGIN:VEVENT
DTSTART;VALUE=DATE:20151129
DTEND;VALUE=DATE:20151130
DTSTAMP:20260421T003941
CREATED:20111216T023544Z
LAST-MODIFIED:20190423T110706Z
UID:9310-1448755200-1448755200@hardloopevenementen.com
SUMMARY:Vlasakkerloop Amersfoort (UT)
DESCRIPTION:Doe mee met het hardloopevenement Vlasakkerloop te Amersfoort (UT) op zo 29 nov 2015. De volgende afstanden staan op het programma: 1 km – 2 km – 5\,1 km – 10 km – 10 Engelse mijl – halve marathon hardlopen. Wilt u inschrijven voor dit loopevenement?  Raadpleeg hiervoor dan de website van de organisatie\nDe uitslagen van deze hardloopwedstrijd zijn te raadplegen via dezelfde website of via de bekende websites zoals uitslagen.nl\, runtimer en mylaps. Doet u mee met dit evenement\, zorg dan dat u goed voorbereid aan de start staat! Met een goed trainingsschema komt u een heel eind. Train bijvoorbeeld met start to run van Evy Gruyaert. Download de start to run mp3 bestanden en zet ze op uw telefoon. Oortjes in\, hit the play button en en rennen maar! \n\n\n\n\nMeer informatie over Vlasakkerloop op Hardloopkalender.nl  \nMooi gevarieerd hardloop- en wandelevenement door natuurgebieden bij Amersfoort zoals Birkhoven\, de Stompert en de Vlasakkers.  Zowel voor jeugd als volwassen lopers.  Kijk ook op Facebook en onze website. \n  \n  \n 
URL:https://hardloopevenementen.com/loopagenda/vlasakkerloop-amersfoort-ut/
END:VEVENT
BEGIN:VEVENT
DTSTART;VALUE=DATE:20141130
DTEND;VALUE=DATE:20141201
DTSTAMP:20260421T003941
CREATED:20141105T203919Z
LAST-MODIFIED:20190423T104909Z
UID:8634-1417305600-1417305600@hardloopevenementen.com
SUMMARY:1e Vlasakkerloop Amersfoort (UT)
DESCRIPTION:Doe mee met het hardloopevenement 1e Vlasakkerloop te Amersfoort (UT) op zo 30 nov 2014. De volgende afstanden staan op het programma: 1 km – 2 km – 3 km – 5 km – 10 km – 10 Engelse mijl – halve marathon hardlopen. Wilt u inschrijven voor dit loopevenement?  Raadpleeg hiervoor dan de website van de organisatie\nDe uitslagen van deze hardloopwedstrijd zijn te raadplegen via dezelfde website of via de bekende websites zoals uitslagen.nl\, runtimer en mylaps. Doet u mee met dit evenement\, zorg dan dat u goed voorbereid aan de start staat! Met een goed trainingsschema komt u een heel eind. Train bijvoorbeeld met start to run van Evy Gruyaert. Download de start to run mp3 bestanden en zet ze op uw telefoon. Oortjes in\, hit the play button en en rennen maar! \n\n\n\n\nMeer informatie over 1e Vlasakkerloop op Hardloopkalender.nl  \njeudloop t m 8 jr 1 km  jeugdloop 9 t m 11 jr 2 km  jeugdloop 12 t m 14 jr 3 km    Volwassenen 5 km  Volwassenen 10 km  Volwassenen 10 EM  Volwassenen Halve Marathon  onderdeel RUN#033 \n  \n  \n 
URL:https://hardloopevenementen.com/loopagenda/1e-vlasakkerloop-amersfoort-ut/
END:VEVENT
END:VCALENDAR