BEGIN:VCALENDAR
VERSION:2.0
PRODID:-//Hardloopevenementen - ECPv6.15.14//NONSGML v1.0//EN
CALSCALE:GREGORIAN
METHOD:PUBLISH
X-WR-CALNAME:Hardloopevenementen
X-ORIGINAL-URL:https://hardloopevenementen.com
X-WR-CALDESC:Evenementen voor Hardloopevenementen
REFRESH-INTERVAL;VALUE=DURATION:PT1H
X-Robots-Tag:noindex
X-PUBLISHED-TTL:PT1H
BEGIN:VTIMEZONE
TZID:UTC
BEGIN:STANDARD
TZOFFSETFROM:+0000
TZOFFSETTO:+0000
TZNAME:UTC
DTSTART:20120101T000000
END:STANDARD
END:VTIMEZONE
BEGIN:VEVENT
DTSTART;VALUE=DATE:20200419
DTEND;VALUE=DATE:20200420
DTSTAMP:20260425T183612
CREATED:20100623T114226Z
LAST-MODIFIED:20200206T111419Z
UID:145080-1587254400-1587254400@hardloopevenementen.com
SUMMARY:Vuurtorenloop Vlieland Vlieland (FR)
DESCRIPTION:Doe mee met het hardloopevenement Vuurtorenloop Vlieland te Vlieland (FR) op zo 19 apr 2020. De volgende afstanden staan op het programma: 3 km – 5 km – 10 km – halve marathon hardlopen. Wilt u inschrijven voor dit loopevenement?  Raadpleeg hiervoor dan de website van de organisatie\nDe uitslagen van deze hardloopwedstrijd zijn te raadplegen via dezelfde website of via de bekende websites zoals uitslagen.nl\, runtimer en mylaps. Doet u mee met dit evenement\, zorg dan dat u goed voorbereid aan de start staat! Met een goed trainingsschema komt u een heel eind. Train bijvoorbeeld met start to run van Evy Gruyaert. Download de start to run mp3 bestanden en zet ze op uw telefoon. Oortjes in\, hit the play button en en rennen maar! \n\n\n\n\nMeer informatie over Vuurtorenloop Vlieland op Hardloopkalender.nl  \n  \n  \n 
URL:https://hardloopevenementen.com/loopagenda/vuurtorenloop-vlieland-vlieland-fr-6/
END:VEVENT
BEGIN:VEVENT
DTSTART;VALUE=DATE:20190414
DTEND;VALUE=DATE:20190415
DTSTAMP:20260425T183612
CREATED:20140603T215611Z
LAST-MODIFIED:20191114T112704Z
UID:17753-1555200000-1555200000@hardloopevenementen.com
SUMMARY:Vuurtorenloop Vlieland Vlieland (FR)
DESCRIPTION:Doe mee met het hardloopevenement Vuurtorenloop Vlieland te Vlieland (FR) op zo 14 apr 2019. De volgende afstanden staan op het programma: 9\,3 km – 18\,5 km hardlopen. Wilt u inschrijven voor dit loopevenement?  Raadpleeg hiervoor dan de website van de organisatie\nDe uitslagen van deze hardloopwedstrijd zijn te raadplegen via dezelfde website of via de bekende websites zoals uitslagen.nl\, runtimer en mylaps. Doet u mee met dit evenement\, zorg dan dat u goed voorbereid aan de start staat! Met een goed trainingsschema komt u een heel eind. Train bijvoorbeeld met start to run van Evy Gruyaert. Download de start to run mp3 bestanden en zet ze op uw telefoon. Oortjes in\, hit the play button en en rennen maar! \n\n\n\n\nMeer informatie over Vuurtorenloop Vlieland op Hardloopkalender.nl  \n  \n  \n 
URL:https://hardloopevenementen.com/loopagenda/vuurtorenloop-vlieland-vlieland-fr-4/
END:VEVENT
BEGIN:VEVENT
DTSTART;VALUE=DATE:20180422
DTEND;VALUE=DATE:20180423
DTSTAMP:20260425T183612
CREATED:20120424T030920Z
LAST-MODIFIED:20190423T120529Z
UID:16717-1524355200-1524355200@hardloopevenementen.com
SUMMARY:Vuurtorenloop Vlieland Vlieland (FR)
DESCRIPTION:Doe mee met het hardloopevenement Vuurtorenloop Vlieland te Vlieland (FR) op zo 22 apr 2018. De volgende afstanden staan op het programma: 9\,3 km – 18\,5 km hardlopen. Wilt u inschrijven voor dit loopevenement?  Raadpleeg hiervoor dan de website van de organisatie\nDe uitslagen van deze hardloopwedstrijd zijn te raadplegen via dezelfde website of via de bekende websites zoals uitslagen.nl\, runtimer en mylaps. Doet u mee met dit evenement\, zorg dan dat u goed voorbereid aan de start staat! Met een goed trainingsschema komt u een heel eind. Train bijvoorbeeld met start to run van Evy Gruyaert. Download de start to run mp3 bestanden en zet ze op uw telefoon. Oortjes in\, hit the play button en en rennen maar! \n\n\n\n\nMeer informatie over Vuurtorenloop Vlieland op Hardloopkalender.nl  \n  \n  \n 
URL:https://hardloopevenementen.com/loopagenda/vuurtorenloop-vlieland-vlieland-fr-3/
END:VEVENT
BEGIN:VEVENT
DTSTART;VALUE=DATE:20160424
DTEND;VALUE=DATE:20160425
DTSTAMP:20260425T183612
CREATED:20140903T072914Z
LAST-MODIFIED:20190423T112547Z
UID:12891-1461456000-1461456000@hardloopevenementen.com
SUMMARY:Vuurtorenloop Vlieland Vlieland (FR)
DESCRIPTION:Doe mee met het hardloopevenement Vuurtorenloop Vlieland te Vlieland (FR) op zo 24 apr 2016. De volgende afstanden staan op het programma: 1\,5 km – 5 km – 10 km – 15 km – halve marathon hardlopen. Wilt u inschrijven voor dit loopevenement?  Raadpleeg hiervoor dan de website van de organisatie\nDe uitslagen van deze hardloopwedstrijd zijn te raadplegen via dezelfde website of via de bekende websites zoals uitslagen.nl\, runtimer en mylaps. Doet u mee met dit evenement\, zorg dan dat u goed voorbereid aan de start staat! Met een goed trainingsschema komt u een heel eind. Train bijvoorbeeld met start to run van Evy Gruyaert. Download de start to run mp3 bestanden en zet ze op uw telefoon. Oortjes in\, hit the play button en en rennen maar! \n\n\n\n\nMeer informatie over Vuurtorenloop Vlieland op Hardloopkalender.nl  \nHet loopevenement Vuurtorenloop Vlieland te Vlieland vindt plaats op zondag 24 april 2016. \n  \n  \n 
URL:https://hardloopevenementen.com/loopagenda/vuurtorenloop-vlieland-vlieland-fr-2/
END:VEVENT
BEGIN:VEVENT
DTSTART;VALUE=DATE:20150426
DTEND;VALUE=DATE:20150427
DTSTAMP:20260425T183612
CREATED:20100123T092931Z
LAST-MODIFIED:20190423T111248Z
UID:10601-1430006400-1430006400@hardloopevenementen.com
SUMMARY:Vuurtorenloop Vlieland Vlieland (FR)
DESCRIPTION:Doe mee met het hardloopevenement Vuurtorenloop Vlieland te Vlieland (FR) op zo 26 apr 2015. De volgende afstanden staan op het programma: 5 km – 10 km – 15 km hardlopen. Wilt u inschrijven voor dit loopevenement?  Raadpleeg hiervoor dan de website van de organisatie\nDe uitslagen van deze hardloopwedstrijd zijn te raadplegen via dezelfde website of via de bekende websites zoals uitslagen.nl\, runtimer en mylaps. Doet u mee met dit evenement\, zorg dan dat u goed voorbereid aan de start staat! Met een goed trainingsschema komt u een heel eind. Train bijvoorbeeld met start to run van Evy Gruyaert. Download de start to run mp3 bestanden en zet ze op uw telefoon. Oortjes in\, hit the play button en en rennen maar! \n\n\n\n\nMeer informatie over Vuurtorenloop Vlieland op Hardloopkalender.nl  \nHet loopevenement Vuurtorenloop Vlieland te Vlieland vindt plaats op zondag 26 april 2015. \n  \n  \n 
URL:https://hardloopevenementen.com/loopagenda/vuurtorenloop-vlieland-vlieland-fr/
END:VEVENT
BEGIN:VEVENT
DTSTART;VALUE=DATE:20140511
DTEND;VALUE=DATE:20140512
DTSTAMP:20260425T183612
CREATED:20150317T225757Z
LAST-MODIFIED:20190423T105532Z
UID:34136-1399766400-1399766400@hardloopevenementen.com
SUMMARY:Vuurtorenloop Vlieland Vlieland (FR)
DESCRIPTION:Doe mee met het hardloopevenement Vuurtorenloop Vlieland te Vlieland (FR) op zo 11 mei 2014. De volgende afstanden staan op het programma: 5 km – 10 km – 15 km hardlopen. Wilt u inschrijven voor dit loopevenement?  Raadpleeg hiervoor dan de website van de organisatie\nDe uitslagen van deze hardloopwedstrijd zijn te raadplegen via dezelfde website of via de bekende websites zoals uitslagen.nl\, runtimer en mylaps. Doet u mee met dit evenement\, zorg dan dat u goed voorbereid aan de start staat! Met een goed trainingsschema komt u een heel eind. Train bijvoorbeeld met start to run van Evy Gruyaert. Download de start to run mp3 bestanden en zet ze op uw telefoon. Oortjes in\, hit the play button en en rennen maar! \n\n\n\n\nMeer informatie over Vuurtorenloop Vlieland op Hardloopkalender.nl  \nHet loopevenement Vuurtorenloop Vlieland te Vlieland vindt plaats op zondag 11 mei 2014. De loop wordt georganisseerd door SV Friesland. Klik hier voor het adres van de start (Google Maps). \n  \n  \n 
URL:https://hardloopevenementen.com/loopagenda/vuurtorenloop-vlieland-vlieland-fr-5/
END:VEVENT
BEGIN:VEVENT
DTSTART;VALUE=DATE:20131226
DTEND;VALUE=DATE:20131227
DTSTAMP:20260425T183612
CREATED:20150813T062003Z
LAST-MODIFIED:20190423T103717Z
UID:7875-1388016000-1388016000@hardloopevenementen.com
SUMMARY:Kerstcross Vlieland Vlieland (FR)
DESCRIPTION:Doe mee met het hardloopevenement Kerstcross Vlieland te Vlieland (FR) op do 26 dec 2013. De volgende afstanden staan op het programma: 5 km – 10 km hardlopen. Wilt u inschrijven voor dit loopevenement?  Raadpleeg hiervoor dan de website van de organisatie\nDe uitslagen van deze hardloopwedstrijd zijn te raadplegen via dezelfde website of via de bekende websites zoals uitslagen.nl\, runtimer en mylaps. Doet u mee met dit evenement\, zorg dan dat u goed voorbereid aan de start staat! Met een goed trainingsschema komt u een heel eind. Train bijvoorbeeld met start to run van Evy Gruyaert. Download de start to run mp3 bestanden en zet ze op uw telefoon. Oortjes in\, hit the play button en en rennen maar! \n\n\n\n\nMeer informatie over Kerstcross Vlieland op Hardloopkalender.nl  \nHet loopevenement Kerstcross Vlieland te Vlieland vindt plaats op woensdag 25 december 2013. De loop wordt georganisseerd door Stichting Triathlon Vlieland. Inschrijven is mogelijk vanaf 25 december 2012. Klik hier voor het adres van de start (Google Maps).Er is verkleedaccomodatie met douchemogelijkheid aanwezig. Er is EHBO aanwezig. Bijzonderheden: Het is al weer ruim zeven jaar geleden dat de harde kern van Loopgroep Vlieland .Voor meer informatie:T. Oosterbaanhalvemarathonvlieland@live.nl0532453845http:  www.vlieland-info.nl kerstcross kerstcross.html \n  \n  \n 
URL:https://hardloopevenementen.com/loopagenda/kerstcross-vlieland-vlieland-fr/
END:VEVENT
BEGIN:VEVENT
DTSTART;VALUE=DATE:20130811
DTEND;VALUE=DATE:20130812
DTSTAMP:20260425T183612
CREATED:20140209T044902Z
LAST-MODIFIED:20190423T104059Z
UID:31326-1376179200-1376179200@hardloopevenementen.com
SUMMARY:Stortemelk halve marathon Vlieland Vlieland (FR)
DESCRIPTION:Doe mee met het hardloopevenement Stortemelk halve marathon Vlieland te Vlieland (FR) op zo 11 aug 2013. De volgende afstanden staan op het programma: 5\,5 km – 10 km – halve marathon hardlopen. Wilt u inschrijven voor dit loopevenement?  Raadpleeg hiervoor dan de website van de organisatie\nDe uitslagen van deze hardloopwedstrijd zijn te raadplegen via dezelfde website of via de bekende websites zoals uitslagen.nl\, runtimer en mylaps. Doet u mee met dit evenement\, zorg dan dat u goed voorbereid aan de start staat! Met een goed trainingsschema komt u een heel eind. Train bijvoorbeeld met start to run van Evy Gruyaert. Download de start to run mp3 bestanden en zet ze op uw telefoon. Oortjes in\, hit the play button en en rennen maar! \n\n\n\n\nMeer informatie over Stortemelk halve marathon Vlieland op Hardloopkalender.nl  \nHet loopevenement Stortemelk halve marathon Vlieland te Vlieland vindt plaats op zondag 11 augustus 2013. De loop wordt georganisseerd door Stichting Triathlon Vlieland. Inschrijven is mogelijk vanaf 30 januari 2013. Klik hier voor het adres van de start (Google Maps).Er is verkleedaccomodatie met douchemogelijkheid aanwezig. Er is EHBO aanwezig. Voor meer informatie:T. Oosterbaanhalvemarathonvlieland@live.nl0562453845http:  www.halvemarathonvlieland.nl \n  \n  \n 
URL:https://hardloopevenementen.com/loopagenda/stortemelk-halve-marathon-vlieland-vlieland-fr/
END:VEVENT
BEGIN:VEVENT
DTSTART;VALUE=DATE:20130609
DTEND;VALUE=DATE:20130610
DTSTAMP:20260425T183612
CREATED:20130523T030844Z
LAST-MODIFIED:20190423T104217Z
UID:31623-1370736000-1370736000@hardloopevenementen.com
SUMMARY:vuurtorenloop vlieland 2013 Vlieland (FR)
DESCRIPTION:Doe mee met het hardloopevenement vuurtorenloop vlieland 2013 te Vlieland (FR) op zo 09 jun 2013. De volgende afstanden staan op het programma: 10 Engelse mijl hardlopen. Wilt u inschrijven voor dit loopevenement?  Raadpleeg hiervoor dan de website van de organisatie\nDe uitslagen van deze hardloopwedstrijd zijn te raadplegen via dezelfde website of via de bekende websites zoals uitslagen.nl\, runtimer en mylaps. Doet u mee met dit evenement\, zorg dan dat u goed voorbereid aan de start staat! Met een goed trainingsschema komt u een heel eind. Train bijvoorbeeld met start to run van Evy Gruyaert. Download de start to run mp3 bestanden en zet ze op uw telefoon. Oortjes in\, hit the play button en en rennen maar! \n\n\n\n\nMeer informatie over vuurtorenloop vlieland 2013 op Hardloopkalender.nl  \n5-10 zeemijlen. nieuwe loop ook wandelen over dezelfde afstanden \n  \n  \n 
URL:https://hardloopevenementen.com/loopagenda/vuurtorenloop-vlieland-2013-vlieland-fr/
END:VEVENT
END:VCALENDAR