BEGIN:VCALENDAR
VERSION:2.0
PRODID:-//Hardloopevenementen - ECPv6.15.14//NONSGML v1.0//EN
CALSCALE:GREGORIAN
METHOD:PUBLISH
X-WR-CALNAME:Hardloopevenementen
X-ORIGINAL-URL:https://hardloopevenementen.com
X-WR-CALDESC:Evenementen voor Hardloopevenementen
REFRESH-INTERVAL;VALUE=DURATION:PT1H
X-Robots-Tag:noindex
X-PUBLISHED-TTL:PT1H
BEGIN:VTIMEZONE
TZID:UTC
BEGIN:STANDARD
TZOFFSETFROM:+0000
TZOFFSETTO:+0000
TZNAME:UTC
DTSTART:20090101T000000
END:STANDARD
END:VTIMEZONE
BEGIN:VEVENT
DTSTART;VALUE=DATE:20141012
DTEND;VALUE=DATE:20141013
DTSTAMP:20260423T171619
CREATED:20100309T164756Z
LAST-MODIFIED:20190423T105034Z
UID:8947-1413072000-1413072000@hardloopevenementen.com
SUMMARY:Vopak Midden Voorne Loop Hellevoetsluis (ZH)
DESCRIPTION:Doe mee met het hardloopevenement Vopak Midden Voorne Loop te Hellevoetsluis (ZH) op zo 12 okt 2014. De volgende afstanden staan op het programma: 5 km – 10 km hardlopen. Wilt u inschrijven voor dit loopevenement?  Raadpleeg hiervoor dan de website van de organisatie\nDe uitslagen van deze hardloopwedstrijd zijn te raadplegen via dezelfde website of via de bekende websites zoals uitslagen.nl\, runtimer en mylaps. Doet u mee met dit evenement\, zorg dan dat u goed voorbereid aan de start staat! Met een goed trainingsschema komt u een heel eind. Train bijvoorbeeld met start to run van Evy Gruyaert. Download de start to run mp3 bestanden en zet ze op uw telefoon. Oortjes in\, hit the play button en en rennen maar! \n\n\n\n\nMeer informatie over Vopak Midden Voorne Loop op Hardloopkalender.nl  \nWegwedstrijd van 5 en 10km over asfalt voor zowel recreanten als wedstrijdlopers. Op de 10km prijzen nr’s 1 t m 3 in alle categorieën voor heren en dames. 5km alleen overall prijzen 1t m3 dames+heren. \n  \n  \n 
URL:https://hardloopevenementen.com/loopagenda/vopak-midden-voorne-loop-hellevoetsluis-zh-5/
END:VEVENT
BEGIN:VEVENT
DTSTART;VALUE=DATE:20131013
DTEND;VALUE=DATE:20131014
DTSTAMP:20260423T171619
CREATED:20100322T092627Z
LAST-MODIFIED:20190423T103915Z
UID:8297-1381622400-1381622400@hardloopevenementen.com
SUMMARY:Vopak Midden Voorne Loop Hellevoetsluis (ZH)
DESCRIPTION:Doe mee met het hardloopevenement Vopak Midden Voorne Loop te Hellevoetsluis (ZH) op zo 13 okt 2013. De volgende afstanden staan op het programma: 5 km – 10 km hardlopen. Wilt u inschrijven voor dit loopevenement?  Raadpleeg hiervoor dan de website van de organisatie\nDe uitslagen van deze hardloopwedstrijd zijn te raadplegen via dezelfde website of via de bekende websites zoals uitslagen.nl\, runtimer en mylaps. Doet u mee met dit evenement\, zorg dan dat u goed voorbereid aan de start staat! Met een goed trainingsschema komt u een heel eind. Train bijvoorbeeld met start to run van Evy Gruyaert. Download de start to run mp3 bestanden en zet ze op uw telefoon. Oortjes in\, hit the play button en en rennen maar! \n\n\n\n\nMeer informatie over Vopak Midden Voorne Loop op Hardloopkalender.nl  \nHet loopevenement Vopak Midden Voorne Loop te Hellevoetsluis vindt plaats op zondag 13 oktober 2013. De loop wordt georganisseerd door AV Pallas '93. Inschrijven is mogelijk vanaf 01 augustus 2013. Klik hier voor het adres van de start (Google Maps).Er is verkleedaccomodatie met douchemogelijkheid aanwezig. Er is EHBO aanwezig. Voor meer informatie:Sander Peterssander.peters@online.nl0181795245 \n  \n  \n 
URL:https://hardloopevenementen.com/loopagenda/vopak-midden-voorne-loop-hellevoetsluis-zh-4/
END:VEVENT
BEGIN:VEVENT
DTSTART;VALUE=DATE:20121014
DTEND;VALUE=DATE:20121015
DTSTAMP:20260423T171619
CREATED:20130816T181511Z
LAST-MODIFIED:20190423T102843Z
UID:7538-1350172800-1350172800@hardloopevenementen.com
SUMMARY:Vopak Midden Voorne Loop Hellevoetsluis (ZH)
DESCRIPTION:Doe mee met het hardloopevenement Vopak Midden Voorne Loop te Hellevoetsluis (ZH) op zo 14 okt 2012. De volgende afstanden staan op het programma: 0\,4 km – 0\,8 km – 5 km – 10 km hardlopen. Wilt u inschrijven voor dit loopevenement?  Raadpleeg hiervoor dan de website van de organisatie\nDe uitslagen van deze hardloopwedstrijd zijn te raadplegen via dezelfde website of via de bekende websites zoals uitslagen.nl\, runtimer en mylaps. Doet u mee met dit evenement\, zorg dan dat u goed voorbereid aan de start staat! Met een goed trainingsschema komt u een heel eind. Train bijvoorbeeld met start to run van Evy Gruyaert. Download de start to run mp3 bestanden en zet ze op uw telefoon. Oortjes in\, hit the play button en en rennen maar! \n\n\n\n\nMeer informatie over Vopak Midden Voorne Loop op Hardloopkalender.nl  \nHet loopevenement Vopak Midden Voorne Loop te Hellevoetsluis vindt plaats op zondag 14 oktober 2012. De loop wordt georganiseerd door AV Pallas '93. Inschrijven is mogelijk vanaf 17 juli 2012. Klik hier voor het adres van de start (Google Maps).Er is EHBO aanwezig. Afstand SoortloopInschrijfgeldStarttijdInfo1 km3\,0010.352 km3\,0010.505 km5\,0011.3010 km5\,0013.4510 km5\,0013.4721 km8\,0012.3031 km12\,0010.3042 km15\,0010.3042 km20\,0010.30Voor meer informatie:Sander Peterssander.peters@online.nl0618289387http:  www.pallas93.nl \n  \n  \n 
URL:https://hardloopevenementen.com/loopagenda/vopak-midden-voorne-loop-hellevoetsluis-zh-3/
END:VEVENT
BEGIN:VEVENT
DTSTART;VALUE=DATE:20111009
DTEND;VALUE=DATE:20111010
DTSTAMP:20260423T171619
CREATED:20160621T090812Z
LAST-MODIFIED:20190423T101812Z
UID:6187-1318118400-1318118400@hardloopevenementen.com
SUMMARY:Vopak Midden Voorne Loop Hellevoetsluis (ZH)
DESCRIPTION:Doe mee met het hardloopevenement Vopak Midden Voorne Loop te Hellevoetsluis (ZH) op zo 09 okt 2011. De volgende afstanden staan op het programma: 5 km – 10 km hardlopen. Wilt u inschrijven voor dit loopevenement?  Raadpleeg hiervoor dan de website van de organisatie\nDe uitslagen van deze hardloopwedstrijd zijn te raadplegen via dezelfde website of via de bekende websites zoals uitslagen.nl\, runtimer en mylaps. Doet u mee met dit evenement\, zorg dan dat u goed voorbereid aan de start staat! Met een goed trainingsschema komt u een heel eind. Train bijvoorbeeld met start to run van Evy Gruyaert. Download de start to run mp3 bestanden en zet ze op uw telefoon. Oortjes in\, hit the play button en en rennen maar! \n\n\n\n\nMeer informatie over Vopak Midden Voorne Loop op Hardloopkalender.nl  \nZondag 9 oktober 2011 wordt weer de Vopak Midden Voorne Loop gehouden in Hellevoetsluis.    Er zijn geldprijzen te verdienen in alle categoriën voor zowel heren als dames.  Premie parcoursrecord op de 10km is 75 euro eveneens voor dames en heren.    Verdere info: www.pallas93.nl \n  \n  \n 
URL:https://hardloopevenementen.com/loopagenda/vopak-midden-voorne-loop-hellevoetsluis-zh-2/
END:VEVENT
BEGIN:VEVENT
DTSTART;VALUE=DATE:20101010
DTEND;VALUE=DATE:20101011
DTSTAMP:20260423T171619
CREATED:20140319T192349Z
LAST-MODIFIED:20190423T100749Z
UID:3443-1286668800-1286668800@hardloopevenementen.com
SUMMARY:Vopak Midden Voorne Loop Hellevoetsluis (ZH)
DESCRIPTION:Doe mee met het hardloopevenement Vopak Midden Voorne Loop te Hellevoetsluis (ZH) op zo 10 okt 2010. De volgende afstanden staan op het programma: 5 km – 10 km hardlopen. Wilt u inschrijven voor dit loopevenement?  Raadpleeg hiervoor dan de website van de organisatie\nDe uitslagen van deze hardloopwedstrijd zijn te raadplegen via dezelfde website of via de bekende websites zoals uitslagen.nl\, runtimer en mylaps. Doet u mee met dit evenement\, zorg dan dat u goed voorbereid aan de start staat! Met een goed trainingsschema komt u een heel eind. Train bijvoorbeeld met start to run van Evy Gruyaert. Download de start to run mp3 bestanden en zet ze op uw telefoon. Oortjes in\, hit the play button en en rennen maar! \n\n\n\n\nMeer informatie over Vopak Midden Voorne Loop op Hardloopkalender.nl  \nGeldprijzen in alle categorieën voor zowel heren als dames. Premie voor verbetering parcoursrecord 10km. Extra prijzen overall klassement.    Starttijd: 12.00 uur  Douche- en kleedgelegenheid aanwezig. \n  \n  \n 
URL:https://hardloopevenementen.com/loopagenda/vopak-midden-voorne-loop-hellevoetsluis-zh/
END:VEVENT
END:VCALENDAR