BEGIN:VCALENDAR
VERSION:2.0
PRODID:-//Hardloopevenementen - ECPv6.15.14//NONSGML v1.0//EN
CALSCALE:GREGORIAN
METHOD:PUBLISH
X-ORIGINAL-URL:https://hardloopevenementen.com
X-WR-CALDESC:Evenementen voor Hardloopevenementen
REFRESH-INTERVAL;VALUE=DURATION:PT1H
X-Robots-Tag:noindex
X-PUBLISHED-TTL:PT1H
BEGIN:VTIMEZONE
TZID:UTC
BEGIN:STANDARD
TZOFFSETFROM:+0000
TZOFFSETTO:+0000
TZNAME:UTC
DTSTART:20090101T000000
END:STANDARD
END:VTIMEZONE
BEGIN:VEVENT
DTSTART;VALUE=DATE:20140921
DTEND;VALUE=DATE:20140922
DTSTAMP:20260421T044053
CREATED:20130615T150455Z
LAST-MODIFIED:20190423T105122Z
UID:33215-1411257600-1411257600@hardloopevenementen.com
SUMMARY:Workx Stratenloop Vreewijk Rotterdam (ZH)
DESCRIPTION:Doe mee met het hardloopevenement Workx Stratenloop Vreewijk te Rotterdam (ZH) op zo 21 sep 2014. De volgende afstanden staan op het programma: 5 km – 10 km hardlopen. Wilt u inschrijven voor dit loopevenement?  Raadpleeg hiervoor dan de website van de organisatie\nDe uitslagen van deze hardloopwedstrijd zijn te raadplegen via dezelfde website of via de bekende websites zoals uitslagen.nl\, runtimer en mylaps. Doet u mee met dit evenement\, zorg dan dat u goed voorbereid aan de start staat! Met een goed trainingsschema komt u een heel eind. Train bijvoorbeeld met start to run van Evy Gruyaert. Download de start to run mp3 bestanden en zet ze op uw telefoon. Oortjes in\, hit the play button en en rennen maar! \n\n\n\n\nMeer informatie over Workx Stratenloop Vreewijk op Hardloopkalender.nl  \nAFGELAST    5 en 10 km  Alle stratenlopen maken deel uit van het Stratenloopcircuit: het welbekende Workx Stratenloopklassement. \n  \n  \n 
URL:https://hardloopevenementen.com/loopagenda/workx-stratenloop-vreewijk-rotterdam-zh/
END:VEVENT
BEGIN:VEVENT
DTSTART;VALUE=DATE:20110911
DTEND;VALUE=DATE:20110912
DTSTAMP:20260421T044053
CREATED:20171028T095629Z
LAST-MODIFIED:20190423T101857Z
UID:6367-1315699200-1315699200@hardloopevenementen.com
SUMMARY:Stratenloop Vreewijk Rotterdam (ZH)
DESCRIPTION:Doe mee met het hardloopevenement Stratenloop Vreewijk te Rotterdam (ZH) op zo 11 sep 2011. De volgende afstanden staan op het programma: 5 km – 10 km hardlopen. Wilt u inschrijven voor dit loopevenement?  Raadpleeg hiervoor dan de website van de organisatie\nDe uitslagen van deze hardloopwedstrijd zijn te raadplegen via dezelfde website of via de bekende websites zoals uitslagen.nl\, runtimer en mylaps. Doet u mee met dit evenement\, zorg dan dat u goed voorbereid aan de start staat! Met een goed trainingsschema komt u een heel eind. Train bijvoorbeeld met start to run van Evy Gruyaert. Download de start to run mp3 bestanden en zet ze op uw telefoon. Oortjes in\, hit the play button en en rennen maar! \n\n\n\n\nMeer informatie over Stratenloop Vreewijk op Hardloopkalender.nl  \n11:00 start 5 en 10 km loop met eindprijzen en leuke\, originele herinnering. Parcours is afgezet stratenparcours. De Stratenloop is onderdeel van een groter sportevenement en heeft met attracties\, jaarmarkt en andere sportwedstrijden een gezellige ambiance. \n  \n  \n 
URL:https://hardloopevenementen.com/loopagenda/stratenloop-vreewijk-rotterdam-zh/
END:VEVENT
BEGIN:VEVENT
DTSTART;VALUE=DATE:20100912
DTEND;VALUE=DATE:20100913
DTSTAMP:20260421T044053
CREATED:20111120T020036Z
LAST-MODIFIED:20190423T100848Z
UID:3630-1284249600-1284249600@hardloopevenementen.com
SUMMARY:Ronde van Vreewijk Rotterdam (ZH)
DESCRIPTION:Doe mee met het hardloopevenement Ronde van Vreewijk te Rotterdam (ZH) op zo 12 sep 2010. De volgende afstanden staan op het programma: 5 km – 10 km hardlopen. Wilt u inschrijven voor dit loopevenement?  Raadpleeg hiervoor dan de website van de organisatie\nDe uitslagen van deze hardloopwedstrijd zijn te raadplegen via dezelfde website of via de bekende websites zoals uitslagen.nl\, runtimer en mylaps. Doet u mee met dit evenement\, zorg dan dat u goed voorbereid aan de start staat! Met een goed trainingsschema komt u een heel eind. Train bijvoorbeeld met start to run van Evy Gruyaert. Download de start to run mp3 bestanden en zet ze op uw telefoon. Oortjes in\, hit the play button en en rennen maar! \n\n\n\n\nMeer informatie over Ronde van Vreewijk op Hardloopkalender.nl  \nNadat WPR elders al met succes hardlopen aan het evenementenprogramma toevoegde\, kan tijdens de Ronde van Vreewijk op een prachtig parcours 5 of 10 kilometer worden hardgelopen.    De Groenezoom\, de laan waar de start- en finishstreep is getrokken\, staat vol prachtige bomen en ademt sfeer. Zeker rondom de start finish waar Het Witte Paard staat. Via de Lange Geer en de Enk komen de lopers op de Smeetslandsedijk. Via een kort stukje door de wijk komen de lopers terug op de Groenezoom. ‘We werken samen met MTK uit Krimpen\, dus we weten dat het voor lopers belangrijk is om de afstand exact te lopen. Zowel de 5 als de 10 kilometer zijn exact nagemeten met een afstandwiel. Het parcours is 2500 meter lang\, perfect dus!’    Kaartje parcours staat op de site.  Vreewijk is een mooi gedeelte van Rotterdam. De wijk doet nostalgisch aan en bij het binnenrijden van Vreewijk lijkt het of je een gezellig dorp binnenrijdt. \n  \n  \n 
URL:https://hardloopevenementen.com/loopagenda/ronde-van-vreewijk-rotterdam-zh/
END:VEVENT
END:VCALENDAR