BEGIN:VCALENDAR
VERSION:2.0
PRODID:-//Hardloopevenementen - ECPv6.15.14//NONSGML v1.0//EN
CALSCALE:GREGORIAN
METHOD:PUBLISH
X-ORIGINAL-URL:https://hardloopevenementen.com
X-WR-CALDESC:Evenementen voor Hardloopevenementen
REFRESH-INTERVAL;VALUE=DURATION:PT1H
X-Robots-Tag:noindex
X-PUBLISHED-TTL:PT1H
BEGIN:VTIMEZONE
TZID:UTC
BEGIN:STANDARD
TZOFFSETFROM:+0000
TZOFFSETTO:+0000
TZNAME:UTC
DTSTART:20110101T000000
END:STANDARD
END:VTIMEZONE
BEGIN:VEVENT
DTSTART;VALUE=DATE:20170614
DTEND;VALUE=DATE:20170615
DTSTAMP:20260421T015822
CREATED:20180322T190155Z
LAST-MODIFIED:20190423T114544Z
UID:14559-1497398400-1497398400@hardloopevenementen.com
SUMMARY:Bernhoven loopt warm Uden (NB)
DESCRIPTION:Doe mee met het hardloopevenement Bernhoven loopt warm te Uden (NB) op wo 14 jun 2017. De volgende afstanden staan op het programma: 5 km – 10 km hardlopen. Wilt u inschrijven voor dit loopevenement?  Raadpleeg hiervoor dan de website van de organisatie\nDe uitslagen van deze hardloopwedstrijd zijn te raadplegen via dezelfde website of via de bekende websites zoals uitslagen.nl\, runtimer en mylaps. Doet u mee met dit evenement\, zorg dan dat u goed voorbereid aan de start staat! Met een goed trainingsschema komt u een heel eind. Train bijvoorbeeld met start to run van Evy Gruyaert. Download de start to run mp3 bestanden en zet ze op uw telefoon. Oortjes in\, hit the play button en en rennen maar! \n\n\n\n\nMeer informatie over Bernhoven loopt warm op Hardloopkalender.nl  \n  \n  \n 
URL:https://hardloopevenementen.com/loopagenda/bernhoven-loopt-warm-uden-nb-3/
END:VEVENT
BEGIN:VEVENT
DTSTART;VALUE=DATE:20160608
DTEND;VALUE=DATE:20160609
DTSTAMP:20260421T015822
CREATED:20100410T180748Z
LAST-MODIFIED:20190423T112436Z
UID:12583-1465344000-1465344000@hardloopevenementen.com
SUMMARY:Bernhoven loopt warm Uden (NB)
DESCRIPTION:Doe mee met het hardloopevenement Bernhoven loopt warm te Uden (NB) op wo 08 jun 2016. De volgende afstanden staan op het programma: 5\,6 km – 11\,2 km hardlopen. Wilt u inschrijven voor dit loopevenement?  Raadpleeg hiervoor dan de website van de organisatie\nDe uitslagen van deze hardloopwedstrijd zijn te raadplegen via dezelfde website of via de bekende websites zoals uitslagen.nl\, runtimer en mylaps. Doet u mee met dit evenement\, zorg dan dat u goed voorbereid aan de start staat! Met een goed trainingsschema komt u een heel eind. Train bijvoorbeeld met start to run van Evy Gruyaert. Download de start to run mp3 bestanden en zet ze op uw telefoon. Oortjes in\, hit the play button en en rennen maar! \n\n\n\n\nMeer informatie over Bernhoven loopt warm op Hardloopkalender.nl  \nHet loopevenement Bernhoven loopt warm! te Uden vindt plaats op woensdag 08 juni 2016. \n  \n  \n 
URL:https://hardloopevenementen.com/loopagenda/bernhoven-loopt-warm-uden-nb-2/
END:VEVENT
BEGIN:VEVENT
DTSTART;VALUE=DATE:20150610
DTEND;VALUE=DATE:20150611
DTSTAMP:20260421T015822
CREATED:20180208T024805Z
LAST-MODIFIED:20190423T111135Z
UID:10309-1433894400-1433894400@hardloopevenementen.com
SUMMARY:Bernhoven loopt warm Uden (NB)
DESCRIPTION:Doe mee met het hardloopevenement Bernhoven loopt warm te Uden (NB) op wo 10 jun 2015. De volgende afstanden staan op het programma: 5 km – 10 km hardlopen. Wilt u inschrijven voor dit loopevenement?  Raadpleeg hiervoor dan de website van de organisatie\nDe uitslagen van deze hardloopwedstrijd zijn te raadplegen via dezelfde website of via de bekende websites zoals uitslagen.nl\, runtimer en mylaps. Doet u mee met dit evenement\, zorg dan dat u goed voorbereid aan de start staat! Met een goed trainingsschema komt u een heel eind. Train bijvoorbeeld met start to run van Evy Gruyaert. Download de start to run mp3 bestanden en zet ze op uw telefoon. Oortjes in\, hit the play button en en rennen maar! \n\n\n\n\nMeer informatie over Bernhoven loopt warm op Hardloopkalender.nl  \nLoop door natuurgebied De Maashorst. Wandelen ook mogelijk.  Opbrengst gaat naar de Vrienden van Bernhoven. \n  \n  \n 
URL:https://hardloopevenementen.com/loopagenda/bernhoven-loopt-warm-uden-nb/
END:VEVENT
BEGIN:VEVENT
DTSTART;VALUE=DATE:20120530
DTEND;VALUE=DATE:20120531
DTSTAMP:20260421T015822
CREATED:20130111T110749Z
LAST-MODIFIED:20190423T103209Z
UID:28296-1338336000-1338336000@hardloopevenementen.com
SUMMARY:Bernhoven loopt warm Uden (NB)
DESCRIPTION:Doe mee met het hardloopevenement Bernhoven loopt warm te Uden (NB) op wo 30 mei 2012. De volgende afstanden staan op het programma: 5\,6 km – 11\,2 km hardlopen. Wilt u inschrijven voor dit loopevenement?  Raadpleeg hiervoor dan de website van de organisatie\nDe uitslagen van deze hardloopwedstrijd zijn te raadplegen via dezelfde website of via de bekende websites zoals uitslagen.nl\, runtimer en mylaps. Doet u mee met dit evenement\, zorg dan dat u goed voorbereid aan de start staat! Met een goed trainingsschema komt u een heel eind. Train bijvoorbeeld met start to run van Evy Gruyaert. Download de start to run mp3 bestanden en zet ze op uw telefoon. Oortjes in\, hit the play button en en rennen maar! \n\n\n\n\nMeer informatie over Bernhoven loopt warm op Hardloopkalender.nl  \nOp woensdag 30 mei vindt het hardloopevenement Bernhoven loopt  warm voor de nieuwbouw plaats. Met dit evenement\, een initiatief van de Vrienden van Bernhoven\, gaan we samen de omgeving van het nieuwe ziekenhuis in de Maashorst verkennen. We lopen letterlijk en figuurlijk warm voor de ingebruikname van de nieuwe locatie in Uden.    Doel van de actie  Met deze sportieve activiteit lopen we bovendien voor een goed doel:  de inrichting van de fysiotherapieruimte van het nieuwe ziekenhuis. We willen deze ruimte graag inrichten met de modernste apparatuur\, zodat kinderen en volwassenen die bij ons revalideren zo snel mogelijk weer beter worden. Door samen te bewegen maken we het mogelijk dat  anderen ook weer soepel kunnen bewegen. Dat is het idee.    Deelname  Wilt u op een sportieve manier een bijdrage leveren aan de ontwikkeling  van het nieuwe ziekenhuis? Doe dan mee met Bernhoven loopt warm. U kunt individueel meedoen\, maar ook met uw collegas.  Er zijn twee afstanden: 5\,6 en 11\,2 kilometer.  Loop mee\, steun de Vrienden van Bernhoven én maak kans op de unieke Bernhovenbokaal! \n  \n  \n 
URL:https://hardloopevenementen.com/loopagenda/bernhoven-loopt-warm-uden-nb-4/
END:VEVENT
END:VCALENDAR