BEGIN:VCALENDAR
VERSION:2.0
PRODID:-//Hardloopevenementen - ECPv6.15.14//NONSGML v1.0//EN
CALSCALE:GREGORIAN
METHOD:PUBLISH
X-ORIGINAL-URL:https://hardloopevenementen.com
X-WR-CALDESC:Evenementen voor Hardloopevenementen
REFRESH-INTERVAL;VALUE=DURATION:PT1H
X-Robots-Tag:noindex
X-PUBLISHED-TTL:PT1H
BEGIN:VTIMEZONE
TZID:UTC
BEGIN:STANDARD
TZOFFSETFROM:+0000
TZOFFSETTO:+0000
TZNAME:UTC
DTSTART:20110101T000000
END:STANDARD
END:VTIMEZONE
BEGIN:VEVENT
DTSTART;VALUE=DATE:20191228
DTEND;VALUE=DATE:20191229
DTSTAMP:20260420T204422
CREATED:20180725T082442Z
LAST-MODIFIED:20190709T141114Z
UID:83510-1577491200-1577491200@hardloopevenementen.com
SUMMARY:Kievit Warmte Stratenloop Meneerse Middelharnis (ZH)
DESCRIPTION:Doe mee met het hardloopevenement Kievit Warmte Stratenloop Meneerse te Middelharnis (ZH) op za 28 dec 2019. De volgende afstanden staan op het programma: 0\,5 km – 1 km – 5 km – 10 km hardlopen. Wilt u inschrijven voor dit loopevenement?  Raadpleeg hiervoor dan de website van de organisatie\nDe uitslagen van deze hardloopwedstrijd zijn te raadplegen via dezelfde website of via de bekende websites zoals uitslagen.nl\, runtimer en mylaps. Doet u mee met dit evenement\, zorg dan dat u goed voorbereid aan de start staat! Met een goed trainingsschema komt u een heel eind. Train bijvoorbeeld met start to run van Evy Gruyaert. Download de start to run mp3 bestanden en zet ze op uw telefoon. Oortjes in\, hit the play button en en rennen maar! \n\n\n\n\nMeer informatie over Kievit Warmte Stratenloop Meneerse op Hardloopkalender.nl  \n  \n  \n 
URL:https://hardloopevenementen.com/loopagenda/kievit-warmte-stratenloop-meneerse-middelharnis-zh/
END:VEVENT
BEGIN:VEVENT
DTSTART;VALUE=DATE:20161217
DTEND;VALUE=DATE:20161218
DTSTAMP:20260420T204422
CREATED:20081006T200731Z
LAST-MODIFIED:20190423T112006Z
UID:11378-1481932800-1481932800@hardloopevenementen.com
SUMMARY:Kievit Warmte Pallandtloop Middelharnis (ZH)
DESCRIPTION:Doe mee met het hardloopevenement Kievit Warmte Pallandtloop te Middelharnis (ZH) op za 17 dec 2016. De volgende afstanden staan op het programma: 8 km – 10 Engelse mijl hardlopen. Wilt u inschrijven voor dit loopevenement?  Raadpleeg hiervoor dan de website van de organisatie\nDe uitslagen van deze hardloopwedstrijd zijn te raadplegen via dezelfde website of via de bekende websites zoals uitslagen.nl\, runtimer en mylaps. Doet u mee met dit evenement\, zorg dan dat u goed voorbereid aan de start staat! Met een goed trainingsschema komt u een heel eind. Train bijvoorbeeld met start to run van Evy Gruyaert. Download de start to run mp3 bestanden en zet ze op uw telefoon. Oortjes in\, hit the play button en en rennen maar! \n\n\n\n\nMeer informatie over Kievit Warmte Pallandtloop op Hardloopkalender.nl  \nHet loopevenement Kievit Warmte Pallandtloop te Middelharnis vindt plaats op zaterdag 17 december 2016. \n  \n  \n 
URL:https://hardloopevenementen.com/loopagenda/kievit-warmte-pallandtloop-middelharnis-zh-3/
END:VEVENT
BEGIN:VEVENT
DTSTART;VALUE=DATE:20151219
DTEND;VALUE=DATE:20151220
DTSTAMP:20260420T204422
CREATED:20070911T000058Z
LAST-MODIFIED:20190423T110638Z
UID:9200-1450483200-1450483200@hardloopevenementen.com
SUMMARY:Kievit Warmte Pallandtloop Middelharnis (ZH)
DESCRIPTION:Doe mee met het hardloopevenement Kievit Warmte Pallandtloop te Middelharnis (ZH) op za 19 dec 2015. De volgende afstanden staan op het programma: 1 km – 2 km – 5 km – 6 km – 8 km – 9 km – 10 km – 10 Engelse mijl hardlopen. Wilt u inschrijven voor dit loopevenement?  Raadpleeg hiervoor dan de website van de organisatie\nDe uitslagen van deze hardloopwedstrijd zijn te raadplegen via dezelfde website of via de bekende websites zoals uitslagen.nl\, runtimer en mylaps. Doet u mee met dit evenement\, zorg dan dat u goed voorbereid aan de start staat! Met een goed trainingsschema komt u een heel eind. Train bijvoorbeeld met start to run van Evy Gruyaert. Download de start to run mp3 bestanden en zet ze op uw telefoon. Oortjes in\, hit the play button en en rennen maar! \n\n\n\n\nMeer informatie over Kievit Warmte Pallandtloop op Hardloopkalender.nl  \nHet loopevenement Kievit Warmte Pallandtloop te Middelharnis vindt plaats op zaterdag 19 december 2015. \n  \n  \n 
URL:https://hardloopevenementen.com/loopagenda/kievit-warmte-pallandtloop-middelharnis-zh-2/
END:VEVENT
BEGIN:VEVENT
DTSTART;VALUE=DATE:20141220
DTEND;VALUE=DATE:20141221
DTSTAMP:20260420T204422
CREATED:20110415T060841Z
LAST-MODIFIED:20190423T104835Z
UID:8506-1419033600-1419033600@hardloopevenementen.com
SUMMARY:Kievit Warmte Pallandtloop Middelharnis (ZH)
DESCRIPTION:Doe mee met het hardloopevenement Kievit Warmte Pallandtloop te Middelharnis (ZH) op za 20 dec 2014. De volgende afstanden staan op het programma: 0\,5 km – 1 km – 2 km – 8 km – 10 Engelse mijl hardlopen. Wilt u inschrijven voor dit loopevenement?  Raadpleeg hiervoor dan de website van de organisatie\nDe uitslagen van deze hardloopwedstrijd zijn te raadplegen via dezelfde website of via de bekende websites zoals uitslagen.nl\, runtimer en mylaps. Doet u mee met dit evenement\, zorg dan dat u goed voorbereid aan de start staat! Met een goed trainingsschema komt u een heel eind. Train bijvoorbeeld met start to run van Evy Gruyaert. Download de start to run mp3 bestanden en zet ze op uw telefoon. Oortjes in\, hit the play button en en rennen maar! \n\n\n\n\nMeer informatie over Kievit Warmte Pallandtloop op Hardloopkalender.nl  \nHet loopevenement Kievit Warmte Pallandtloop te Middelharnis vindt plaats op zaterdag 20 december 2014. De loop wordt georganisseerd door MSV en AV Flakkee. Klik hier voor het adres van de start (Google Maps). \n  \n  \n 
URL:https://hardloopevenementen.com/loopagenda/kievit-warmte-pallandtloop-middelharnis-zh/
END:VEVENT
BEGIN:VEVENT
DTSTART;VALUE=DATE:20131221
DTEND;VALUE=DATE:20131222
DTSTAMP:20260420T204422
CREATED:20071105T024821Z
LAST-MODIFIED:20190423T103726Z
UID:7912-1387584000-1387584000@hardloopevenementen.com
SUMMARY:20e Kievit Warmte Pallandtloop Middelharnis (ZH)
DESCRIPTION:Doe mee met het hardloopevenement 20e Kievit Warmte Pallandtloop te Middelharnis (ZH) op za 21 dec 2013. De volgende afstanden staan op het programma: 0\,5 km – 1 km – 2 km – 8 km – 10 Engelse mijl hardlopen. Wilt u inschrijven voor dit loopevenement?  Raadpleeg hiervoor dan de website van de organisatie\nDe uitslagen van deze hardloopwedstrijd zijn te raadplegen via dezelfde website of via de bekende websites zoals uitslagen.nl\, runtimer en mylaps. Doet u mee met dit evenement\, zorg dan dat u goed voorbereid aan de start staat! Met een goed trainingsschema komt u een heel eind. Train bijvoorbeeld met start to run van Evy Gruyaert. Download de start to run mp3 bestanden en zet ze op uw telefoon. Oortjes in\, hit the play button en en rennen maar! \n\n\n\n\nMeer informatie over 20e Kievit Warmte Pallandtloop op Hardloopkalender.nl  \nHet loopevenement 20e Kievit Warmte Pallandtloop te Middelharnis vindt plaats op zaterdag 21 december 2013. De loop wordt georganisseerd door MSV en AV Flakkee. Inschrijven is mogelijk vanaf 01 oktober 2013. Klik hier voor het adres van de start (Google Maps).Er is verkleedaccomodatie met douchemogelijkheid aanwezig. Er is EHBO aanwezig. Bijzonderheden: 4e loop Van Buuren Running Circuit.Voor meer informatie:Riet van Puttenmail@avflakkee.nl0187669525http:  avflakkee.nl \n  \n  \n 
URL:https://hardloopevenementen.com/loopagenda/20e-kievit-warmte-pallandtloop-middelharnis-zh/
END:VEVENT
BEGIN:VEVENT
DTSTART;VALUE=DATE:20121222
DTEND;VALUE=DATE:20121223
DTSTAMP:20260420T204422
CREATED:20140707T034504Z
LAST-MODIFIED:20190423T102700Z
UID:7154-1356134400-1356134400@hardloopevenementen.com
SUMMARY:19e Kievit Warmte Pallandtloop Middelharnis (ZH)
DESCRIPTION:Doe mee met het hardloopevenement 19e Kievit Warmte Pallandtloop te Middelharnis (ZH) op za 22 dec 2012. De volgende afstanden staan op het programma: 0\,5 km – 1 km – 2 km – 8 km – 10 Engelse mijl hardlopen. Wilt u inschrijven voor dit loopevenement?  Raadpleeg hiervoor dan de website van de organisatie\nDe uitslagen van deze hardloopwedstrijd zijn te raadplegen via dezelfde website of via de bekende websites zoals uitslagen.nl\, runtimer en mylaps. Doet u mee met dit evenement\, zorg dan dat u goed voorbereid aan de start staat! Met een goed trainingsschema komt u een heel eind. Train bijvoorbeeld met start to run van Evy Gruyaert. Download de start to run mp3 bestanden en zet ze op uw telefoon. Oortjes in\, hit the play button en en rennen maar! \n\n\n\n\nMeer informatie over 19e Kievit Warmte Pallandtloop op Hardloopkalender.nl  \nHet loopevenement 19e Kievit Warmte Pallandtloop te Middelharnis vindt plaats op zaterdag 22 december 2012. De loop wordt georganiseerd door MSV en AV Flakkee. Inschrijven is mogelijk vanaf 01 oktober 2012. Klik hier voor het adres van de start (Google Maps).Er is EHBO aanwezig. Afstand SoortloopInschrijfgeldStarttijdInfo500 km2\,5011.301000 km2\,5011.352000 km2\,5011.408 km6\,5013.0016.1 km6\,5013.00Voor meer informatie:Riet van Puttenmail@avflakkee.nl0187669525http:  avflakkee.nl \n  \n  \n 
URL:https://hardloopevenementen.com/loopagenda/19e-kievit-warmte-pallandtloop-middelharnis-zh/
END:VEVENT
END:VCALENDAR