BEGIN:VCALENDAR
VERSION:2.0
PRODID:-//Hardloopevenementen - ECPv6.15.14//NONSGML v1.0//EN
CALSCALE:GREGORIAN
METHOD:PUBLISH
X-ORIGINAL-URL:https://hardloopevenementen.com
X-WR-CALDESC:Evenementen voor Hardloopevenementen
REFRESH-INTERVAL;VALUE=DURATION:PT1H
X-Robots-Tag:noindex
X-PUBLISHED-TTL:PT1H
BEGIN:VTIMEZONE
TZID:UTC
BEGIN:STANDARD
TZOFFSETFROM:+0000
TZOFFSETTO:+0000
TZNAME:UTC
DTSTART:20070101T000000
END:STANDARD
END:VTIMEZONE
BEGIN:VEVENT
DTSTART;VALUE=DATE:20080525
DTEND;VALUE=DATE:20080526
DTSTAMP:20260421T183019
CREATED:20161129T133227Z
LAST-MODIFIED:20190423T094716Z
UID:19668-1211673600-1211673600@hardloopevenementen.com
SUMMARY:Gezond de Wereldbol Rond Zwolle (OV)
DESCRIPTION:Doe mee met het hardloopevenement Gezond de Wereldbol Rond te Zwolle (OV) op zo 25 mei 2008. De volgende afstanden staan op het programma: 30 km hardlopen. Wilt u inschrijven voor dit loopevenement?  Raadpleeg hiervoor dan de website van de organisatie\nDe uitslagen van deze hardloopwedstrijd zijn te raadplegen via dezelfde website of via de bekende websites zoals uitslagen.nl\, runtimer en mylaps. Doet u mee met dit evenement\, zorg dan dat u goed voorbereid aan de start staat! Met een goed trainingsschema komt u een heel eind. Train bijvoorbeeld met start to run van Evy Gruyaert. Download de start to run mp3 bestanden en zet ze op uw telefoon. Oortjes in\, hit the play button en en rennen maar! \n\n\n\n\nMeer informatie over Gezond de Wereldbol Rond op Hardloopkalender.nl  \nOp zondag 25 mei 2008 organiseren de stichtingen Tenzing Hillary Everest Marathon en Stichting Loopsport Zwolle voor de eerste keer een sponsorloop onder de naam Gezond de Wereldbol rond.     Deze sponsorloop is ten behoeve van kinderziekenhuis Kanti in Kathmandu Nepal. Het doel van de sponsorloop is geld in te zamelen voor medicijnen\, speelgoed en medische apparatuur. Hieraan heeft het kinderziekenhuis een schrijnend te kort.     We willen deze sponsorloop jaarlijks organiseren met ieder jaar een ander goed doel. Gezond de wereldbol rond vindt plaats in Park de Wezenlanden te Zwolle. Het evenement wordt ondersteund door 7 grote sportmerken \n  \n  \n 
URL:https://hardloopevenementen.com/loopagenda/gezond-de-wereldbol-rond-zwolle-ov/
END:VEVENT
END:VCALENDAR