BEGIN:VCALENDAR
VERSION:2.0
PRODID:-//Hardloopevenementen - ECPv6.15.14//NONSGML v1.0//EN
CALSCALE:GREGORIAN
METHOD:PUBLISH
X-WR-CALNAME:Hardloopevenementen
X-ORIGINAL-URL:https://hardloopevenementen.com
X-WR-CALDESC:Evenementen voor Hardloopevenementen
REFRESH-INTERVAL;VALUE=DURATION:PT1H
X-Robots-Tag:noindex
X-PUBLISHED-TTL:PT1H
BEGIN:VTIMEZONE
TZID:UTC
BEGIN:STANDARD
TZOFFSETFROM:+0000
TZOFFSETTO:+0000
TZNAME:UTC
DTSTART:20110101T000000
END:STANDARD
END:VTIMEZONE
BEGIN:VEVENT
DTSTART;VALUE=DATE:20130427
DTEND;VALUE=DATE:20130428
DTSTAMP:20260420T193619
CREATED:20180930T135849Z
LAST-MODIFIED:20190423T104314Z
UID:31840-1367020800-1367020800@hardloopevenementen.com
SUMMARY:Wezepse run en trail Wezep\, gemeente Oldebroek (GE)
DESCRIPTION:Doe mee met het hardloopevenement Wezepse run en trail te Wezep\, gemeente Oldebroek (GE) op za 27 apr 2013. De volgende afstanden staan op het programma: 2\,5 km – 5 km – 10 km – 27 km hardlopen. Wilt u inschrijven voor dit loopevenement?  Raadpleeg hiervoor dan de website van de organisatie\nDe uitslagen van deze hardloopwedstrijd zijn te raadplegen via dezelfde website of via de bekende websites zoals uitslagen.nl\, runtimer en mylaps. Doet u mee met dit evenement\, zorg dan dat u goed voorbereid aan de start staat! Met een goed trainingsschema komt u een heel eind. Train bijvoorbeeld met start to run van Evy Gruyaert. Download de start to run mp3 bestanden en zet ze op uw telefoon. Oortjes in\, hit the play button en en rennen maar! \n\n\n\n\nMeer informatie over Wezepse run en trail op Hardloopkalender.nl  \nStichting TwinsAllround organiseert samen met De Gemzen en Gemeente Oldebroek de Wezepse Run en Trail.    WezepseRun;  De startlocatie is bij camping de Heidegaard. Het aanbod bestaat uit 750m voor kinderen\, 2\,5\, 5 en 10km voor de volwassenen en er is zelfs keuze voor een estafetteloop met familie of vrienden\, een businessrun met uw collegas of FunRun wat in het teken staat van doe is gek. Een hardloopwedstrijd voor iedereen.    Wezepsetrail:   Op 27 april start de eerste trailrun dwars door de Wezepse Heide. Een mooi stuk natuur en afwisselende landschappen; prachtig rennen dus!     Voor meer informatie en de verschillende tarieven: www.wezepseloop.nl \n  \n  \n 
URL:https://hardloopevenementen.com/loopagenda/wezepse-run-en-trail-wezep-gemeente-oldebroek-ge/
END:VEVENT
BEGIN:VEVENT
DTSTART;VALUE=DATE:20120427
DTEND;VALUE=DATE:20120428
DTSTAMP:20260420T193619
CREATED:20130330T142240Z
LAST-MODIFIED:20190423T103252Z
UID:28491-1335484800-1335484800@hardloopevenementen.com
SUMMARY:Wezepse voorjaarsloop Wezep\, gemeente Oldebroek (GE)
DESCRIPTION:Doe mee met het hardloopevenement Wezepse voorjaarsloop te Wezep\, gemeente Oldebroek (GE) op vr 27 apr 2012. De volgende afstanden staan op het programma: 1\,1 km – 1\,2 km – 1\,5 km – 2 km hardlopen. Wilt u inschrijven voor dit loopevenement?  Raadpleeg hiervoor dan de website van de organisatie\nDe uitslagen van deze hardloopwedstrijd zijn te raadplegen via dezelfde website of via de bekende websites zoals uitslagen.nl\, runtimer en mylaps. Doet u mee met dit evenement\, zorg dan dat u goed voorbereid aan de start staat! Met een goed trainingsschema komt u een heel eind. Train bijvoorbeeld met start to run van Evy Gruyaert. Download de start to run mp3 bestanden en zet ze op uw telefoon. Oortjes in\, hit the play button en en rennen maar! \n\n\n\n\nMeer informatie over Wezepse voorjaarsloop op Hardloopkalender.nl  \nDe deelnemers kunnen 4 verschillende routes wandelen. De lengte van de routes die we dit jaar gaan wandelen zijn 10\, 20\, 30 of 40 km.         Ook hebben we dit jaar een speciale route ontwikkeld voor kinderen zodat de mogelijkheid bestaat dat gezinnen met elkaar lekker kunnen wandelen.             Wezepse loop    Ren jij mee met de Wezepse loop. Beginners of gevorderen renners  iedereen is van harte uitgenodigd om deel te nemen.         Atletiek vereniging de Gemzen biedt voor deelnemers die dit wensen een beginners cursus aan of gevorderen cursus. Meer informatie hierover volgt vanaf januari. \n  \n  \n 
URL:https://hardloopevenementen.com/loopagenda/wezepse-voorjaarsloop-wezep-gemeente-oldebroek-ge/
END:VEVENT
END:VCALENDAR