BEGIN:VCALENDAR
VERSION:2.0
PRODID:-//Hardloopevenementen - ECPv6.15.14//NONSGML v1.0//EN
CALSCALE:GREGORIAN
METHOD:PUBLISH
X-ORIGINAL-URL:https://hardloopevenementen.com
X-WR-CALDESC:Evenementen voor Hardloopevenementen
REFRESH-INTERVAL;VALUE=DURATION:PT1H
X-Robots-Tag:noindex
X-PUBLISHED-TTL:PT1H
BEGIN:VTIMEZONE
TZID:UTC
BEGIN:STANDARD
TZOFFSETFROM:+0000
TZOFFSETTO:+0000
TZNAME:UTC
DTSTART:20070101T000000
END:STANDARD
END:VTIMEZONE
BEGIN:VEVENT
DTSTART;VALUE=DATE:20110220
DTEND;VALUE=DATE:20110221
DTSTAMP:20260424T152408
CREATED:20070325T182918Z
LAST-MODIFIED:20190423T102350Z
UID:26853-1298160000-1298160000@hardloopevenementen.com
SUMMARY:Wildenhoekloop Kruisland\, gemeente Steenbergen (NB)
DESCRIPTION:Doe mee met het hardloopevenement Wildenhoekloop te Kruisland\, gemeente Steenbergen (NB) op zo 20 feb 2011. De volgende afstanden staan op het programma: 7\,5 km – 15 km hardlopen. Wilt u inschrijven voor dit loopevenement?  Raadpleeg hiervoor dan de website van de organisatie\nDe uitslagen van deze hardloopwedstrijd zijn te raadplegen via dezelfde website of via de bekende websites zoals uitslagen.nl\, runtimer en mylaps. Doet u mee met dit evenement\, zorg dan dat u goed voorbereid aan de start staat! Met een goed trainingsschema komt u een heel eind. Train bijvoorbeeld met start to run van Evy Gruyaert. Download de start to run mp3 bestanden en zet ze op uw telefoon. Oortjes in\, hit the play button en en rennen maar! \n\n\n\n\nMeer informatie over Wildenhoekloop op Hardloopkalender.nl  \nHet loopevenement Wildenhoekloop te Kruisland vindt plaats op zondag 20 februari 2011. De loop wordt georganiseerd door Toerclub Kruisland. Inschrijven is mogelijk vanaf 20 februari 2011. Klik hier voor het adres van de start (Google Maps).Er is verkleedaccomodatie met douchemogelijkheid aanwezig. Er is EHBO aanwezig. Bijzonderheden: Tot vorig jaar 21km \, nu teruggebracht naar 15km.Afstand(km)Inschrijfgeld(€)Starttijd15\,0€4\,0011UUR7.5€4\,0011UURVoor meer informatie:A. Brokbrok116@zonnet.nl0165512728http:  www.tckruisland.nl \n  \n  \n 
URL:https://hardloopevenementen.com/loopagenda/wildenhoekloop-kruisland-gemeente-steenbergen-nb-2/
END:VEVENT
BEGIN:VEVENT
DTSTART;VALUE=DATE:20100221
DTEND;VALUE=DATE:20100222
DTSTAMP:20260424T152408
CREATED:20150215T070603Z
LAST-MODIFIED:20190423T101355Z
UID:23943-1266710400-1266710400@hardloopevenementen.com
SUMMARY:Wildenhoekloop Kruisland\, gemeente Steenbergen (NB)
DESCRIPTION:Doe mee met het hardloopevenement Wildenhoekloop te Kruisland\, gemeente Steenbergen (NB) op zo 21 feb 2010. De volgende afstanden staan op het programma: 6\,5 km – 13 km – halve marathon hardlopen. Wilt u inschrijven voor dit loopevenement?  Raadpleeg hiervoor dan de website van de organisatie\nDe uitslagen van deze hardloopwedstrijd zijn te raadplegen via dezelfde website of via de bekende websites zoals uitslagen.nl\, runtimer en mylaps. Doet u mee met dit evenement\, zorg dan dat u goed voorbereid aan de start staat! Met een goed trainingsschema komt u een heel eind. Train bijvoorbeeld met start to run van Evy Gruyaert. Download de start to run mp3 bestanden en zet ze op uw telefoon. Oortjes in\, hit the play button en en rennen maar! \n\n\n\n\nMeer informatie over Wildenhoekloop op Hardloopkalender.nl  \nDit loopevenement wordt georganiseerd door Toerclub Kruisland.De eerste afstand (of onderdeel) start om 11:00.Het adres van de start en de finish is Meestoof 20Categorie(ën): mannen\, vrouwenVooraf inschrijven is mogelijk vanaf 21 februari 2010 tot 21 februari 2010.Inschrijven op de dag van de loop is mogelijk (vanaf 9.30 uur) op dit adres: Cafe de Commerce  Markt 5  4756 Kruisland.Meer informatie:Contactpersoon: N. FrijtersTel.: 0165512483Email: nfrijters13@gmail.comEr is een kleedaccomodatie aanwezig. Douchen is niet mogelijk.Het parcours is verhard.Vorig jaar deden er 200 lopers mee aan dit evenement.Overige bijzonderheden:  40 jaar Tourclub Kruisland dus voor ieder een leuke herinnering \n  \n  \n 
URL:https://hardloopevenementen.com/loopagenda/wildenhoekloop-kruisland-gemeente-steenbergen-nb/
END:VEVENT
BEGIN:VEVENT
DTSTART;VALUE=DATE:20080224
DTEND;VALUE=DATE:20080225
DTSTAMP:20260424T152408
CREATED:20101227T022140Z
LAST-MODIFIED:20190423T094859Z
UID:20119-1203811200-1203811200@hardloopevenementen.com
SUMMARY:Wildenhoekloop Kruisland
DESCRIPTION:Doe mee met het hardloopevenement Wildenhoekloop te Kruisland op zo 24 feb 2008. De volgende afstanden staan op het programma: 6 km – 13 km – halve marathon hardlopen. Wilt u inschrijven voor dit loopevenement?  Raadpleeg hiervoor dan de website van de organisatie\nDe uitslagen van deze hardloopwedstrijd zijn te raadplegen via dezelfde website of via de bekende websites zoals uitslagen.nl\, runtimer en mylaps. Doet u mee met dit evenement\, zorg dan dat u goed voorbereid aan de start staat! Met een goed trainingsschema komt u een heel eind. Train bijvoorbeeld met start to run van Evy Gruyaert. Download de start to run mp3 bestanden en zet ze op uw telefoon. Oortjes in\, hit the play button en en rennen maar! \n\n\n\n\nMeer informatie over Wildenhoekloop op Hardloopkalender.nl  \nStart  6-13-21\,1 km 11:00 uur \n  \n  \n 
URL:https://hardloopevenementen.com/loopagenda/wildenhoekloop-kruisland/
END:VEVENT
END:VCALENDAR