BEGIN:VCALENDAR
VERSION:2.0
PRODID:-//Hardloopevenementen - ECPv6.15.14//NONSGML v1.0//EN
CALSCALE:GREGORIAN
METHOD:PUBLISH
X-WR-CALNAME:Hardloopevenementen
X-ORIGINAL-URL:https://hardloopevenementen.com
X-WR-CALDESC:Evenementen voor Hardloopevenementen
REFRESH-INTERVAL;VALUE=DURATION:PT1H
X-Robots-Tag:noindex
X-PUBLISHED-TTL:PT1H
BEGIN:VTIMEZONE
TZID:UTC
BEGIN:STANDARD
TZOFFSETFROM:+0000
TZOFFSETTO:+0000
TZNAME:UTC
DTSTART:20080101T000000
END:STANDARD
END:VTIMEZONE
BEGIN:VEVENT
DTSTART;VALUE=DATE:20121202
DTEND;VALUE=DATE:20121203
DTSTAMP:20260425T150830
CREATED:20100630T123257Z
LAST-MODIFIED:20190423T102725Z
UID:7252-1354406400-1354406400@hardloopevenementen.com
SUMMARY:Wincanton Montferland Run 's-Heerenberg\, gemeente Montferland (GE)
DESCRIPTION:Doe mee met het hardloopevenement Wincanton Montferland Run te ‘s-Heerenberg\, gemeente Montferland (GE) op zo 02 dec 2012. De volgende afstanden staan op het programma: 1 km – 7\,5 km – 15 km hardlopen. Wilt u inschrijven voor dit loopevenement?  Raadpleeg hiervoor dan de website van de organisatie\nDe uitslagen van deze hardloopwedstrijd zijn te raadplegen via dezelfde website of via de bekende websites zoals uitslagen.nl\, runtimer en mylaps. Doet u mee met dit evenement\, zorg dan dat u goed voorbereid aan de start staat! Met een goed trainingsschema komt u een heel eind. Train bijvoorbeeld met start to run van Evy Gruyaert. Download de start to run mp3 bestanden en zet ze op uw telefoon. Oortjes in\, hit the play button en en rennen maar! \n\n\n\n\nMeer informatie over Wincanton Montferland Run op Hardloopkalender.nl  \nHet loopevenement Wincanton Montferland Run te ‘s-Heerenberg vindt plaats op zondag 02 december 2012. De loop wordt georganiseerd door Argo Atletiek. Inschrijven is mogelijk vanaf 01 augustus 2011. Klik hier voor het adres van de start (Google Maps).Er is EHBO aanwezig. Bijzonderheden: Prachtig parcours in het heuvelachtige Montferland.Afstand SoortloopInschrijfgeldStarttijdInfo15 km9\,0012.007.5 km5\,0010.451 km2\,5012.15Voor meer informatie:Carlo Janseninfo@montferlandrun.nl0314650772http:  www.montferlandrun.nl \n  \n  \n 
URL:https://hardloopevenementen.com/loopagenda/wincanton-montferland-run-s-heerenberg-gemeente-montferland-ge-3/
END:VEVENT
BEGIN:VEVENT
DTSTART;VALUE=DATE:20111204
DTEND;VALUE=DATE:20111205
DTSTAMP:20260425T150830
CREATED:20110313T183902Z
LAST-MODIFIED:20190423T101652Z
UID:5865-1322956800-1322956800@hardloopevenementen.com
SUMMARY:Wincanton Montferland Run 's-Heerenberg\, gemeente Montferland (GE)
DESCRIPTION:Doe mee met het hardloopevenement Wincanton Montferland Run te ‘s-Heerenberg\, gemeente Montferland (GE) op zo 04 dec 2011. De volgende afstanden staan op het programma: 1 km – 7\,5 km – 15 km hardlopen. Wilt u inschrijven voor dit loopevenement?  Raadpleeg hiervoor dan de website van de organisatie\nDe uitslagen van deze hardloopwedstrijd zijn te raadplegen via dezelfde website of via de bekende websites zoals uitslagen.nl\, runtimer en mylaps. Doet u mee met dit evenement\, zorg dan dat u goed voorbereid aan de start staat! Met een goed trainingsschema komt u een heel eind. Train bijvoorbeeld met start to run van Evy Gruyaert. Download de start to run mp3 bestanden en zet ze op uw telefoon. Oortjes in\, hit the play button en en rennen maar! \n\n\n\n\nMeer informatie over Wincanton Montferland Run op Hardloopkalender.nl  \nHet loopevenement Wincanton Montferland Run te ‘s-Heerenberg vindt plaats op zondag 04 december 2011. De loop wordt georganiseerd door AV Argo. Inschrijven is mogelijk vanaf 01 augustus 2011. Klik hier voor het adres van de start (Google Maps).Er is verkleedaccomodatie met douchemogelijkheid aanwezig. Er is EHBO aanwezig. Bijzonderheden: Prachtig parcours in het heuvelachtige Montferland.Afstand(km)Inschrijfgeld()Starttijd15km9\,0012.007\,5kmFunRun5\,0010.451\,0kmjeugd2\,5012.15Voor meer informatie:Carlo Janseninfo@montferlandrun.nl0314650772http:  www.montferlandrun.nl \n  \n  \n 
URL:https://hardloopevenementen.com/loopagenda/wincanton-montferland-run-s-heerenberg-gemeente-montferland-ge-2/
END:VEVENT
BEGIN:VEVENT
DTSTART;VALUE=DATE:20101205
DTEND;VALUE=DATE:20101206
DTSTAMP:20260425T150830
CREATED:20140507T232143Z
LAST-MODIFIED:20190423T100604Z
UID:3147-1291507200-1291507200@hardloopevenementen.com
SUMMARY:Wincanton Montferland Run 's-Heerenberg\, gemeente Montferland (GE)
DESCRIPTION:Doe mee met het hardloopevenement Wincanton Montferland Run te ‘s-Heerenberg\, gemeente Montferland (GE) op zo 05 dec 2010. De volgende afstanden staan op het programma: 1 km – 7\,5 km – 15 km hardlopen. Wilt u inschrijven voor dit loopevenement?  Raadpleeg hiervoor dan de website van de organisatie\nDe uitslagen van deze hardloopwedstrijd zijn te raadplegen via dezelfde website of via de bekende websites zoals uitslagen.nl\, runtimer en mylaps. Doet u mee met dit evenement\, zorg dan dat u goed voorbereid aan de start staat! Met een goed trainingsschema komt u een heel eind. Train bijvoorbeeld met start to run van Evy Gruyaert. Download de start to run mp3 bestanden en zet ze op uw telefoon. Oortjes in\, hit the play button en en rennen maar! \n\n\n\n\nMeer informatie over Wincanton Montferland Run op Hardloopkalender.nl  \nDit loopevenement wordt georganiseerd door AV Argo.De eerste afstand (of onderdeel) start om 10:45.Het adres van de start is Slotlaan 10 Het adres van de finish is Marktstraat1Categorie(ën): mannen\, vrouwen\, jeugdVooraf inschrijven is mogelijk vanaf 01 augustus 2010 tot niet van toepassing.Inschrijven op de dag van de loop is mogelijk (vanaf 9.30 uur) op dit adres: Sluitgatweg 0  Wieringerwerf  Parkeerterrein recreatiegebied ’t Wierholt.Meer informatie:Contactpersoon: Carlo JansenTel.: 0314650772Email: info@montferlandrun.nlEr is een kleedaccomodatie aanwezig. Douchen is niet mogelijk.Het parcours is verhard.Overige bijzonderheden:  Prachtig parcours in het heuvelachtige Montferland \n  \n  \n 
URL:https://hardloopevenementen.com/loopagenda/wincanton-montferland-run-s-heerenberg-gemeente-montferland-ge/
END:VEVENT
BEGIN:VEVENT
DTSTART;VALUE=DATE:20091206
DTEND;VALUE=DATE:20091207
DTSTAMP:20260425T150830
CREATED:20110613T180801Z
LAST-MODIFIED:20190423T095649Z
UID:1363-1260057600-1260057600@hardloopevenementen.com
SUMMARY:Wincanton Montferlandrun 's-Heerenberg\, gemeente Montferland (GE)
DESCRIPTION:Doe mee met het hardloopevenement Wincanton Montferlandrun te ‘s-Heerenberg\, gemeente Montferland (GE) op zo 06 dec 2009. De volgende afstanden staan op het programma: 15 km hardlopen. Wilt u inschrijven voor dit loopevenement?  Raadpleeg hiervoor dan de website van de organisatie\nDe uitslagen van deze hardloopwedstrijd zijn te raadplegen via dezelfde website of via de bekende websites zoals uitslagen.nl\, runtimer en mylaps. Doet u mee met dit evenement\, zorg dan dat u goed voorbereid aan de start staat! Met een goed trainingsschema komt u een heel eind. Train bijvoorbeeld met start to run van Evy Gruyaert. Download de start to run mp3 bestanden en zet ze op uw telefoon. Oortjes in\, hit the play button en en rennen maar! \n\n\n\n\nMeer informatie over Wincanton Montferlandrun op Hardloopkalender.nl  \n  \n  \n 
URL:https://hardloopevenementen.com/loopagenda/wincanton-montferlandrun-s-heerenberg-gemeente-montferland-ge/
END:VEVENT
END:VCALENDAR