BEGIN:VCALENDAR
VERSION:2.0
PRODID:-//Hardloopevenementen - ECPv6.15.14//NONSGML v1.0//EN
CALSCALE:GREGORIAN
METHOD:PUBLISH
X-WR-CALNAME:Hardloopevenementen
X-ORIGINAL-URL:https://hardloopevenementen.com
X-WR-CALDESC:Evenementen voor Hardloopevenementen
REFRESH-INTERVAL;VALUE=DURATION:PT1H
X-Robots-Tag:noindex
X-PUBLISHED-TTL:PT1H
BEGIN:VTIMEZONE
TZID:UTC
BEGIN:STANDARD
TZOFFSETFROM:+0000
TZOFFSETTO:+0000
TZNAME:UTC
DTSTART:20130101T000000
END:STANDARD
END:VTIMEZONE
BEGIN:VEVENT
DTSTART;VALUE=DATE:20170129
DTEND;VALUE=DATE:20170130
DTSTAMP:20260420T230844
CREATED:20130701T095625Z
LAST-MODIFIED:20190423T114834Z
UID:15324-1485648000-1485648000@hardloopevenementen.com
SUMMARY:Rondje Bussloo Wintereditie Bussloo\, gemeente Voorst (GE)
DESCRIPTION:Doe mee met het hardloopevenement Rondje Bussloo Wintereditie te Bussloo\, gemeente Voorst (GE) op zo 29 jan 2017. De volgende afstanden staan op het programma: 7\,5 km – 15 km hardlopen. Wilt u inschrijven voor dit loopevenement?  Raadpleeg hiervoor dan de website van de organisatie\nDe uitslagen van deze hardloopwedstrijd zijn te raadplegen via dezelfde website of via de bekende websites zoals uitslagen.nl\, runtimer en mylaps. Doet u mee met dit evenement\, zorg dan dat u goed voorbereid aan de start staat! Met een goed trainingsschema komt u een heel eind. Train bijvoorbeeld met start to run van Evy Gruyaert. Download de start to run mp3 bestanden en zet ze op uw telefoon. Oortjes in\, hit the play button en en rennen maar! \n\n\n\n\nMeer informatie over Rondje Bussloo Wintereditie op Hardloopkalender.nl  \nVanaf heden. kun je inschrijven voor alle edities 2017.  We geven bij iedere editie in 2017 een mok weg met daarop de seizoenseditie. SPAAR ZE DUS ALLE 4!    Bovendien verloten we bij iedere editie een weekend aan zee  voor 2 personen in een luxe bungalow!  zie vakantiehuis \n  \n  \n 
URL:https://hardloopevenementen.com/loopagenda/rondje-bussloo-wintereditie-bussloo-gemeente-voorst-ge/
END:VEVENT
BEGIN:VEVENT
DTSTART;VALUE=DATE:20160130
DTEND;VALUE=DATE:20160131
DTSTAMP:20260420T230844
CREATED:20080501T010328Z
LAST-MODIFIED:20190423T112731Z
UID:13358-1454112000-1454112000@hardloopevenementen.com
SUMMARY:Henschotermeer Games Wintereditie Woudenberg (UT)
DESCRIPTION:Doe mee met het hardloopevenement Henschotermeer Games Wintereditie te Woudenberg (UT) op za 30 jan 2016. De volgende afstanden staan op het programma: 1\,2 km – 2\,5 km – 10 km hardlopen. Wilt u inschrijven voor dit loopevenement?  Raadpleeg hiervoor dan de website van de organisatie\nDe uitslagen van deze hardloopwedstrijd zijn te raadplegen via dezelfde website of via de bekende websites zoals uitslagen.nl\, runtimer en mylaps. Doet u mee met dit evenement\, zorg dan dat u goed voorbereid aan de start staat! Met een goed trainingsschema komt u een heel eind. Train bijvoorbeeld met start to run van Evy Gruyaert. Download de start to run mp3 bestanden en zet ze op uw telefoon. Oortjes in\, hit the play button en en rennen maar! \n\n\n\n\nMeer informatie over Henschotermeer Games Wintereditie op Hardloopkalender.nl  \nHet loopevenement Henschotermeer Games Wintereditie te Woudenberg vindt plaats op zaterdag 30 januari 2016. \n  \n  \n 
URL:https://hardloopevenementen.com/loopagenda/henschotermeer-games-wintereditie-woudenberg-ut-2/
END:VEVENT
BEGIN:VEVENT
DTSTART;VALUE=DATE:20150131
DTEND;VALUE=DATE:20150201
DTSTAMP:20260420T230844
CREATED:20120919T012802Z
LAST-MODIFIED:20190423T111444Z
UID:11125-1422662400-1422662400@hardloopevenementen.com
SUMMARY:Henschotermeer Games Wintereditie Woudenberg (UT)
DESCRIPTION:Doe mee met het hardloopevenement Henschotermeer Games Wintereditie te Woudenberg (UT) op za 31 jan 2015. De volgende afstanden staan op het programma: 1\,2 km – 2\,5 km – 10 km hardlopen. Wilt u inschrijven voor dit loopevenement?  Raadpleeg hiervoor dan de website van de organisatie\nDe uitslagen van deze hardloopwedstrijd zijn te raadplegen via dezelfde website of via de bekende websites zoals uitslagen.nl\, runtimer en mylaps. Doet u mee met dit evenement\, zorg dan dat u goed voorbereid aan de start staat! Met een goed trainingsschema komt u een heel eind. Train bijvoorbeeld met start to run van Evy Gruyaert. Download de start to run mp3 bestanden en zet ze op uw telefoon. Oortjes in\, hit the play button en en rennen maar! \n\n\n\n\nMeer informatie over Henschotermeer Games Wintereditie op Hardloopkalender.nl  \nHet loopevenement Henschotermeer Games Wintereditie te Woudenberg vindt plaats op zaterdag 31 januari 2015. \n  \n  \n 
URL:https://hardloopevenementen.com/loopagenda/henschotermeer-games-wintereditie-woudenberg-ut/
END:VEVENT
BEGIN:VEVENT
DTSTART;VALUE=DATE:20140201
DTEND;VALUE=DATE:20140202
DTSTAMP:20260420T230844
CREATED:20160829T224350Z
LAST-MODIFIED:20190423T105819Z
UID:34759-1391212800-1391212800@hardloopevenementen.com
SUMMARY:Henschotermeer Games Wintereditie Woudenberg (UT)
DESCRIPTION:Doe mee met het hardloopevenement Henschotermeer Games Wintereditie te Woudenberg (UT) op za 01 feb 2014. De volgende afstanden staan op het programma: 2\,2 km – 8\,7 km hardlopen. Wilt u inschrijven voor dit loopevenement?  Raadpleeg hiervoor dan de website van de organisatie\nDe uitslagen van deze hardloopwedstrijd zijn te raadplegen via dezelfde website of via de bekende websites zoals uitslagen.nl\, runtimer en mylaps. Doet u mee met dit evenement\, zorg dan dat u goed voorbereid aan de start staat! Met een goed trainingsschema komt u een heel eind. Train bijvoorbeeld met start to run van Evy Gruyaert. Download de start to run mp3 bestanden en zet ze op uw telefoon. Oortjes in\, hit the play button en en rennen maar! \n\n\n\n\nMeer informatie over Henschotermeer Games Wintereditie op Hardloopkalender.nl  \nHet loopevenement Henschotermeer Games Wintereditie te Woudenberg vindt plaats op zaterdag 01 februari 2014. De loop wordt georganisseerd door WE-Link. Klik hier voor het adres van de start (Google Maps). \n  \n  \n 
URL:https://hardloopevenementen.com/loopagenda/henschotermeer-games-wintereditie-woudenberg-ut-3/
END:VEVENT
END:VCALENDAR