BEGIN:VCALENDAR
VERSION:2.0
PRODID:-//Hardloopevenementen - ECPv6.15.14//NONSGML v1.0//EN
CALSCALE:GREGORIAN
METHOD:PUBLISH
X-ORIGINAL-URL:https://hardloopevenementen.com
X-WR-CALDESC:Evenementen voor Hardloopevenementen
REFRESH-INTERVAL;VALUE=DURATION:PT1H
X-Robots-Tag:noindex
X-PUBLISHED-TTL:PT1H
BEGIN:VTIMEZONE
TZID:UTC
BEGIN:STANDARD
TZOFFSETFROM:+0000
TZOFFSETTO:+0000
TZNAME:UTC
DTSTART:20100101T000000
END:STANDARD
END:VTIMEZONE
BEGIN:VEVENT
DTSTART;VALUE=DATE:20150315
DTEND;VALUE=DATE:20150316
DTSTAMP:20260423T030447
CREATED:20111112T181422Z
LAST-MODIFIED:20190423T111353Z
UID:10894-1426377600-1426377600@hardloopevenementen.com
SUMMARY:PUUR Wonen Voorjaarsloop Anna Paulowna (NH)
DESCRIPTION:Doe mee met het hardloopevenement PUUR Wonen Voorjaarsloop te Anna Paulowna (NH) op zo 15 mrt 2015. De volgende afstanden staan op het programma: 0\,8 km – 1\,5 km – 3 km – 6 km – 10 km hardlopen. Wilt u inschrijven voor dit loopevenement?  Raadpleeg hiervoor dan de website van de organisatie\nDe uitslagen van deze hardloopwedstrijd zijn te raadplegen via dezelfde website of via de bekende websites zoals uitslagen.nl\, runtimer en mylaps. Doet u mee met dit evenement\, zorg dan dat u goed voorbereid aan de start staat! Met een goed trainingsschema komt u een heel eind. Train bijvoorbeeld met start to run van Evy Gruyaert. Download de start to run mp3 bestanden en zet ze op uw telefoon. Oortjes in\, hit the play button en en rennen maar! \n\n\n\n\nMeer informatie over PUUR Wonen Voorjaarsloop op Hardloopkalender.nl  \nHet loopevenement PUUR Wonen Voorjaarsloop te Anna Paulowna vindt plaats op zondag 15 maart 2015. \n  \n  \n 
URL:https://hardloopevenementen.com/loopagenda/puur-wonen-voorjaarsloop-anna-paulowna-nh/
END:VEVENT
BEGIN:VEVENT
DTSTART;VALUE=DATE:20140316
DTEND;VALUE=DATE:20140317
DTSTAMP:20260423T030447
CREATED:20181103T050031Z
LAST-MODIFIED:20190423T105711Z
UID:34514-1394928000-1394928000@hardloopevenementen.com
SUMMARY:PUUR Wonen Voorjaarsloop Anna Paulowna (NH)
DESCRIPTION:Doe mee met het hardloopevenement PUUR Wonen Voorjaarsloop te Anna Paulowna (NH) op zo 16 mrt 2014. De volgende afstanden staan op het programma: 0\,5 km – 1\,5 km – 3 km – 6 km – 10 km hardlopen. Wilt u inschrijven voor dit loopevenement?  Raadpleeg hiervoor dan de website van de organisatie\nDe uitslagen van deze hardloopwedstrijd zijn te raadplegen via dezelfde website of via de bekende websites zoals uitslagen.nl\, runtimer en mylaps. Doet u mee met dit evenement\, zorg dan dat u goed voorbereid aan de start staat! Met een goed trainingsschema komt u een heel eind. Train bijvoorbeeld met start to run van Evy Gruyaert. Download de start to run mp3 bestanden en zet ze op uw telefoon. Oortjes in\, hit the play button en en rennen maar! \n\n\n\n\nMeer informatie over PUUR Wonen Voorjaarsloop op Hardloopkalender.nl  \nHet loopevenement PUUR Wonen Voorjaarsloop te Anna Paulowna vindt plaats op zondag 16 maart 2014. De loop wordt georganisseerd door AV DOKEV. Klik hier voor het adres van de start (Google Maps).Bijzonderheden: Inschrijfgeld: jeugd t m 15  â¬ 2\,50   senioren: â¬ 5\,00. \n  \n  \n 
URL:https://hardloopevenementen.com/loopagenda/puur-wonen-voorjaarsloop-anna-paulowna-nh-2/
END:VEVENT
BEGIN:VEVENT
DTSTART;VALUE=DATE:20130811
DTEND;VALUE=DATE:20130812
DTSTAMP:20260423T030447
CREATED:20070704T013744Z
LAST-MODIFIED:20190423T104059Z
UID:31325-1376179200-1376179200@hardloopevenementen.com
SUMMARY:WBO Wonen Boeskoolloop Oldenzaal (OV)
DESCRIPTION:Doe mee met het hardloopevenement WBO Wonen Boeskoolloop te Oldenzaal (OV) op zo 11 aug 2013. De volgende afstanden staan op het programma: 1\,5 km – 2 km – 5 km – 10 km hardlopen. Wilt u inschrijven voor dit loopevenement?  Raadpleeg hiervoor dan de website van de organisatie\nDe uitslagen van deze hardloopwedstrijd zijn te raadplegen via dezelfde website of via de bekende websites zoals uitslagen.nl\, runtimer en mylaps. Doet u mee met dit evenement\, zorg dan dat u goed voorbereid aan de start staat! Met een goed trainingsschema komt u een heel eind. Train bijvoorbeeld met start to run van Evy Gruyaert. Download de start to run mp3 bestanden en zet ze op uw telefoon. Oortjes in\, hit the play button en en rennen maar! \n\n\n\n\nMeer informatie over WBO Wonen Boeskoolloop op Hardloopkalender.nl  \nHet loopevenement WBO Wonen Boeskoolloop te Oldenzaal vindt plaats op zondag 11 augustus 2013. De loop wordt georganisseerd door Supp.vereniging Black&White Quick '20. Inschrijven is mogelijk vanaf 01 januari 2013. Klik hier voor het adres van de start (Google Maps).Er is verkleedaccomodatie met douchemogelijkheid aanwezig. Er is EHBO aanwezig. Voor meer informatie:Ben oude Nijhuisb.oudenjihuis@home.nl0651168020http:  www.svblackandwhite.nl \n  \n  \n 
URL:https://hardloopevenementen.com/loopagenda/wbo-wonen-boeskoolloop-oldenzaal-ov-3/
END:VEVENT
BEGIN:VEVENT
DTSTART;VALUE=DATE:20120819
DTEND;VALUE=DATE:20120820
DTSTAMP:20260423T030447
CREATED:20080309T034748Z
LAST-MODIFIED:20190423T103016Z
UID:27866-1345334400-1345334400@hardloopevenementen.com
SUMMARY:WBO Wonen Boeskoolloop Oldenzaal (OV)
DESCRIPTION:Doe mee met het hardloopevenement WBO Wonen Boeskoolloop te Oldenzaal (OV) op zo 19 aug 2012. De volgende afstanden staan op het programma: 1\,5 km – 2 km – 5 km – 10 km hardlopen. Wilt u inschrijven voor dit loopevenement?  Raadpleeg hiervoor dan de website van de organisatie\nDe uitslagen van deze hardloopwedstrijd zijn te raadplegen via dezelfde website of via de bekende websites zoals uitslagen.nl\, runtimer en mylaps. Doet u mee met dit evenement\, zorg dan dat u goed voorbereid aan de start staat! Met een goed trainingsschema komt u een heel eind. Train bijvoorbeeld met start to run van Evy Gruyaert. Download de start to run mp3 bestanden en zet ze op uw telefoon. Oortjes in\, hit the play button en en rennen maar! \n\n\n\n\nMeer informatie over WBO Wonen Boeskoolloop op Hardloopkalender.nl  \nHet loopevenement WBO Wonen Boeskoolloop te Oldenzaal vindt plaats op zondag 19 augustus 2012. De loop wordt georganiseerd door Supp.vereniging Black&White Quick ’20. Inschrijven is mogelijk vanaf 01 mei 2012. Klik hier voor het adres van de start (Google Maps).Er is EHBO aanwezig. Afstand SoortloopInschrijfgeldStarttijdInfo1.5 km0\,0011.00uur2 km0\,0011.30uur5 km4\,0012.00uur10 km6\,0013.00uurVoor meer informatie:Ben oude Nijhuisb.oudenijhuis@home.nl0651168020http:  www.svblackandwhite.nl \n  \n  \n 
URL:https://hardloopevenementen.com/loopagenda/wbo-wonen-boeskoolloop-oldenzaal-ov-2/
END:VEVENT
BEGIN:VEVENT
DTSTART;VALUE=DATE:20110821
DTEND;VALUE=DATE:20110822
DTSTAMP:20260423T030447
CREATED:20070510T120313Z
LAST-MODIFIED:20190423T101930Z
UID:6502-1313884800-1313884800@hardloopevenementen.com
SUMMARY:WBO Wonen Boeskoolloop Oldenzaal (OV)
DESCRIPTION:Doe mee met het hardloopevenement WBO Wonen Boeskoolloop te Oldenzaal (OV) op zo 21 aug 2011. De volgende afstanden staan op het programma: 1\,5 km – 2 km – 5 km – 10 km hardlopen. Wilt u inschrijven voor dit loopevenement?  Raadpleeg hiervoor dan de website van de organisatie\nDe uitslagen van deze hardloopwedstrijd zijn te raadplegen via dezelfde website of via de bekende websites zoals uitslagen.nl\, runtimer en mylaps. Doet u mee met dit evenement\, zorg dan dat u goed voorbereid aan de start staat! Met een goed trainingsschema komt u een heel eind. Train bijvoorbeeld met start to run van Evy Gruyaert. Download de start to run mp3 bestanden en zet ze op uw telefoon. Oortjes in\, hit the play button en en rennen maar! \n\n\n\n\nMeer informatie over WBO Wonen Boeskoolloop op Hardloopkalender.nl  \nHet loopevenement WBO Wonen Boeskoolloop te Oldenzaal vindt plaats op zondag 21 augustus 2011. De loop wordt georganiseerd door Supp.vereniging Black&White Quick '20. Inschrijven is mogelijk vanaf 01 mei 2011. Klik hier voor het adres van de start (Google Maps).Er is verkleedaccomodatie met douchemogelijkheid aanwezig. Er is EHBO aanwezig. Afstand(km)Inschrijfgeld(€)Starttijd5€3\,0012.00uur10€5\,0013.00uur2€0\,0011.30uur1\,5€0\,0011.00uurVoor meer informatie:Ingeborg Ottevangeringeborgottevanger@hccnet.nl0649728694http:  www.svblackandwhite.nl \n  \n  \n 
URL:https://hardloopevenementen.com/loopagenda/wbo-wonen-boeskoolloop-oldenzaal-ov/
END:VEVENT
END:VCALENDAR