BEGIN:VCALENDAR
VERSION:2.0
PRODID:-//Hardloopevenementen - ECPv6.15.14//NONSGML v1.0//EN
CALSCALE:GREGORIAN
METHOD:PUBLISH
X-WR-CALNAME:Hardloopevenementen
X-ORIGINAL-URL:https://hardloopevenementen.com
X-WR-CALDESC:Evenementen voor Hardloopevenementen
REFRESH-INTERVAL;VALUE=DURATION:PT1H
X-Robots-Tag:noindex
X-PUBLISHED-TTL:PT1H
BEGIN:VTIMEZONE
TZID:UTC
BEGIN:STANDARD
TZOFFSETFROM:+0000
TZOFFSETTO:+0000
TZNAME:UTC
DTSTART:20180101T000000
END:STANDARD
END:VTIMEZONE
BEGIN:VEVENT
DTSTART;VALUE=DATE:20190717
DTEND;VALUE=DATE:20190718
DTSTAMP:20260421T160352
CREATED:20110424T091602Z
LAST-MODIFIED:20191114T112529Z
UID:142429-1563321600-1563321600@hardloopevenementen.com
SUMMARY:Woudfennen zwemloop Joure\, gemeente Skarsterlan (FR)
DESCRIPTION:Doe mee met het hardloopevenement Woudfennen zwemloop te Joure\, gemeente Skarsterlan (FR) op wo 17 jul 2019. De volgende afstanden staan op het programma: 5 km hardlopen. Wilt u inschrijven voor dit loopevenement?  Raadpleeg hiervoor dan de website van de organisatie\nDe uitslagen van deze hardloopwedstrijd zijn te raadplegen via dezelfde website of via de bekende websites zoals uitslagen.nl\, runtimer en mylaps. Doet u mee met dit evenement\, zorg dan dat u goed voorbereid aan de start staat! Met een goed trainingsschema komt u een heel eind. Train bijvoorbeeld met start to run van Evy Gruyaert. Download de start to run mp3 bestanden en zet ze op uw telefoon. Oortjes in\, hit the play button en en rennen maar! \n\n\n\n\nMeer informatie over Woudfennen zwemloop op Hardloopkalender.nl  \n1500 M zwemmen in de Put van Nederhorst gevolgd door 5 KM hardlopen langs de oevers van de Langwarder Wielen \n  \n  \n 
URL:https://hardloopevenementen.com/loopagenda/woudfennen-zwemloop-joure-gemeente-skarsterlan-fr/
END:VEVENT
END:VCALENDAR