BEGIN:VCALENDAR
VERSION:2.0
PRODID:-//Hardloopevenementen - ECPv6.15.14//NONSGML v1.0//EN
CALSCALE:GREGORIAN
METHOD:PUBLISH
X-ORIGINAL-URL:https://hardloopevenementen.com
X-WR-CALDESC:Evenementen voor Hardloopevenementen
REFRESH-INTERVAL;VALUE=DURATION:PT1H
X-Robots-Tag:noindex
X-PUBLISHED-TTL:PT1H
BEGIN:VTIMEZONE
TZID:UTC
BEGIN:STANDARD
TZOFFSETFROM:+0000
TZOFFSETTO:+0000
TZNAME:UTC
DTSTART:20110101T000000
END:STANDARD
END:VTIMEZONE
BEGIN:VEVENT
DTSTART;VALUE=DATE:20150606
DTEND;VALUE=DATE:20150607
DTSTAMP:20260421T181223
CREATED:20111228T171756Z
LAST-MODIFIED:20190423T111145Z
UID:10345-1433548800-1433548800@hardloopevenementen.com
SUMMARY:Trimloop 24 uur Heb hart voor longen Zaandam Zaandam\, gemeente Zaanstad (NH)
DESCRIPTION:Doe mee met het hardloopevenement Trimloop 24 uur Heb hart voor longen Zaandam te Zaandam\, gemeente Zaanstad (NH) op za 06 jun 2015. De volgende afstanden staan op het programma: 7 km hardlopen. Wilt u inschrijven voor dit loopevenement?  Raadpleeg hiervoor dan de website van de organisatie\nDe uitslagen van deze hardloopwedstrijd zijn te raadplegen via dezelfde website of via de bekende websites zoals uitslagen.nl\, runtimer en mylaps. Doet u mee met dit evenement\, zorg dan dat u goed voorbereid aan de start staat! Met een goed trainingsschema komt u een heel eind. Train bijvoorbeeld met start to run van Evy Gruyaert. Download de start to run mp3 bestanden en zet ze op uw telefoon. Oortjes in\, hit the play button en en rennen maar! \n\n\n\n\nMeer informatie over Trimloop 24 uur Heb hart voor longen Zaandam op Hardloopkalender.nl  \nKom hardlopen voor het goede doel! Op 6 juni a.s. wordt om 19.00 uur de trimloop georganiseerd in Zaandam. 24 uur Heb hart voor longen Zaandam is een sportevenement dat bestaat uit een 24-uurs wandelestafette\, 24-uurs voetbaltoernooi\, trimloop en natuurlijk 24-uurs entertainment. Middels dit evenement willen we namens Stichting PHA Nederland geld inzamelen voor de zeldzame en ongeneeslijke longziekte Pulmonale Hypertensie.     Het parcours ligt rond het terrein van Hellas Sport en de finish is op het terrein zelf. Het is een mooi parcours van circa 7 km. De kosten van deelname bedragen 10 per persoon. Voor dit bedrag neem je niet alleen deel aan de trimloop maar heb je ook onbeperkt toegang tot alle clinics en activiteiten op het terrein.    http:  hebhartvoorlongenzaandam.nl inschrijven-trimloop    Inschrijven kan tot 2 dagen voor het evenement. \n  \n  \n 
URL:https://hardloopevenementen.com/loopagenda/trimloop-24-uur-heb-hart-voor-longen-zaandam-zaandam-gemeente-zaanstad-nh/
END:VEVENT
BEGIN:VEVENT
DTSTART;VALUE=DATE:20120923
DTEND;VALUE=DATE:20120924
DTSTAMP:20260421T181223
CREATED:20100904T065110Z
LAST-MODIFIED:20190423T102917Z
UID:7680-1348358400-1348358400@hardloopevenementen.com
SUMMARY:27e Mini Dam tot Damloop Zaandam Zaandam\, gemeente Zaanstad (NH)
DESCRIPTION:Doe mee met het hardloopevenement 27e Mini Dam tot Damloop Zaandam te Zaandam\, gemeente Zaanstad (NH) op zo 23 sep 2012. De volgende afstanden staan op het programma: 0\,6 km – 2\,2 km hardlopen. Wilt u inschrijven voor dit loopevenement?  Raadpleeg hiervoor dan de website van de organisatie\nDe uitslagen van deze hardloopwedstrijd zijn te raadplegen via dezelfde website of via de bekende websites zoals uitslagen.nl\, runtimer en mylaps. Doet u mee met dit evenement\, zorg dan dat u goed voorbereid aan de start staat! Met een goed trainingsschema komt u een heel eind. Train bijvoorbeeld met start to run van Evy Gruyaert. Download de start to run mp3 bestanden en zet ze op uw telefoon. Oortjes in\, hit the play button en en rennen maar! \n\n\n\n\nMeer informatie over 27e Mini Dam tot Damloop Zaandam op Hardloopkalender.nl  \nHet loopevenement 27e Mini Dam tot Damloop Zaandam te Zaandam vindt plaats op zondag 23 september 2012. De loop wordt georganiseerd door Stichting Sportevenementen Le Champion. Inschrijven is mogelijk vanaf 31 maart 2012. Klik hier voor het adres van de start (Google Maps).Er is EHBO aanwezig. Bijzonderheden: Uniek parcours en een uitzinnig publiek.Afstand SoortloopInschrijfgeldStarttijdInfo0.6 km1\,5009.302.2 km1\,5010.10Voor meer informatie:Le Championinfo@lechampion.nl0725338136http:  www.damloop.nl \n  \n  \n 
URL:https://hardloopevenementen.com/loopagenda/27e-mini-dam-tot-damloop-zaandam-zaandam-gemeente-zaanstad-nh/
END:VEVENT
END:VCALENDAR