BEGIN:VCALENDAR
VERSION:2.0
PRODID:-//Hardloopevenementen - ECPv6.15.14//NONSGML v1.0//EN
CALSCALE:GREGORIAN
METHOD:PUBLISH
X-ORIGINAL-URL:https://hardloopevenementen.com
X-WR-CALDESC:Evenementen voor Hardloopevenementen
REFRESH-INTERVAL;VALUE=DURATION:PT1H
X-Robots-Tag:noindex
X-PUBLISHED-TTL:PT1H
BEGIN:VTIMEZONE
TZID:UTC
BEGIN:STANDARD
TZOFFSETFROM:+0000
TZOFFSETTO:+0000
TZNAME:UTC
DTSTART:20080101T000000
END:STANDARD
END:VTIMEZONE
BEGIN:VEVENT
DTSTART;VALUE=DATE:20090321
DTEND;VALUE=DATE:20090322
DTSTAMP:20260423T215827
CREATED:20070819T004511Z
LAST-MODIFIED:20190423T100236Z
UID:2608-1237593600-1237593600@hardloopevenementen.com
SUMMARY:Walk4Water sponsorloop van ZOA Vluchtelingenzorg Lelystad (FL)
DESCRIPTION:Doe mee met het hardloopevenement Walk4Water sponsorloop van ZOA Vluchtelingenzorg te Lelystad (FL) op za 21 mrt 2009. De volgende afstanden staan op het programma:  hardlopen. Wilt u inschrijven voor dit loopevenement?  Raadpleeg hiervoor dan de website van de organisatie\nDe uitslagen van deze hardloopwedstrijd zijn te raadplegen via dezelfde website of via de bekende websites zoals uitslagen.nl\, runtimer en mylaps. Doet u mee met dit evenement\, zorg dan dat u goed voorbereid aan de start staat! Met een goed trainingsschema komt u een heel eind. Train bijvoorbeeld met start to run van Evy Gruyaert. Download de start to run mp3 bestanden en zet ze op uw telefoon. Oortjes in\, hit the play button en en rennen maar! \n\n\n\n\nMeer informatie over Walk4Water sponsorloop van ZOA Vluchtelingenzorg op Hardloopkalender.nl  \nOp zaterdag 21 maart 2009 wordt voor de 3e keer het wandel- en hardloopevenement Walk4Water gehouden. Het Walk4Water team is al weer druk bezig met de voorbereidingen. We houden u graag op de hoogte van Walk4Water 2009\, want het belooft ook dit jaar weer een groot succes te worden! We hopen zoveel mogelijk mensen enthousiast te krijgen voor Walk4Water 2009. Want lopen voor water redt levens!    Walk4Water is een unieke sponsorloop op de dijk tussen Lelystad en Enkhuizen en wordt georganiseerd door de hulporganisatie ZOA-Vluchtelingenzorg. Tijdens Walk4Water dragen de deelnemers een jerrycan water over de dijk en ervaren zo hoe het is om net als vluchtelingen te lopen voor water. Voor deze sportieve prestatie laten de deelnemers zich sponsoren. De opbrengst gaat ook dit jaar naar een water- en sanitatie project van ZOA-vluchtelingenzorg. Deze projecten zijn hard nodig. Elk uur sterven 200 kinderen door gebrek aan schoon drinkwater!     De website www.walk4water.nl zal per 1 november 2008 worden vernieuwd. Dan kunnen de deelnemers zich inschrijven voor Walk4Water 2009. Tot die tijd vindt u op de site een verslag van Walk4Water 2008. Zodra de nieuwe website de lucht in is\, krijgt u daarvan bericht! \n  \n  \n 
URL:https://hardloopevenementen.com/loopagenda/walk4water-sponsorloop-van-zoa-vluchtelingenzorg-lelystad-fl/
END:VEVENT
END:VCALENDAR