BEGIN:VCALENDAR
VERSION:2.0
PRODID:-//Hardloopevenementen - ECPv6.15.14//NONSGML v1.0//EN
CALSCALE:GREGORIAN
METHOD:PUBLISH
X-WR-CALNAME:Hardloopevenementen
X-ORIGINAL-URL:https://hardloopevenementen.com
X-WR-CALDESC:Evenementen voor Hardloopevenementen
REFRESH-INTERVAL;VALUE=DURATION:PT1H
X-Robots-Tag:noindex
X-PUBLISHED-TTL:PT1H
BEGIN:VTIMEZONE
TZID:UTC
BEGIN:STANDARD
TZOFFSETFROM:+0000
TZOFFSETTO:+0000
TZNAME:UTC
DTSTART:20100101T000000
END:STANDARD
END:VTIMEZONE
BEGIN:VEVENT
DTSTART;VALUE=DATE:20200401
DTEND;VALUE=DATE:20200402
DTSTAMP:20260421T045034
CREATED:20150406T130741Z
LAST-MODIFIED:20200206T111436Z
UID:145157-1585699200-1585699200@hardloopevenementen.com
SUMMARY:Bol training en advies Zomertijdloop Oud Gastel\, gemeente Halderberge (NB)
DESCRIPTION:Doe mee met het hardloopevenement Bol training en advies Zomertijdloop te Oud Gastel\, gemeente Halderberge (NB) op wo 01 apr 2020. De volgende afstanden staan op het programma: 4 km – 8 km hardlopen. Wilt u inschrijven voor dit loopevenement?  Raadpleeg hiervoor dan de website van de organisatie\nDe uitslagen van deze hardloopwedstrijd zijn te raadplegen via dezelfde website of via de bekende websites zoals uitslagen.nl\, runtimer en mylaps. Doet u mee met dit evenement\, zorg dan dat u goed voorbereid aan de start staat! Met een goed trainingsschema komt u een heel eind. Train bijvoorbeeld met start to run van Evy Gruyaert. Download de start to run mp3 bestanden en zet ze op uw telefoon. Oortjes in\, hit the play button en en rennen maar! \n\n\n\n\nMeer informatie over Bol training en advies Zomertijdloop op Hardloopkalender.nl  \n  \n  \n 
URL:https://hardloopevenementen.com/loopagenda/bol-training-en-advies-zomertijdloop-oud-gastel-gemeente-halderberge-nb/
END:VEVENT
BEGIN:VEVENT
DTSTART;VALUE=DATE:20160330
DTEND;VALUE=DATE:20160331
DTSTAMP:20260421T045034
CREATED:20150513T022930Z
LAST-MODIFIED:20190423T112625Z
UID:13062-1459296000-1459296000@hardloopevenementen.com
SUMMARY:avro zomertijdloop Oud Gastel\, gemeente Halderberge (NB)
DESCRIPTION:Doe mee met het hardloopevenement avro zomertijdloop te Oud Gastel\, gemeente Halderberge (NB) op wo 30 mrt 2016. De volgende afstanden staan op het programma: 4 km – 8 km hardlopen. Wilt u inschrijven voor dit loopevenement?  Raadpleeg hiervoor dan de website van de organisatie\nDe uitslagen van deze hardloopwedstrijd zijn te raadplegen via dezelfde website of via de bekende websites zoals uitslagen.nl\, runtimer en mylaps. Doet u mee met dit evenement\, zorg dan dat u goed voorbereid aan de start staat! Met een goed trainingsschema komt u een heel eind. Train bijvoorbeeld met start to run van Evy Gruyaert. Download de start to run mp3 bestanden en zet ze op uw telefoon. Oortjes in\, hit the play button en en rennen maar! \n\n\n\n\nMeer informatie over avro zomertijdloop op Hardloopkalender.nl  \nHet loopevenement avro zomertijdloop te Oud Gastel vindt plaats op woensdag 30 maart 2016. \n  \n  \n 
URL:https://hardloopevenementen.com/loopagenda/avro-zomertijdloop-oud-gastel-gemeente-halderberge-nb/
END:VEVENT
BEGIN:VEVENT
DTSTART;VALUE=DATE:20110330
DTEND;VALUE=DATE:20110331
DTSTAMP:20260421T045034
CREATED:20110531T041849Z
LAST-MODIFIED:20190423T102244Z
UID:26616-1301443200-1301443200@hardloopevenementen.com
SUMMARY:Zomertijdloop Oud Gastel\, gemeente Halderberge (NB)
DESCRIPTION:Doe mee met het hardloopevenement Zomertijdloop te Oud Gastel\, gemeente Halderberge (NB) op wo 30 mrt 2011. De volgende afstanden staan op het programma: 7\,4 km hardlopen. Wilt u inschrijven voor dit loopevenement?  Raadpleeg hiervoor dan de website van de organisatie\nDe uitslagen van deze hardloopwedstrijd zijn te raadplegen via dezelfde website of via de bekende websites zoals uitslagen.nl\, runtimer en mylaps. Doet u mee met dit evenement\, zorg dan dat u goed voorbereid aan de start staat! Met een goed trainingsschema komt u een heel eind. Train bijvoorbeeld met start to run van Evy Gruyaert. Download de start to run mp3 bestanden en zet ze op uw telefoon. Oortjes in\, hit the play button en en rennen maar! \n\n\n\n\nMeer informatie over Zomertijdloop op Hardloopkalender.nl  \n  \n  \n 
URL:https://hardloopevenementen.com/loopagenda/zomertijdloop-oud-gastel-gemeente-halderberge-nb/
END:VEVENT
END:VCALENDAR