BEGIN:VCALENDAR
VERSION:2.0
PRODID:-//Hardloopevenementen - ECPv6.15.14//NONSGML v1.0//EN
CALSCALE:GREGORIAN
METHOD:PUBLISH
X-WR-CALNAME:Hardloopevenementen
X-ORIGINAL-URL:https://hardloopevenementen.com
X-WR-CALDESC:Evenementen voor Hardloopevenementen
REFRESH-INTERVAL;VALUE=DURATION:PT1H
X-Robots-Tag:noindex
X-PUBLISHED-TTL:PT1H
BEGIN:VTIMEZONE
TZID:UTC
BEGIN:STANDARD
TZOFFSETFROM:+0000
TZOFFSETTO:+0000
TZNAME:UTC
DTSTART:20190101T000000
END:STANDARD
END:VTIMEZONE
BEGIN:VEVENT
DTSTART;VALUE=DATE:20200405
DTEND;VALUE=DATE:20200406
DTSTAMP:20260423T124944
CREATED:20100729T210918Z
LAST-MODIFIED:20200206T111432Z
UID:145139-1586044800-1586044800@hardloopevenementen.com
SUMMARY:Parklopen Den Haag   Zuiderpark Den Haag (ZH)
DESCRIPTION:Doe mee met het hardloopevenement Parklopen Den Haag   Zuiderpark te Den Haag (ZH) op zo 05 apr 2020. De volgende afstanden staan op het programma: 1 km – 3 km hardlopen. Wilt u inschrijven voor dit loopevenement?  Raadpleeg hiervoor dan de website van de organisatie\nDe uitslagen van deze hardloopwedstrijd zijn te raadplegen via dezelfde website of via de bekende websites zoals uitslagen.nl\, runtimer en mylaps. Doet u mee met dit evenement\, zorg dan dat u goed voorbereid aan de start staat! Met een goed trainingsschema komt u een heel eind. Train bijvoorbeeld met start to run van Evy Gruyaert. Download de start to run mp3 bestanden en zet ze op uw telefoon. Oortjes in\, hit the play button en en rennen maar! \n\n\n\n\nMeer informatie over Parklopen Den Haag   Zuiderpark op Hardloopkalender.nl  \n  \n  \n 
URL:https://hardloopevenementen.com/loopagenda/parklopen-den-haag-zuiderpark-den-haag-zh/
END:VEVENT
BEGIN:VEVENT
DTSTART;VALUE=DATE:20200202
DTEND;VALUE=DATE:20200203
DTSTAMP:20260423T124944
CREATED:20140428T221234Z
LAST-MODIFIED:20200206T111533Z
UID:145386-1580601600-1580601600@hardloopevenementen.com
SUMMARY:Parklopen Den Haag   Zuiderpark Den Haag (ZH)
DESCRIPTION:Doe mee met het hardloopevenement Parklopen Den Haag   Zuiderpark te Den Haag (ZH) op zo 02 feb 2020. De volgende afstanden staan op het programma: 1 km – 3 km hardlopen. Wilt u inschrijven voor dit loopevenement?  Raadpleeg hiervoor dan de website van de organisatie\nDe uitslagen van deze hardloopwedstrijd zijn te raadplegen via dezelfde website of via de bekende websites zoals uitslagen.nl\, runtimer en mylaps. Doet u mee met dit evenement\, zorg dan dat u goed voorbereid aan de start staat! Met een goed trainingsschema komt u een heel eind. Train bijvoorbeeld met start to run van Evy Gruyaert. Download de start to run mp3 bestanden en zet ze op uw telefoon. Oortjes in\, hit the play button en en rennen maar! \n\n\n\n\nMeer informatie over Parklopen Den Haag   Zuiderpark op Hardloopkalender.nl  \n  \n  \n 
URL:https://hardloopevenementen.com/loopagenda/parklopen-den-haag-zuiderpark-den-haag-zh-2/
END:VEVENT
END:VCALENDAR