BEGIN:VCALENDAR
VERSION:2.0
PRODID:-//Hardloopevenementen - ECPv6.15.14//NONSGML v1.0//EN
CALSCALE:GREGORIAN
METHOD:PUBLISH
X-WR-CALNAME:Hardloopevenementen
X-ORIGINAL-URL:https://hardloopevenementen.com
X-WR-CALDESC:Evenementen voor Hardloopevenementen
REFRESH-INTERVAL;VALUE=DURATION:PT1H
X-Robots-Tag:noindex
X-PUBLISHED-TTL:PT1H
BEGIN:VTIMEZONE
TZID:UTC
BEGIN:STANDARD
TZOFFSETFROM:+0000
TZOFFSETTO:+0000
TZNAME:UTC
DTSTART:20140101T000000
END:STANDARD
END:VTIMEZONE
BEGIN:VEVENT
DTSTART;VALUE=DATE:20150905
DTEND;VALUE=DATE:20150906
DTSTAMP:20260420T215237
CREATED:20120626T072120Z
LAST-MODIFIED:20190423T110935Z
UID:9867-1441411200-1441411200@hardloopevenementen.com
SUMMARY:Zwaansmeercrossloop Uitgeest (NH)
DESCRIPTION:Doe mee met het hardloopevenement Zwaansmeercrossloop te Uitgeest (NH) op za 05 sep 2015. De volgende afstanden staan op het programma: 1\,1 km – 2\,2 km hardlopen. Wilt u inschrijven voor dit loopevenement?  Raadpleeg hiervoor dan de website van de organisatie\nDe uitslagen van deze hardloopwedstrijd zijn te raadplegen via dezelfde website of via de bekende websites zoals uitslagen.nl\, runtimer en mylaps. Doet u mee met dit evenement\, zorg dan dat u goed voorbereid aan de start staat! Met een goed trainingsschema komt u een heel eind. Train bijvoorbeeld met start to run van Evy Gruyaert. Download de start to run mp3 bestanden en zet ze op uw telefoon. Oortjes in\, hit the play button en en rennen maar! \n\n\n\n\nMeer informatie over Zwaansmeercrossloop op Hardloopkalender.nl  \nHet loopevenement Zwaansmeercrossloop te Uitgeest vindt plaats op zaterdag 05 september 2015. \n  \n  \n 
URL:https://hardloopevenementen.com/loopagenda/zwaansmeercrossloop-uitgeest-nh/
END:VEVENT
END:VCALENDAR