BEGIN:VCALENDAR
VERSION:2.0
PRODID:-//Hardloopevenementen - ECPv6.15.14//NONSGML v1.0//EN
CALSCALE:GREGORIAN
METHOD:PUBLISH
X-WR-CALNAME:Hardloopevenementen
X-ORIGINAL-URL:https://hardloopevenementen.com
X-WR-CALDESC:Evenementen voor Hardloopevenementen
REFRESH-INTERVAL;VALUE=DURATION:PT1H
X-Robots-Tag:noindex
X-PUBLISHED-TTL:PT1H
BEGIN:VTIMEZONE
TZID:UTC
BEGIN:STANDARD
TZOFFSETFROM:+0000
TZOFFSETTO:+0000
TZNAME:UTC
DTSTART:20110101T000000
END:STANDARD
END:VTIMEZONE
BEGIN:VEVENT
DTSTART;VALUE=DATE:20120317
DTEND;VALUE=DATE:20120318
DTSTAMP:20260425T130957
CREATED:20091116T143707Z
LAST-MODIFIED:20190423T103347Z
UID:28695-1331942400-1331942400@hardloopevenementen.com
SUMMARY:2e Limburg half zwaar Heerlen (LI)
DESCRIPTION:Doe mee met het hardloopevenement 2e Limburg half zwaar te Heerlen (LI) op za 17 mrt 2012. De volgende afstanden staan op het programma: 50 km hardlopen. Wilt u inschrijven voor dit loopevenement?  Raadpleeg hiervoor dan de website van de organisatie\nDe uitslagen van deze hardloopwedstrijd zijn te raadplegen via dezelfde website of via de bekende websites zoals uitslagen.nl\, runtimer en mylaps. Doet u mee met dit evenement\, zorg dan dat u goed voorbereid aan de start staat! Met een goed trainingsschema komt u een heel eind. Train bijvoorbeeld met start to run van Evy Gruyaert. Download de start to run mp3 bestanden en zet ze op uw telefoon. Oortjes in\, hit the play button en en rennen maar! \n\n\n\n\nMeer informatie over 2e Limburg half zwaar op Hardloopkalender.nl  \nHet loopevenement 2e Limburg half zwaar te Heerlen vindt plaats op zaterdag 17 maart 2012. De loop wordt georganiseerd door Funrunnerultralopen. Inschrijven is mogelijk vanaf 01 januari 2012. Klik hier voor het adres van de start (Google Maps).Er is EHBO aanwezig. Bijzonderheden: groepsloop in rustig tempo. max 25 lopers.Afstand SoortloopInschrijfgeldStarttijdInfo50 km10\,009:00Voor meer informatie:Willem Muetzew.mutze@home.nl0610158367http:  www.funrunner.nl \n  \n  \n 
URL:https://hardloopevenementen.com/loopagenda/2e-limburg-half-zwaar-heerlen-li/
END:VEVENT
BEGIN:VEVENT
DTSTART;VALUE=DATE:20120218
DTEND;VALUE=DATE:20120219
DTSTAMP:20260425T130957
CREATED:20130816T040148Z
LAST-MODIFIED:20190423T103424Z
UID:28846-1329523200-1329523200@hardloopevenementen.com
SUMMARY:1e Limburg half zwaar Heerlen (LI)
DESCRIPTION:Doe mee met het hardloopevenement 1e Limburg half zwaar te Heerlen (LI) op za 18 feb 2012. De volgende afstanden staan op het programma: 50 km hardlopen. Wilt u inschrijven voor dit loopevenement?  Raadpleeg hiervoor dan de website van de organisatie\nDe uitslagen van deze hardloopwedstrijd zijn te raadplegen via dezelfde website of via de bekende websites zoals uitslagen.nl\, runtimer en mylaps. Doet u mee met dit evenement\, zorg dan dat u goed voorbereid aan de start staat! Met een goed trainingsschema komt u een heel eind. Train bijvoorbeeld met start to run van Evy Gruyaert. Download de start to run mp3 bestanden en zet ze op uw telefoon. Oortjes in\, hit the play button en en rennen maar! \n\n\n\n\nMeer informatie over 1e Limburg half zwaar op Hardloopkalender.nl  \nHet loopevenement 1e Limburg half zwaar te Heerlen vindt plaats op zaterdag 18 februari 2012. De loop wordt georganiseerd door Funrunnerultralopen. Inschrijven is mogelijk vanaf 01 januari 2012. Klik hier voor het adres van de start (Google Maps).Er is EHBO aanwezig. Bijzonderheden: groepsloop in rustig tempo. max 25 lopers.Afstand SoortloopInschrijfgeldStarttijdInfo50 km10\,009:00Voor meer informatie:Willem Muetzew.mutze@home.nl0610158367http:  www.funrunner.nl \n  \n  \n 
URL:https://hardloopevenementen.com/loopagenda/1e-limburg-half-zwaar-heerlen-li/
END:VEVENT
END:VCALENDAR