BEGIN:VCALENDAR
VERSION:2.0
PRODID:-//Hardloopevenementen - ECPv6.15.14//NONSGML v1.0//EN
CALSCALE:GREGORIAN
METHOD:PUBLISH
X-WR-CALNAME:Hardloopevenementen
X-ORIGINAL-URL:https://hardloopevenementen.com
X-WR-CALDESC:Evenementen voor Hardloopevenementen
REFRESH-INTERVAL;VALUE=DURATION:PT1H
X-Robots-Tag:noindex
X-PUBLISHED-TTL:PT1H
BEGIN:VTIMEZONE
TZID:UTC
BEGIN:STANDARD
TZOFFSETFROM:+0000
TZOFFSETTO:+0000
TZNAME:UTC
DTSTART:20070101T000000
END:STANDARD
END:VTIMEZONE
BEGIN:VEVENT
DTSTART;VALUE=DATE:20120226
DTEND;VALUE=DATE:20120227
DTSTAMP:20260420T134914
CREATED:20130929T114648Z
LAST-MODIFIED:20190423T103416Z
UID:28817-1330214400-1330214400@hardloopevenementen.com
SUMMARY:Zwartewaterloop Zwolle (OV)
DESCRIPTION:Doe mee met het hardloopevenement Zwartewaterloop te Zwolle (OV) op zo 26 feb 2012. De volgende afstanden staan op het programma: 3 km – 15 km hardlopen. Wilt u inschrijven voor dit loopevenement?  Raadpleeg hiervoor dan de website van de organisatie\nDe uitslagen van deze hardloopwedstrijd zijn te raadplegen via dezelfde website of via de bekende websites zoals uitslagen.nl\, runtimer en mylaps. Doet u mee met dit evenement\, zorg dan dat u goed voorbereid aan de start staat! Met een goed trainingsschema komt u een heel eind. Train bijvoorbeeld met start to run van Evy Gruyaert. Download de start to run mp3 bestanden en zet ze op uw telefoon. Oortjes in\, hit the play button en en rennen maar! \n\n\n\n\nMeer informatie over Zwartewaterloop op Hardloopkalender.nl  \nHet loopevenement Zwartewaterloop te Zwolle vindt plaats op zondag 26 februari 2012. De loop wordt georganiseerd door AV PEC 1910. Inschrijven is mogelijk vanaf 26 februari 2012. Klik hier voor het adres van de start (Google Maps).Er is EHBO aanwezig. Bijzonderheden: Novon Recreatieloop\, zie site voor regl. klassement. Incl. flesje Aa drank.Afstand SoortloopInschrijfgeldStarttijdInfo15 km4\,0010.303 km2\,0010.30Voor meer informatie:Jan Willem Veldsinkwoc@avpec1910.nl0388511997http:  avpec1910.nl \n  \n  \n 
URL:https://hardloopevenementen.com/loopagenda/zwartewaterloop-zwolle-ov-3/
END:VEVENT
BEGIN:VEVENT
DTSTART;VALUE=DATE:20110227
DTEND;VALUE=DATE:20110228
DTSTAMP:20260420T134914
CREATED:20150907T120901Z
LAST-MODIFIED:20190423T102331Z
UID:26803-1298764800-1298764800@hardloopevenementen.com
SUMMARY:Zwartewaterloop Zwolle (OV)
DESCRIPTION:Doe mee met het hardloopevenement Zwartewaterloop te Zwolle (OV) op zo 27 feb 2011. De volgende afstanden staan op het programma: 1\,5 km – 3 km – 5 km – 10 km – 15 km hardlopen. Wilt u inschrijven voor dit loopevenement?  Raadpleeg hiervoor dan de website van de organisatie\nDe uitslagen van deze hardloopwedstrijd zijn te raadplegen via dezelfde website of via de bekende websites zoals uitslagen.nl\, runtimer en mylaps. Doet u mee met dit evenement\, zorg dan dat u goed voorbereid aan de start staat! Met een goed trainingsschema komt u een heel eind. Train bijvoorbeeld met start to run van Evy Gruyaert. Download de start to run mp3 bestanden en zet ze op uw telefoon. Oortjes in\, hit the play button en en rennen maar! \n\n\n\n\nMeer informatie over Zwartewaterloop op Hardloopkalender.nl  \nHet loopevenement Zwartewaterloop te Zwolle vindt plaats op zondag 27 februari 2011. De loop wordt georganiseerd door AV PEC 1910. Inschrijven is mogelijk vanaf 27 februari 2011. Klik hier voor het adres van de start (Google Maps).Er is verkleedaccomodatie met douchemogelijkheid aanwezig. Er is EHBO aanwezig. Bijzonderheden: Novon Recreatieloop\, zie site voor regl. klassement . Incl. flesje Aa drank.Afstand(km)Inschrijfgeld()Starttijd153\,0010.15103\,0010.3053\,0010.3031\,5010.151.51\,5010.30Voor meer informatie:Jan Willem Veldsinkwoc@avpec1910.nl0388511997http:  avpec1910.nl \n  \n  \n 
URL:https://hardloopevenementen.com/loopagenda/zwartewaterloop-zwolle-ov-2/
END:VEVENT
BEGIN:VEVENT
DTSTART;VALUE=DATE:20100228
DTEND;VALUE=DATE:20100301
DTSTAMP:20260420T134914
CREATED:20170903T094654Z
LAST-MODIFIED:20190423T101349Z
UID:23922-1267315200-1267315200@hardloopevenementen.com
SUMMARY:Zwartewaterloop Zwolle (OV)
DESCRIPTION:Doe mee met het hardloopevenement Zwartewaterloop te Zwolle (OV) op zo 28 feb 2010. De volgende afstanden staan op het programma: 1\,5 km – 3 km – 5 km – 10 km – 15 km hardlopen. Wilt u inschrijven voor dit loopevenement?  Raadpleeg hiervoor dan de website van de organisatie\nDe uitslagen van deze hardloopwedstrijd zijn te raadplegen via dezelfde website of via de bekende websites zoals uitslagen.nl\, runtimer en mylaps. Doet u mee met dit evenement\, zorg dan dat u goed voorbereid aan de start staat! Met een goed trainingsschema komt u een heel eind. Train bijvoorbeeld met start to run van Evy Gruyaert. Download de start to run mp3 bestanden en zet ze op uw telefoon. Oortjes in\, hit the play button en en rennen maar! \n\n\n\n\nMeer informatie over Zwartewaterloop op Hardloopkalender.nl  \nDit loopevenement wordt georganiseerd door AV PEC 1910.De eerste afstand (of onderdeel) start om 10:30.Het adres van de start is Atletiekbaan Wim Peters \, Urksteeg A 1 Het adres van de finish is Atletiekbaan Wim Peters\,Urksteeg 1Categorie(ën): mannen\, vrouwen\, jeugdVooraf inschrijven is mogelijk vanaf 28 februari 2010 tot 28 februari 2010.Inschrijven op de dag van de loop is mogelijk (vanaf 09.45 uur) op dit adres: Atletiekbaan Wim Peters  Urksteeg 1  8031 LL Zwolle.Meer informatie:Contactpersoon: Henk van der WorpTel.: 0384539935Email: woc@avpec1910.nlEr is een kleedaccomodatie aanwezig. Douchen is niet mogelijk.Het parcours is verhard.Overige bijzonderheden:  zie site voor regl. klassement  Na afloop flesje Aa drank \n  \n  \n 
URL:https://hardloopevenementen.com/loopagenda/zwartewaterloop-zwolle-ov/
END:VEVENT
BEGIN:VEVENT
DTSTART;VALUE=DATE:20090222
DTEND;VALUE=DATE:20090223
DTSTAMP:20260420T134914
CREATED:20140928T201734Z
LAST-MODIFIED:20190423T100308Z
UID:2738-1235260800-1235260800@hardloopevenementen.com
SUMMARY:Zwartewaterloop Zwolle\, gemeente Berkelland (GE)
DESCRIPTION:Doe mee met het hardloopevenement Zwartewaterloop te Zwolle\, gemeente Berkelland (GE) op zo 22 feb 2009. De volgende afstanden staan op het programma: 1\,5 km – 3 km – 5 km – 10 km – 15 km hardlopen. Wilt u inschrijven voor dit loopevenement?  Raadpleeg hiervoor dan de website van de organisatie\nDe uitslagen van deze hardloopwedstrijd zijn te raadplegen via dezelfde website of via de bekende websites zoals uitslagen.nl\, runtimer en mylaps. Doet u mee met dit evenement\, zorg dan dat u goed voorbereid aan de start staat! Met een goed trainingsschema komt u een heel eind. Train bijvoorbeeld met start to run van Evy Gruyaert. Download de start to run mp3 bestanden en zet ze op uw telefoon. Oortjes in\, hit the play button en en rennen maar! \n\n\n\n\nMeer informatie over Zwartewaterloop op Hardloopkalender.nl  \n1\,5-3 km 10:30 uur\, 5-10-15 km 11:00 uur \n  \n  \n 
URL:https://hardloopevenementen.com/loopagenda/zwartewaterloop-zwolle-gemeente-berkelland-ge/
END:VEVENT
BEGIN:VEVENT
DTSTART;VALUE=DATE:20080224
DTEND;VALUE=DATE:20080225
DTSTAMP:20260420T134914
CREATED:20060904T212700Z
LAST-MODIFIED:20190423T094859Z
UID:20122-1203811200-1203811200@hardloopevenementen.com
SUMMARY:Zwartewaterloop Zwolle
DESCRIPTION:Doe mee met het hardloopevenement Zwartewaterloop te Zwolle op zo 24 feb 2008. De volgende afstanden staan op het programma: 1\,5 km – 5 km – 10 km – 15 km hardlopen. Wilt u inschrijven voor dit loopevenement?  Raadpleeg hiervoor dan de website van de organisatie\nDe uitslagen van deze hardloopwedstrijd zijn te raadplegen via dezelfde website of via de bekende websites zoals uitslagen.nl\, runtimer en mylaps. Doet u mee met dit evenement\, zorg dan dat u goed voorbereid aan de start staat! Met een goed trainingsschema komt u een heel eind. Train bijvoorbeeld met start to run van Evy Gruyaert. Download de start to run mp3 bestanden en zet ze op uw telefoon. Oortjes in\, hit the play button en en rennen maar! \n\n\n\n\nMeer informatie over Zwartewaterloop op Hardloopkalender.nl  \nE-mailadres woc@avpec1910.nl     Opmerkingen Waar:  De trimlopen worden gehouden op en rond de atletiekbaan van de   atletiek vereniging PEC 1910 De atletiekbaan Wim Peters in Zwolle.    Afstanden:  1.5 km\, 3 km\, 5 km\, 10 km\, 15 km.    Inschrijving:  Inschrijven kan vanaf 09:30 uur in het clubhuis  het Speerpunt    Start 1\,5 km en 3 km. 10:30 uur   Start 5\, 10 en 15 km 11:00 uur    Inschrijfgeld  1.5km en 3 km.  1\,50 5km\, 10km en 15km.  3\,00     Voor iedere deelnemer is er na afloop een gratis kop koffie\, sportdrank of limonade verkrijgbaar in het clubhuis.Herinnering bij deelname aan 4 trimlopen.    Bij de trimlopen wordt een klassement opgemaakt.Geldprijzen na deelname aan   5 van de 7 trimlopen.Mannen vrouwen masters junioren 16-18 jaar \n  \n  \n 
URL:https://hardloopevenementen.com/loopagenda/zwartewaterloop-zwolle/
END:VEVENT
END:VCALENDAR